Workbook

Sheet ป.6ไทย คณิต วิทย์ สังคม อังกฤษ
A1: แบบบันทึกคะแนน การสอบ Pre O-NET ชั้น ป.6 ปีการศึกษา 2559
A2: กลุ่มโรงเรียน | B2: โรงเรียน | C2: เลขที่ | D2: ชื่อ-สกุล | E2: ภาษาไทย | R2: คณิตศาสตร์ | AG2: วิทยาศาสตร์ | AY2: สังคมศึกษา ศาสนา และวัฒนธรรม | BL2: ภาษาอังกฤษ
E3: ตอนที่ 1 ข้อ แบบระบาย 1 คำตอบ 1-30 ข้อละ 2 คะแนน รวม 60 คะแนน | R3: ตอนที่ 1 ข้อสอบเลือกตอบ ข้อ 1-17 ข้อละ 3 คะแนน รวม 51 คะแนน | AG3: ตอนที่ 1 แบบเลือกตอบ ข้อ 1-23 ข้อละ 2 คะแนน รวม 46 คะแนน | AY3: ตอนที่ 1 แบบเลือกตอบ จำนวน 32 ข้อ ข้อ 1-32 ข้อละ 2.5 คะแนน รวม 80 คะแนน | BL3: ตอนที่ 1 แบบเลือกตอบ จำนวน 30 ข้อ (ข้อละ 2 คะแนน รวม 60 คะแนน)
E4: ตอนที่ 2 แบบเลือกตอบหลายคำตอบ 1 ข้อ ข้อ 31 ข้อละ 3 คะแนน รวม 3 (ตอบถูก 1 คำตอบ ได้ 1 คะแนน ตอบถูก2 คำตอบ ได้ 2 คะแนน ตอบถูกทั้ง 3 คำตอบ ได้ 3 คะแนน) | R4: ตอนที่ 2 แบบเชิงซ้อน จำนวน 5 ข้อ ข้อ 18-22 ข้อละ 4 คะแนน รวม 20 คะแนน | AG4: ตอนที่ 2 แบบเลือกตอบหลายคำตอบ 5 ข้อ 24-28 ข้อละ 4 คะแนน รวม 20 คะแนน) | AY4: ตอนที่ 2 แบบเชิงข้อน จำนวน 2 ข้อ ข้อ 33 -34 ข้อละ 3 คะแนน รวม 6คะแนน | BL4: ตอนที่ 2 แบบเชิงซ้อน จำนวน 2 ข้อ (ข้อละ 8 คะแนน รวม 16 คะแนน)
E5: ตอบที่ 3 แบบเชิงซ้อน ข้อ 32 ข้อละ 5 ข้อความ ตอบถูกข้อความละ 1 คะแนน รวม 5 คะแนน | R5: ตอนที่ 3 แบบเติมคำตอบ(ตอบสั้น) จำนวน 7 ข้อ (ข้อ 23-29 ข้อละ 3 คะแนน รวม 21 คะแนน | AG5: ตอนที่ 3 แบบเขียนตอบสั้น จำนวน 4 ข้อ ข้อ29-32 (ข้อละ 4 คะแนน รวม 16 คะแนน) | AY5: ตอนที่ 3 แบบเขียนตอบ จำนวน 6 ข้อ (ตอบสั้น จำนวน 5 ข้อ ข้อ35-38 ข้อละ2 คะแนน ตอบอิสระข้อ40 จำนวน 1 ข้อ ข้อละ4 คะแนน) | BL5: ตอนที่ 3 แบบเขียนตอบสั้น จำนวน 8 ข้อ (ข้อละ 3 คะแนน รวม 24 คะแนน)
E6: ตอนที่ 4 ข้อ 33-40 โดย ข้อ 33-38 ตอบถูกข้อละ 2 คะแนนรวม 12 คะแนน ข้อ 39-40 ตอบถูกข้อละ 10 คะแนน รวม 20 คะแนน คะแนนทั้งหมด 32 คะแนน | R6: ตอนที่ 4 แบบเขียนตอบ จำนวน 1 ข้อ (ข้อ 30 ข้อละ 8 คะแนน) | AG6: ตอนที่ 4 แบบเขียนตอบอิสระ จำนวน 3 ข้อ ข้อ33-35 (ข้อละ 6 คะแนน รวม 18 คะแนน)
E7: การอ่าน | H7: การเขียน | K7: การฟัง ดู พูด | M7: หลักภาษาไทย | P7: วรรณคดีวรรณกรรม | Q7: รวม (100) | R7: จำนวนและการดำเนินการ | V7: การวัด | Y7: เรขาคณิต | Z7: พีชคณิต | AC7: วิเคราะห์ข้อมูลฯ | AF7: รวม (100) | AG7: สิ่งมีชีวิตกับกระบวนการดำรงชีวิต | AI7: ชีวิตกับสิ่งแวดล้อม | AK7: สารและสมบัติของสาร | AN7: แรงและการเคลื่อนที่ | AP7: พลังงงาน | AT7: กระบวนการเปลี่ยนแปลงของโลก | AW7: ดาราศาสตร์และอวกาศ | AX7: รวม(100) | AY7: ศาสนา ศีลธรรม จริยธรรม | BB7: หน้าที่พลเมือง | BD7: เศรษฐศาสตร์ | BG7: ประวัติศาสตร์ | BI7: ภูมิศาสตร์ | BK7: รวม(100) | BL7: ภาษาเพื่อการสื่อสาร | BO7: ภาษาและวัฒนธรรม | BQ7: ภาษากับความสัมพันธ์กับชุมชนและโลก | BS7: รวม(100)
E8: เลือกตอบ | F8: เชิงซ้อน | G8: ตอบสั้น | H8: เลือกตอบ | I8: ตอบสั้น | J8: ตอบอิสระ | K8: เลือกตอบ | L8: ตอบสั้น | M8: เลือกตอบ | N8: หลายคำตอบ | O8: ตอบสั้น | P8: เลือกตอบ | R8: เลือกตอบ | S8: เชิงซ้อน | T8: ตอบสั้น | U8: แสดงวิธีทำ | V8: เลือกตอบ | W8: เชิงซ้อน | X8: ตอบสั้น | Y8: เลือกตอบ | Z8: เลือกตอบ | AA8: เชิงซ้อน | AB8: ตอบสั้น | AC8: เลือกตอบ | AD8: เชิงซ้อน | AE8: ตอบสั้น | AG8: เลือกตอบ | AH8: หลายคำตอบ | AI8: เลือกตอบ | AJ8: ตอบอิสระ | AK8: เลือกตอบ | AL8: หลายคำตอบ | AM8: ตอบสั้น | AN8: เลือกตอบ | AO8: หลายคำตอบ | AP8: เลือกตอบ | AQ8: หลายคำตอบ | AR8: ตอบสั้น | AS8: ตอบอิสระ | AT8: เลือกตอบ | AU8: ตอบสั้น | AV8: ตอบอิสระ | AW8: เลือกตอบ | AY8: เลือกตอบ | AZ8: เชิงซ้อน | BA8: ตอบอิสระ | BB8: เลือกตอบ | BC8: ตอบสั้น | BD8: เลือกตอบ | BE8: เชิงซ้อน | BF8: ตอบสั้น | BG8: เลือกตอบ | BH8: ตอบสั้น | BI8: เลือกตอบ | BJ8: ตอบสั้น | BL8: เลือกตอบ | BM8: เชิงซ้อน | BN8: เขียนตอบ | BO8: เลือกตอบ | BP8: เขียนตอบ | BQ8: เลือกตอบ | BR8: เขียนตอบ
E9: ข้อ 1,2, 4-10,12 | F9: ข้อ 32 | G9: ข้อ 33-34 | H9: ข้อ 11, 13-15 | I9: ข้อ 35 | J9: ข้อ 39-40 | K9: ข้อ 16-19 | L9: ข้อ 36 | M9: ข้อ 3, 20-25 | N9: ข้อ 31 | O9: ข้อ 37-38 | P9: ข้อ 26-30 | R9: ข้อ 1-6 | S9: ข้อ 18-19 | T9: ข้อ 23-25 | U9: ข้อ 30 | V9: ข้อ 7-10,12 | W9: ข้อ 21 | X9: ข้อ 26-27 | Y9: ข้อ 11,13-14 | Z9: ข้อ 15-16 | AA9: ข้อ 20 | AB9: ข้อ 28 | AC9: ข้อ 17 | AD9: ข้อ 22 | AE9: ข้อ 29 | AG9: ข้อ 1-3,5 | AH9: ข้อ 24,26 | AI9: ข้อ 4,6 | AJ9: ข้อ 33 | AK9: ข้อ 7-10,22 | AL9: ข้อ 25 | AM9: ข้อ 29-30 | AN9: ข้อ 11,12,14 | AO9: ข้อ 27 | AP9: ข้อ 13,15-17 | AQ9: ข้อ 28 | AR9: ข้อ 31 | AS9: ข้อ 34 | AT9: ข้อ 18-20 | AU9: ข้อ 32 | AV9: ข้อ 35 | AW9: ข้อ 21,23 | AY9: ข้อ 1-4 | AZ9: ข้อ 33 | BA9: ข้อ 40 | BB9: ข้อ 5-11 | BC9: ข้อ 35-36 | BD9: ข้อ 12-19 | BE9: ข้อ 34 | BF9: ข้อ 37 | BG9: ข้อ 20-25 | BH9: ข้อ 38 | BI9: ข้อ 26-32 | BJ9: ข้อ 39 | BL9: ข้อ 1-23 | BM9: ข้อ 31-32 | BN9: ข้อ 33-38 | BO9: ข้อ 24-29 | BP9: ข้อ 39 | BQ9: ข้อ 30 | BR9: ข้อ 40
A10: คะแนนเต็ม | E10: 20 | F10: 5 | G10: 4 | H10: 8 | I10: 2 | J10: 20 | K10: 8 | L10: 2 | M10: 14 | N10: 3 | O10: 4 | P10: 10 | Q10: =SUM(E10:P10) -> 100 | R10: 18 | S10: 8 | T10: 9 | U10: 8 | V10: 15 | W10: 4 | X10: 6 | Y10: 9 | Z10: 6 | AA10: 4 | AB10: 3 | AC10: 3 | AD10: 4 | AE10: 3 | AF10: =SUM(R10:AE10) -> 100 | AG10: 8 | AH10: 8 | AI10: 4 | AJ10: 6 | AK10: 10 | AL10: 4 | AM10: 8 | AN10: 6 | AO10: 4 | AP10: 8 | AQ10: 4 | AR10: 4 | AS10: 6 | AT10: 6 | AU10: 4 | AV10: 6 | AW10: 4 | AX10: =SUM(AG10:AW10) -> 100 | AY10: 10 | AZ10: 3 | BA10: 4 | BB10: 17.5 | BC10: 4 | BD10: 20 | BE10: 3 | BF10: 2 | BG10: 15 | BH10: 2 | BI10: 17.5 | BJ10: 2 | BK10: =SUM(AY10:BJ10) -> 100 | BL10: 46 | BM10: 16 | BN10: 18 | BO10: 12 | BP10: 3 | BQ10: 2 | BR10: 3 | BS10: =SUM(BL10:BR10) -> 100
C11: 1 | Q11: =SUM(E11:P11) -> 0 | AF11: =SUM(R11:AE11) -> 0 | AX11: =SUM(AG11:AW11) -> 0 | BK11: =SUM(AY11:BJ11) -> 0 | BS11: =SUM(BL11:BR11) -> 0
C12: 2 | Q12: =SUM(E12:P12) -> 0 | AF12: =SUM(R12:AE12) -> 0 | AX12: =SUM(AG12:AW12) -> 0 | BK12: =SUM(AY12:BJ12) -> 0 | BS12: =SUM(BL12:BR12) -> 0
C13: 3 | Q13: =SUM(E13:P13) -> 0 | AF13: =SUM(R13:AE13) -> 0 | AX13: =SUM(AG13:AW13) -> 0 | BK13: =SUM(AY13:BJ13) -> 0 | BS13: =SUM(BL13:BR13) -> 0
C14: 4 | Q14: =SUM(E14:P14) -> 0 | AF14: =SUM(R14:AE14) -> 0 | AX14: =SUM(AG14:AW14) -> 0 | BK14: =SUM(AY14:BJ14) -> 0 | BS14: =SUM(BL14:BR14) -> 0
C15: 5 | Q15: =SUM(E15:P15) -> 0 | AF15: =SUM(R15:AE15) -> 0 | AX15: =SUM(AG15:AW15) -> 0 | BK15: =SUM(AY15:BJ15) -> 0 | BS15: =SUM(BL15:BR15) -> 0
C16: 6 | Q16: =SUM(E16:P16) -> 0 | AF16: =SUM(R16:AE16) -> 0 | AX16: =SUM(AG16:AW16) -> 0 | BK16: =SUM(AY16:BJ16) -> 0 | BS16: =SUM(BL16:BR16) -> 0
C17: 7 | Q17: =SUM(E17:P17) -> 0 | AF17: =SUM(R17:AE17) -> 0 | AX17: =SUM(AG17:AW17) -> 0 | BK17: =SUM(AY17:BJ17) -> 0 | BS17: =SUM(BL17:BR17) -> 0
C18: 8 | Q18: =SUM(E18:P18) -> 0 | AF18: =SUM(R18:AE18) -> 0 | AX18: =SUM(AG18:AW18) -> 0 | BK18: =SUM(AY18:BJ18) -> 0 | BS18: =SUM(BL18:BR18) -> 0
C19: 9 | Q19: =SUM(E19:P19) -> 0 | AF19: =SUM(R19:AE19) -> 0 | AX19: =SUM(AG19:AW19) -> 0 | BK19: =SUM(AY19:BJ19) -> 0 | BS19: =SUM(BL19:BR19) -> 0
C20: 10 | Q20: =SUM(E20:P20) -> 0 | AF20: =SUM(R20:AE20) -> 0 | AX20: =SUM(AG20:AW20) -> 0 | BK20: =SUM(AY20:BJ20) -> 0 | BS20: =SUM(BL20:BR20) -> 0
C21: 11 | Q21: =SUM(E21:P21) -> 0 | AF21: =SUM(R21:AE21) -> 0 | AX21: =SUM(AG21:AW21) -> 0 | BK21: =SUM(AY21:BJ21) -> 0 | BS21: =SUM(BL21:BR21) -> 0
C22: 12 | Q22: =SUM(E22:P22) -> 0 | AF22: =SUM(R22:AE22) -> 0 | AX22: =SUM(AG22:AW22) -> 0 | BK22: =SUM(AY22:BJ22) -> 0 | BS22: =SUM(BL22:BR22) -> 0
... C261: 251 | Q261: =SUM(E261:P261) -> 0 | AF261: =SUM(R261:AE261) -> 0 | AX261: =SUM(AG261:AW261) -> 0 | BK261: =SUM(AY261:BJ261) -> 0 | BS261: =SUM(BL261:BR261) -> 0
A262: รวมคะแนน
A263: คิดเป็นร้อยละ

Sheet สรุป
A1: แบบสรุปคะแนนรายบุคคล การสอบ Pre O-NET ชั้น ป.6 ปีการศึกษา 259 | E1: ภาษาไทย | K1: คณิตศาสตร์ | Q1: วิทยาศาสตร์ | Y1: สังคมศึกษา ศาสนา และวัฒนธรรม | AE1: ภาษาอังกฤษ
A2: กลุ่มโรงเรียน | B2: ชื่อโรงเรียน | C2: เลขที่ | D2: ชื่อ-สกุล | E2: การอ่าน | F2: การเขียน | G2: การฟัง ดู พูด | H2: หลักภาษาไทย | I2: วรรณคดีฯ | J2: รวม(100) | K2: จำนวนและการดำเนินการ | L2: การวัด | M2: เรขาคณิต | N2: พีชคณิต | O2: วิเคราะห์ข้อมูลฯ | P2: รวม(100) | Q2: สิ่งมีชีวิตกับกระบวนการฯ | R2: ชีวิตกับสิ่งแวดล้อม | S2: สารและสมบัติของสาร | T2: แรงและการเคลื่อนที่ | U2: พลังงงาน | V2: กระบวนการเปลี่ยนแปลงฯ | W2: ดาราศาสตร์และอวกาศ | X2: รวม(100) | Y2: ศาสนา ศีลธรรม จริยธรรม | Z2: หน้าที่พลเมือง | AA2: เศรษฐศาสตร์ | AB2: ประวัติศาสตร์ | AC2: ภูมิศาสตร์ | AD2: รวม(100) | AE2: ภาษาเพื่อการสื่อสาร | AF2: ภาษาและวัฒนธรรม | AG2: ภาษากับความสัมพันธ์ฯ | AH2: รวม(100)
E3: คะแนน | K3: คะแนน | Q3: คะแนน | Y3: คะแนน | AE3: คะแนน
A4: คะแนนเต็ม | E4: ='ป.6ไทย คณิต วิทย์ สังคม อังกฤษ'!E10+'ป.6ไทย คณิต วิทย์ สังคม อังกฤษ'!F10+'ป.6ไทย คณิต วิทย์ สังคม อังกฤษ'!G10 -> 29 | F4: ='ป.6ไทย คณิต วิทย์ สังคม อังกฤษ'!H10+'ป.6ไทย คณิต วิทย์ สังคม อังกฤษ'!I10+'ป.6ไทย คณิต วิทย์ สังคม อังกฤษ'!J10 -> 30 | G4: ='ป.6ไทย คณิต วิทย์ สังคม อังกฤษ'!K10+'ป.6ไทย คณิต วิทย์ สังคม อังกฤษ'!L10 -> 10 | H4: ='ป.6ไทย คณิต วิทย์ สังคม อังกฤษ'!M10+'ป.6ไทย คณิต วิทย์ สังคม อังกฤษ'!N10+'ป.6ไทย คณิต วิทย์ สังคม อังกฤษ'!O10 -> 21 | I4: ='ป.6ไทย คณิต วิทย์ สังคม อังกฤษ'!P10 -> 10 | J4: =SUM(E4:I4) -> 100 | K4: ='ป.6ไทย คณิต วิทย์ สังคม อังกฤษ'!R10+'ป.6ไทย คณิต วิทย์ สังคม อังกฤษ'!S10+'ป.6ไทย คณิต วิทย์ สังคม อังกฤษ'!T10+'ป.6ไทย คณิต วิทย์ สังคม อังกฤษ'!U10 -> 43 | L4: ='ป.6ไทย คณิต วิทย์ สังคม อังกฤษ'!V10+'ป.6ไทย คณิต วิทย์ สังคม อังกฤษ'!W10+'ป.6ไทย คณิต วิทย์ สังคม อังกฤษ'!X10 -> 25 | M4: ='ป.6ไทย คณิต วิทย์ สังคม อังกฤษ'!Y10 -> 9 | N4: ='ป.6ไทย คณิต วิทย์ สังคม อังกฤษ'!Z10+'ป.6ไทย คณิต วิทย์ สังคม อังกฤษ'!AA10+'ป.6ไทย คณิต วิทย์ สังคม อังกฤษ'!AB10 -> 13 | O4: ='ป.6ไทย คณิต วิทย์ สังคม อังกฤษ'!AC10+'ป.6ไทย คณิต วิทย์ สังคม อังกฤษ'!AD10+'ป.6ไทย คณิต วิทย์ สังคม อังกฤษ'!AE10 -> 10 | P4: =SUM(K4:O4) -> 100 | Q4: ='ป.6ไทย คณิต วิทย์ สังคม อังกฤษ'!AG10+'ป.6ไทย คณิต วิทย์ สังคม อังกฤษ'!AH10 -> 16 | R4: ='ป.6ไทย คณิต วิทย์ สังคม อังกฤษ'!AI10+'ป.6ไทย คณิต วิทย์ สังคม อังกฤษ'!AJ10 -> 10 | S4: ='ป.6ไทย คณิต วิทย์ สังคม อังกฤษ'!AK10+'ป.6ไทย คณิต วิทย์ สังคม อังกฤษ'!AL10+'ป.6ไทย คณิต วิทย์ สังคม อังกฤษ'!AM10 -> 22 | T4: ='ป.6ไทย คณิต วิทย์ สังคม อังกฤษ'!AN10+'ป.6ไทย คณิต วิทย์ สังคม อังกฤษ'!AO10 -> 10 | U4: ='ป.6ไทย คณิต วิทย์ สังคม อังกฤษ'!AP10+'ป.6ไทย คณิต วิทย์ สังคม อังกฤษ'!AQ10+'ป.6ไทย คณิต วิทย์ สังคม อังกฤษ'!AR10+'ป.6ไทย คณิต วิทย์ สังคม อังกฤษ'!AS10 -> 22 | V4: ='ป.6ไทย คณิต วิทย์ สังคม อังกฤษ'!AT10+'ป.6ไทย คณิต วิทย์ สังคม อังกฤษ'!AU10+'ป.6ไทย คณิต วิทย์ สังคม อังกฤษ'!AV10 -> 16 | W4: ='ป.6ไทย คณิต วิทย์ สังคม อังกฤษ'!AW10 -> 4 | X4: =SUM(Q4:W4) -> 100 | Y4: ='ป.6ไทย คณิต วิทย์ สังคม อังกฤษ'!AY10+'ป.6ไทย คณิต วิทย์ สังคม อังกฤษ'!AZ10+'ป.6ไทย คณิต วิทย์ สังคม อังกฤษ'!BA10 -> 17 | Z4: ='ป.6ไทย คณิต วิทย์ สังคม อังกฤษ'!BB10+'ป.6ไทย คณิต วิทย์ สังคม อังกฤษ'!BC10 -> 21.5 | AA4: ='ป.6ไทย คณิต วิทย์ สังคม อังกฤษ'!BD10+'ป.6ไทย คณิต วิทย์ สังคม อังกฤษ'!BE10+'ป.6ไทย คณิต วิทย์ สังคม อังกฤษ'!BF10 -> 25 | AB4: ='ป.6ไทย คณิต วิทย์ สังคม อังกฤษ'!BG10+'ป.6ไทย คณิต วิทย์ สังคม อังกฤษ'!BH10 -> 17 | AC4: ='ป.6ไทย คณิต วิทย์ สังคม อังกฤษ'!BI10+'ป.6ไทย คณิต วิทย์ สังคม อังกฤษ'!BJ10 -> 19.5 | AD4: =SUM(Y4:AC4) -> 100 | AE4: ='ป.6ไทย คณิต วิทย์ สังคม อังกฤษ'!BL10+'ป.6ไทย คณิต วิทย์ สังคม อังกฤษ'!BM10+'ป.6ไทย คณิต วิทย์ สังคม อังกฤษ'!BN10 -> 80 | AF4: ='ป.6ไทย คณิต วิทย์ สังคม อังกฤษ'!BO10+'ป.6ไทย คณิต วิทย์ สังคม อังกฤษ'!BP10 -> 15 | AG4: ='ป.6ไทย คณิต วิทย์ สังคม อังกฤษ'!BQ10+'ป.6ไทย คณิต วิทย์ สังคม อังกฤษ'!BR10 -> 5 | AH4: =SUM(AE4:AG4) -> 100
A5: ='ป.6ไทย คณิต วิทย์ สังคม อังกฤษ'!A11 -> 0 | B5: ='ป.6ไทย คณิต วิทย์ สังคม อังกฤษ'!B11 -> 0 | C5: ='ป.6ไทย คณิต วิทย์ สังคม อังกฤษ'!C11 -> 1 | D5: ='ป.6ไทย คณิต วิทย์ สังคม อังกฤษ'!D11 -> 0 | E5: ='ป.6ไทย คณิต วิทย์ สังคม อังกฤษ'!E11+'ป.6ไทย คณิต วิทย์ สังคม อังกฤษ'!F11+'ป.6ไทย คณิต วิทย์ สังคม อังกฤษ'!G11 -> 0 | F5: ='ป.6ไทย คณิต วิทย์ สังคม อังกฤษ'!H11+'ป.6ไทย คณิต วิทย์ สังคม อังกฤษ'!I11+'ป.6ไทย คณิต วิทย์ สังคม อังกฤษ'!J11 -> 0 | G5: ='ป.6ไทย คณิต วิทย์ สังคม อังกฤษ'!K11+'ป.6ไทย คณิต วิทย์ สังคม อังกฤษ'!L11 -> 0 | H5: ='ป.6ไทย คณิต วิทย์ สังคม อังกฤษ'!M11+'ป.6ไทย คณิต วิทย์ สังคม อังกฤษ'!N11+'ป.6ไทย คณิต วิทย์ สังคม อังกฤษ'!O11 -> 0 | I5: ='ป.6ไทย คณิต วิทย์ สังคม อังกฤษ'!P11 -> 0 | J5: =SUM(E5:I5) -> 0 | K5: ='ป.6ไทย คณิต วิทย์ สังคม อังกฤษ'!R11+'ป.6ไทย คณิต วิทย์ สังคม อังกฤษ'!S11+'ป.6ไทย คณิต วิทย์ สังคม อังกฤษ'!T11+'ป.6ไทย คณิต วิทย์ สังคม อังกฤษ'!U11 -> 0 | L5: ='ป.6ไทย คณิต วิทย์ สังคม อังกฤษ'!V11+'ป.6ไทย คณิต วิทย์ สังคม อังกฤษ'!W11+'ป.6ไทย คณิต วิทย์ สังคม อังกฤษ'!X11 -> 0 | M5: ='ป.6ไทย คณิต วิทย์ สังคม อังกฤษ'!Y11 -> 0 | N5: ='ป.6ไทย คณิต วิทย์ สังคม อังกฤษ'!Z11+'ป.6ไทย คณิต วิทย์ สังคม อังกฤษ'!AA11+'ป.6ไทย คณิต วิทย์ สังคม อังกฤษ'!AB11 -> 0 | O5: ='ป.6ไทย คณิต วิทย์ สังคม อังกฤษ'!AC11+'ป.6ไทย คณิต วิทย์ สังคม อังกฤษ'!AD11+'ป.6ไทย คณิต วิทย์ สังคม อังกฤษ'!AE11 -> 0 | P5: =SUM(K5:O5) -> 0 | Q5: ='ป.6ไทย คณิต วิทย์ สังคม อังกฤษ'!AG11+'ป.6ไทย คณิต วิทย์ สังคม อังกฤษ'!AH11 -> 0 | R5: ='ป.6ไทย คณิต วิทย์ สังคม อังกฤษ'!AI11+'ป.6ไทย คณิต วิทย์ สังคม อังกฤษ'!AJ11 -> 0 | S5: ='ป.6ไทย คณิต วิทย์ สังคม อังกฤษ'!AK11+'ป.6ไทย คณิต วิทย์ สังคม อังกฤษ'!AL11+'ป.6ไทย คณิต วิทย์ สังคม อังกฤษ'!AM11 -> 0 | T5: ='ป.6ไทย คณิต วิทย์ สังคม อังกฤษ'!AN11+'ป.6ไทย คณิต วิทย์ สังคม อังกฤษ'!AO11 -> 0 | U5: ='ป.6ไทย คณิต วิทย์ สังคม อังกฤษ'!AP11+'ป.6ไทย คณิต วิทย์ สังคม อังกฤษ'!AQ11+'ป.6ไทย คณิต วิทย์ สังคม อังกฤษ'!AR11+'ป.6ไทย คณิต วิทย์ สังคม อังกฤษ'!AS11 -> 0 | V5: ='ป.6ไทย คณิต วิทย์ สังคม อังกฤษ'!AT11+'ป.6ไทย คณิต วิทย์ สังคม อังกฤษ'!AU11+'ป.6ไทย คณิต วิทย์ สังคม อังกฤษ'!AV11 -> 0 | W5: ='ป.6ไทย คณิต วิทย์ สังคม อังกฤษ'!AW11 -> 0 | X5: =SUM(Q5:W5) -> 0 | Y5: ='ป.6ไทย คณิต วิทย์ สังคม อังกฤษ'!AY11+'ป.6ไทย คณิต วิทย์ สังคม อังกฤษ'!AZ11+'ป.6ไทย คณิต วิทย์ สังคม อังกฤษ'!BA11 -> 0 | Z5: ='ป.6ไทย คณิต วิทย์ สังคม อังกฤษ'!BB11+'ป.6ไทย คณิต วิทย์ สังคม อังกฤษ'!BC11 -> 0 | AA5: ='ป.6ไทย คณิต วิทย์ สังคม อังกฤษ'!BD11+'ป.6ไทย คณิต วิทย์ สังคม อังกฤษ'!BE11+'ป.6ไทย คณิต วิทย์ สังคม อังกฤษ'!BF11 -> 0 | AB5: ='ป.6ไทย คณิต วิทย์ สังคม อังกฤษ'!BG11+'ป.6ไทย คณิต วิทย์ สังคม อังกฤษ'!BH11 -> 0 | AC5: ='ป.6ไทย คณิต วิทย์ สังคม อังกฤษ'!BI11+'ป.6ไทย คณิต วิทย์ สังคม อังกฤษ'!BJ11 -> 0 | AD5: =SUM(Y5:AC5) -> 0 | AE5: ='ป.6ไทย คณิต วิทย์ สังคม อังกฤษ'!BL11+'ป.6ไทย คณิต วิทย์ สังคม อังกฤษ'!BM11+'ป.6ไทย คณิต วิทย์ สังคม อังกฤษ'!BN11 -> 0 | AF5: ='ป.6ไทย คณิต วิทย์ สังคม อังกฤษ'!BO11+'ป.6ไทย คณิต วิทย์ สังคม อังกฤษ'!BP11 -> 0 | AG5: ='ป.6ไทย คณิต วิทย์ สังคม อังกฤษ'!BQ11+'ป.6ไทย คณิต วิทย์ สังคม อังกฤษ'!BR11 -> 0 | AH5: =SUM(AE5:AG5) -> 0
A6: ='ป.6ไทย คณิต วิทย์ สังคม อังกฤษ'!A12 -> 0 | B6: ='ป.6ไทย คณิต วิทย์ สังคม อังกฤษ'!B12 -> 0 | C6: ='ป.6ไทย คณิต วิทย์ สังคม อังกฤษ'!C12 -> 2 | D6: ='ป.6ไทย คณิต วิทย์ สังคม อังกฤษ'!D12 -> 0 | E6: ='ป.6ไทย คณิต วิทย์ สังคม อังกฤษ'!E12+'ป.6ไทย คณิต วิทย์ สังคม อังกฤษ'!F12+'ป.6ไทย คณิต วิทย์ สังคม อังกฤษ'!G12 -> 0 | F6: ='ป.6ไทย คณิต วิทย์ สังคม อังกฤษ'!H12+'ป.6ไทย คณิต วิทย์ สังคม อังกฤษ'!I12+'ป.6ไทย คณิต วิทย์ สังคม อังกฤษ'!J12 -> 0 | G6: ='ป.6ไทย คณิต วิทย์ สังคม อังกฤษ'!K12+'ป.6ไทย คณิต วิทย์ สังคม อังกฤษ'!L12 -> 0 | H6: ='ป.6ไทย คณิต วิทย์ สังคม อังกฤษ'!M12+'ป.6ไทย คณิต วิทย์ สังคม อังกฤษ'!N12+'ป.6ไทย คณิต วิทย์ สังคม อังกฤษ'!O12 -> 0 | I6: ='ป.6ไทย คณิต วิทย์ สังคม อังกฤษ'!P12 -> 0 | J6: =SUM(E6:I6) -> 0 | K6: ='ป.6ไทย คณิต วิทย์ สังคม อังกฤษ'!R12+'ป.6ไทย คณิต วิทย์ สังคม อังกฤษ'!S12+'ป.6ไทย คณิต วิทย์ สังคม อังกฤษ'!T12+'ป.6ไทย คณิต วิทย์ สังคม อังกฤษ'!U12 -> 0 | L6: ='ป.6ไทย คณิต วิทย์ สังคม อังกฤษ'!V12+'ป.6ไทย คณิต วิทย์ สังคม อังกฤษ'!W12+'ป.6ไทย คณิต วิทย์ สังคม อังกฤษ'!X12 -> 0 | M6: ='ป.6ไทย คณิต วิทย์ สังคม อังกฤษ'!Y12 -> 0 | N6: ='ป.6ไทย คณิต วิทย์ สังคม อังกฤษ'!Z12+'ป.6ไทย คณิต วิทย์ สังคม อังกฤษ'!AA12+'ป.6ไทย คณิต วิทย์ สังคม อังกฤษ'!AB12 -> 0 | O6: ='ป.6ไทย คณิต วิทย์ สังคม อังกฤษ'!AC12+'ป.6ไทย คณิต วิทย์ สังคม อังกฤษ'!AD12+'ป.6ไทย คณิต วิทย์ สังคม อังกฤษ'!AE12 -> 0 | P6: =SUM(K6:O6) -> 0 | Q6: ='ป.6ไทย คณิต วิทย์ สังคม อังกฤษ'!AG12+'ป.6ไทย คณิต วิทย์ สังคม อังกฤษ'!AH12 -> 0 | R6: ='ป.6ไทย คณิต วิทย์ สังคม อังกฤษ'!AI12+'ป.6ไทย คณิต วิทย์ สังคม อังกฤษ'!AJ12 -> 0 | S6: ='ป.6ไทย คณิต วิทย์ สังคม อังกฤษ'!AK12+'ป.6ไทย คณิต วิทย์ สังคม อังกฤษ'!AL12+'ป.6ไทย คณิต วิทย์ สังคม อังกฤษ'!AM12 -> 0 | T6: ='ป.6ไทย คณิต วิทย์ สังคม อังกฤษ'!AN12+'ป.6ไทย คณิต วิทย์ สังคม อังกฤษ'!AO12 -> 0 | U6: ='ป.6ไทย คณิต วิทย์ สังคม อังกฤษ'!AP12+'ป.6ไทย คณิต วิทย์ สังคม อังกฤษ'!AQ12+'ป.6ไทย คณิต วิทย์ สังคม อังกฤษ'!AR12+'ป.6ไทย คณิต วิทย์ สังคม อังกฤษ'!AS12 -> 0 | V6: ='ป.6ไทย คณิต วิทย์ สังคม อังกฤษ'!AT12+'ป.6ไทย คณิต วิทย์ สังคม อังกฤษ'!AU12+'ป.6ไทย คณิต วิทย์ สังคม อังกฤษ'!AV12 -> 0 | W6: ='ป.6ไทย คณิต วิทย์ สังคม อังกฤษ'!AW12 -> 0 | X6: =SUM(Q6:W6) -> 0 | Y6: ='ป.6ไทย คณิต วิทย์ สังคม อังกฤษ'!AY12+'ป.6ไทย คณิต วิทย์ สังคม อังกฤษ'!AZ12+'ป.6ไทย คณิต วิทย์ สังคม อังกฤษ'!BA12 -> 0 | Z6: ='ป.6ไทย คณิต วิทย์ สังคม อังกฤษ'!BB12+'ป.6ไทย คณิต วิทย์ สังคม อังกฤษ'!BC12 -> 0 | AA6: ='ป.6ไทย คณิต วิทย์ สังคม อังกฤษ'!BD12+'ป.6ไทย คณิต วิทย์ สังคม อังกฤษ'!BE12+'ป.6ไทย คณิต วิทย์ สังคม อังกฤษ'!BF12 -> 0 | AB6: ='ป.6ไทย คณิต วิทย์ สังคม อังกฤษ'!BG12+'ป.6ไทย คณิต วิทย์ สังคม อังกฤษ'!BH12 -> 0 | AC6: ='ป.6ไทย คณิต วิทย์ สังคม อังกฤษ'!BI12+'ป.6ไทย คณิต วิทย์ สังคม อังกฤษ'!BJ12 -> 0 | AD6: =SUM(Y6:AC6) -> 0 | AE6: ='ป.6ไทย คณิต วิทย์ สังคม อังกฤษ'!BL12+'ป.6ไทย คณิต วิทย์ สังคม อังกฤษ'!BM12+'ป.6ไทย คณิต วิทย์ สังคม อังกฤษ'!BN12 -> 0 | AF6: ='ป.6ไทย คณิต วิทย์ สังคม อังกฤษ'!BO12+'ป.6ไทย คณิต วิทย์ สังคม อังกฤษ'!BP12 -> 0 | AG6: ='ป.6ไทย คณิต วิทย์ สังคม อังกฤษ'!BQ12+'ป.6ไทย คณิต วิทย์ สังคม อังกฤษ'!BR12 -> 0 | AH6: =SUM(AE6:AG6) -> 0
A7: ='ป.6ไทย คณิต วิทย์ สังคม อังกฤษ'!A13 -> 0 | B7: ='ป.6ไทย คณิต วิทย์ สังคม อังกฤษ'!B13 -> 0 | C7: ='ป.6ไทย คณิต วิทย์ สังคม อังกฤษ'!C13 -> 3 | D7: ='ป.6ไทย คณิต วิทย์ สังคม อังกฤษ'!D13 -> 0 | E7: ='ป.6ไทย คณิต วิทย์ สังคม อังกฤษ'!E13+'ป.6ไทย คณิต วิทย์ สังคม อังกฤษ'!F13+'ป.6ไทย คณิต วิทย์ สังคม อังกฤษ'!G13 -> 0 | F7: ='ป.6ไทย คณิต วิทย์ สังคม อังกฤษ'!H13+'ป.6ไทย คณิต วิทย์ สังคม อังกฤษ'!I13+'ป.6ไทย คณิต วิทย์ สังคม อังกฤษ'!J13 -> 0 | G7: ='ป.6ไทย คณิต วิทย์ สังคม อังกฤษ'!K13+'ป.6ไทย คณิต วิทย์ สังคม อังกฤษ'!L13 -> 0 | H7: ='ป.6ไทย คณิต วิทย์ สังคม อังกฤษ'!M13+'ป.6ไทย คณิต วิทย์ สังคม อังกฤษ'!N13+'ป.6ไทย คณิต วิทย์ สังคม อังกฤษ'!O13 -> 0 | I7: ='ป.6ไทย คณิต วิทย์ สังคม อังกฤษ'!P13 -> 0 | J7: =SUM(E7:I7) -> 0 | K7: ='ป.6ไทย คณิต วิทย์ สังคม อังกฤษ'!R13+'ป.6ไทย คณิต วิทย์ สังคม อังกฤษ'!S13+'ป.6ไทย คณิต วิทย์ สังคม อังกฤษ'!T13+'ป.6ไทย คณิต วิทย์ สังคม อังกฤษ'!U13 -> 0 | L7: ='ป.6ไทย คณิต วิทย์ สังคม อังกฤษ'!V13+'ป.6ไทย คณิต วิทย์ สังคม อังกฤษ'!W13+'ป.6ไทย คณิต วิทย์ สังคม อังกฤษ'!X13 -> 0 | M7: ='ป.6ไทย คณิต วิทย์ สังคม อังกฤษ'!Y13 -> 0 | N7: ='ป.6ไทย คณิต วิทย์ สังคม อังกฤษ'!Z13+'ป.6ไทย คณิต วิทย์ สังคม อังกฤษ'!AA13+'ป.6ไทย คณิต วิทย์ สังคม อังกฤษ'!AB13 -> 0 | O7: ='ป.6ไทย คณิต วิทย์ สังคม อังกฤษ'!AC13+'ป.6ไทย คณิต วิทย์ สังคม อังกฤษ'!AD13+'ป.6ไทย คณิต วิทย์ สังคม อังกฤษ'!AE13 -> 0 | P7: =SUM(K7:O7) -> 0 | Q7: ='ป.6ไทย คณิต วิทย์ สังคม อังกฤษ'!AG13+'ป.6ไทย คณิต วิทย์ สังคม อังกฤษ'!AH13 -> 0 | R7: ='ป.6ไทย คณิต วิทย์ สังคม อังกฤษ'!AI13+'ป.6ไทย คณิต วิทย์ สังคม อังกฤษ'!AJ13 -> 0 | S7: ='ป.6ไทย คณิต วิทย์ สังคม อังกฤษ'!AK13+'ป.6ไทย คณิต วิทย์ สังคม อังกฤษ'!AL13+'ป.6ไทย คณิต วิทย์ สังคม อังกฤษ'!AM13 -> 0 | T7: ='ป.6ไทย คณิต วิทย์ สังคม อังกฤษ'!AN13+'ป.6ไทย คณิต วิทย์ สังคม อังกฤษ'!AO13 -> 0 | U7: ='ป.6ไทย คณิต วิทย์ สังคม อังกฤษ'!AP13+'ป.6ไทย คณิต วิทย์ สังคม อังกฤษ'!AQ13+'ป.6ไทย คณิต วิทย์ สังคม อังกฤษ'!AR13+'ป.6ไทย คณิต วิทย์ สังคม อังกฤษ'!AS13 -> 0 | V7: ='ป.6ไทย คณิต วิทย์ สังคม อังกฤษ'!AT13+'ป.6ไทย คณิต วิทย์ สังคม อังกฤษ'!AU13+'ป.6ไทย คณิต วิทย์ สังคม อังกฤษ'!AV13 -> 0 | W7: ='ป.6ไทย คณิต วิทย์ สังคม อังกฤษ'!AW13 -> 0 | X7: =SUM(Q7:W7) -> 0 | Y7: ='ป.6ไทย คณิต วิทย์ สังคม อังกฤษ'!AY13+'ป.6ไทย คณิต วิทย์ สังคม อังกฤษ'!AZ13+'ป.6ไทย คณิต วิทย์ สังคม อังกฤษ'!BA13 -> 0 | Z7: ='ป.6ไทย คณิต วิทย์ สังคม อังกฤษ'!BB13+'ป.6ไทย คณิต วิทย์ สังคม อังกฤษ'!BC13 -> 0 | AA7: ='ป.6ไทย คณิต วิทย์ สังคม อังกฤษ'!BD13+'ป.6ไทย คณิต วิทย์ สังคม อังกฤษ'!BE13+'ป.6ไทย คณิต วิทย์ สังคม อังกฤษ'!BF13 -> 0 | AB7: ='ป.6ไทย คณิต วิทย์ สังคม อังกฤษ'!BG13+'ป.6ไทย คณิต วิทย์ สังคม อังกฤษ'!BH13 -> 0 | AC7: ='ป.6ไทย คณิต วิทย์ สังคม อังกฤษ'!BI13+'ป.6ไทย คณิต วิทย์ สังคม อังกฤษ'!BJ13 -> 0 | AD7: =SUM(Y7:AC7) -> 0 | AE7: ='ป.6ไทย คณิต วิทย์ สังคม อังกฤษ'!BL13+'ป.6ไทย คณิต วิทย์ สังคม อังกฤษ'!BM13+'ป.6ไทย คณิต วิทย์ สังคม อังกฤษ'!BN13 -> 0 | AF7: ='ป.6ไทย คณิต วิทย์ สังคม อังกฤษ'!BO13+'ป.6ไทย คณิต วิทย์ สังคม อังกฤษ'!BP13 -> 0 | AG7: ='ป.6ไทย คณิต วิทย์ สังคม อังกฤษ'!BQ13+'ป.6ไทย คณิต วิทย์ สังคม อังกฤษ'!BR13 -> 0 | AH7: =SUM(AE7:AG7) -> 0
A8: ='ป.6ไทย คณิต วิทย์ สังคม อังกฤษ'!A14 -> 0 | B8: ='ป.6ไทย คณิต วิทย์ สังคม อังกฤษ'!B14 -> 0 | C8: ='ป.6ไทย คณิต วิทย์ สังคม อังกฤษ'!C14 -> 4 | D8: ='ป.6ไทย คณิต วิทย์ สังคม อังกฤษ'!D14 -> 0 | E8: ='ป.6ไทย คณิต วิทย์ สังคม อังกฤษ'!E14+'ป.6ไทย คณิต วิทย์ สังคม อังกฤษ'!F14+'ป.6ไทย คณิต วิทย์ สังคม อังกฤษ'!G14 -> 0 | F8: ='ป.6ไทย คณิต วิทย์ สังคม อังกฤษ'!H14+'ป.6ไทย คณิต วิทย์ สังคม อังกฤษ'!I14+'ป.6ไทย คณิต วิทย์ สังคม อังกฤษ'!J14 -> 0 | G8: ='ป.6ไทย คณิต วิทย์ สังคม อังกฤษ'!K14+'ป.6ไทย คณิต วิทย์ สังคม อังกฤษ'!L14 -> 0 | H8: ='ป.6ไทย คณิต วิทย์ สังคม อังกฤษ'!M14+'ป.6ไทย คณิต วิทย์ สังคม อังกฤษ'!N14+'ป.6ไทย คณิต วิทย์ สังคม อังกฤษ'!O14 -> 0 | I8: ='ป.6ไทย คณิต วิทย์ สังคม อังกฤษ'!P14 -> 0 | J8: =SUM(E8:I8) -> 0 | K8: ='ป.6ไทย คณิต วิทย์ สังคม อังกฤษ'!R14+'ป.6ไทย คณิต วิทย์ สังคม อังกฤษ'!S14+'ป.6ไทย คณิต วิทย์ สังคม อังกฤษ'!T14+'ป.6ไทย คณิต วิทย์ สังคม อังกฤษ'!U14 -> 0 | L8: ='ป.6ไทย คณิต วิทย์ สังคม อังกฤษ'!V14+'ป.6ไทย คณิต วิทย์ สังคม อังกฤษ'!W14+'ป.6ไทย คณิต วิทย์ สังคม อังกฤษ'!X14 -> 0 | M8: ='ป.6ไทย คณิต วิทย์ สังคม อังกฤษ'!Y14 -> 0 | N8: ='ป.6ไทย คณิต วิทย์ สังคม อังกฤษ'!Z14+'ป.6ไทย คณิต วิทย์ สังคม อังกฤษ'!AA14+'ป.6ไทย คณิต วิทย์ สังคม อังกฤษ'!AB14 -> 0 | O8: ='ป.6ไทย คณิต วิทย์ สังคม อังกฤษ'!AC14+'ป.6ไทย คณิต วิทย์ สังคม อังกฤษ'!AD14+'ป.6ไทย คณิต วิทย์ สังคม อังกฤษ'!AE14 -> 0 | P8: =SUM(K8:O8) -> 0 | Q8: ='ป.6ไทย คณิต วิทย์ สังคม อังกฤษ'!AG14+'ป.6ไทย คณิต วิทย์ สังคม อังกฤษ'!AH14 -> 0 | R8: ='ป.6ไทย คณิต วิทย์ สังคม อังกฤษ'!AI14+'ป.6ไทย คณิต วิทย์ สังคม อังกฤษ'!AJ14 -> 0 | S8: ='ป.6ไทย คณิต วิทย์ สังคม อังกฤษ'!AK14+'ป.6ไทย คณิต วิทย์ สังคม อังกฤษ'!AL14+'ป.6ไทย คณิต วิทย์ สังคม อังกฤษ'!AM14 -> 0 | T8: ='ป.6ไทย คณิต วิทย์ สังคม อังกฤษ'!AN14+'ป.6ไทย คณิต วิทย์ สังคม อังกฤษ'!AO14 -> 0 | U8: ='ป.6ไทย คณิต วิทย์ สังคม อังกฤษ'!AP14+'ป.6ไทย คณิต วิทย์ สังคม อังกฤษ'!AQ14+'ป.6ไทย คณิต วิทย์ สังคม อังกฤษ'!AR14+'ป.6ไทย คณิต วิทย์ สังคม อังกฤษ'!AS14 -> 0 | V8: ='ป.6ไทย คณิต วิทย์ สังคม อังกฤษ'!AT14+'ป.6ไทย คณิต วิทย์ สังคม อังกฤษ'!AU14+'ป.6ไทย คณิต วิทย์ สังคม อังกฤษ'!AV14 -> 0 | W8: ='ป.6ไทย คณิต วิทย์ สังคม อังกฤษ'!AW14 -> 0 | X8: =SUM(Q8:W8) -> 0 | Y8: ='ป.6ไทย คณิต วิทย์ สังคม อังกฤษ'!AY14+'ป.6ไทย คณิต วิทย์ สังคม อังกฤษ'!AZ14+'ป.6ไทย คณิต วิทย์ สังคม อังกฤษ'!BA14 -> 0 | Z8: ='ป.6ไทย คณิต วิทย์ สังคม อังกฤษ'!BB14+'ป.6ไทย คณิต วิทย์ สังคม อังกฤษ'!BC14 -> 0 | AA8: ='ป.6ไทย คณิต วิทย์ สังคม อังกฤษ'!BD14+'ป.6ไทย คณิต วิทย์ สังคม อังกฤษ'!BE14+'ป.6ไทย คณิต วิทย์ สังคม อังกฤษ'!BF14 -> 0 | AB8: ='ป.6ไทย คณิต วิทย์ สังคม อังกฤษ'!BG14+'ป.6ไทย คณิต วิทย์ สังคม อังกฤษ'!BH14 -> 0 | AC8: ='ป.6ไทย คณิต วิทย์ สังคม อังกฤษ'!BI14+'ป.6ไทย คณิต วิทย์ สังคม อังกฤษ'!BJ14 -> 0 | AD8: =SUM(Y8:AC8) -> 0 | AE8: ='ป.6ไทย คณิต วิทย์ สังคม อังกฤษ'!BL14+'ป.6ไทย คณิต วิทย์ สังคม อังกฤษ'!BM14+'ป.6ไทย คณิต วิทย์ สังคม อังกฤษ'!BN14 -> 0 | AF8: ='ป.6ไทย คณิต วิทย์ สังคม อังกฤษ'!BO14+'ป.6ไทย คณิต วิทย์ สังคม อังกฤษ'!BP14 -> 0 | AG8: ='ป.6ไทย คณิต วิทย์ สังคม อังกฤษ'!BQ14+'ป.6ไทย คณิต วิทย์ สังคม อังกฤษ'!BR14 -> 0 | AH8: =SUM(AE8:AG8) -> 0
A9: ='ป.6ไทย คณิต วิทย์ สังคม อังกฤษ'!A15 -> 0 | B9: ='ป.6ไทย คณิต วิทย์ สังคม อังกฤษ'!B15 -> 0 | C9: ='ป.6ไทย คณิต วิทย์ สังคม อังกฤษ'!C15 -> 5 | D9: ='ป.6ไทย คณิต วิทย์ สังคม อังกฤษ'!D15 -> 0 | E9: ='ป.6ไทย คณิต วิทย์ สังคม อังกฤษ'!E15+'ป.6ไทย คณิต วิทย์ สังคม อังกฤษ'!F15+'ป.6ไทย คณิต วิทย์ สังคม อังกฤษ'!G15 -> 0 | F9: ='ป.6ไทย คณิต วิทย์ สังคม อังกฤษ'!H15+'ป.6ไทย คณิต วิทย์ สังคม อังกฤษ'!I15+'ป.6ไทย คณิต วิทย์ สังคม อังกฤษ'!J15 -> 0 | G9: ='ป.6ไทย คณิต วิทย์ สังคม อังกฤษ'!K15+'ป.6ไทย คณิต วิทย์ สังคม อังกฤษ'!L15 -> 0 | H9: ='ป.6ไทย คณิต วิทย์ สังคม อังกฤษ'!M15+'ป.6ไทย คณิต วิทย์ สังคม อังกฤษ'!N15+'ป.6ไทย คณิต วิทย์ สังคม อังกฤษ'!O15 -> 0 | I9: ='ป.6ไทย คณิต วิทย์ สังคม อังกฤษ'!P15 -> 0 | J9: =SUM(E9:I9) -> 0 | K9: ='ป.6ไทย คณิต วิทย์ สังคม อังกฤษ'!R15+'ป.6ไทย คณิต วิทย์ สังคม อังกฤษ'!S15+'ป.6ไทย คณิต วิทย์ สังคม อังกฤษ'!T15+'ป.6ไทย คณิต วิทย์ สังคม อังกฤษ'!U15 -> 0 | L9: ='ป.6ไทย คณิต วิทย์ สังคม อังกฤษ'!V15+'ป.6ไทย คณิต วิทย์ สังคม อังกฤษ'!W15+'ป.6ไทย คณิต วิทย์ สังคม อังกฤษ'!X15 -> 0 | M9: ='ป.6ไทย คณิต วิทย์ สังคม อังกฤษ'!Y15 -> 0 | N9: ='ป.6ไทย คณิต วิทย์ สังคม อังกฤษ'!Z15+'ป.6ไทย คณิต วิทย์ สังคม อังกฤษ'!AA15+'ป.6ไทย คณิต วิทย์ สังคม อังกฤษ'!AB15 -> 0 | O9: ='ป.6ไทย คณิต วิทย์ สังคม อังกฤษ'!AC15+'ป.6ไทย คณิต วิทย์ สังคม อังกฤษ'!AD15+'ป.6ไทย คณิต วิทย์ สังคม อังกฤษ'!AE15 -> 0 | P9: =SUM(K9:O9) -> 0 | Q9: ='ป.6ไทย คณิต วิทย์ สังคม อังกฤษ'!AG15+'ป.6ไทย คณิต วิทย์ สังคม อังกฤษ'!AH15 -> 0 | R9: ='ป.6ไทย คณิต วิทย์ สังคม อังกฤษ'!AI15+'ป.6ไทย คณิต วิทย์ สังคม อังกฤษ'!AJ15 -> 0 | S9: ='ป.6ไทย คณิต วิทย์ สังคม อังกฤษ'!AK15+'ป.6ไทย คณิต วิทย์ สังคม อังกฤษ'!AL15+'ป.6ไทย คณิต วิทย์ สังคม อังกฤษ'!AM15 -> 0 | T9: ='ป.6ไทย คณิต วิทย์ สังคม อังกฤษ'!AN15+'ป.6ไทย คณิต วิทย์ สังคม อังกฤษ'!AO15 -> 0 | U9: ='ป.6ไทย คณิต วิทย์ สังคม อังกฤษ'!AP15+'ป.6ไทย คณิต วิทย์ สังคม อังกฤษ'!AQ15+'ป.6ไทย คณิต วิทย์ สังคม อังกฤษ'!AR15+'ป.6ไทย คณิต วิทย์ สังคม อังกฤษ'!AS15 -> 0 | V9: ='ป.6ไทย คณิต วิทย์ สังคม อังกฤษ'!AT15+'ป.6ไทย คณิต วิทย์ สังคม อังกฤษ'!AU15+'ป.6ไทย คณิต วิทย์ สังคม อังกฤษ'!AV15 -> 0 | W9: ='ป.6ไทย คณิต วิทย์ สังคม อังกฤษ'!AW15 -> 0 | X9: =SUM(Q9:W9) -> 0 | Y9: ='ป.6ไทย คณิต วิทย์ สังคม อังกฤษ'!AY15+'ป.6ไทย คณิต วิทย์ สังคม อังกฤษ'!AZ15+'ป.6ไทย คณิต วิทย์ สังคม อังกฤษ'!BA15 -> 0 | Z9: ='ป.6ไทย คณิต วิทย์ สังคม อังกฤษ'!BB15+'ป.6ไทย คณิต วิทย์ สังคม อังกฤษ'!BC15 -> 0 | AA9: ='ป.6ไทย คณิต วิทย์ สังคม อังกฤษ'!BD15+'ป.6ไทย คณิต วิทย์ สังคม อังกฤษ'!BE15+'ป.6ไทย คณิต วิทย์ สังคม อังกฤษ'!BF15 -> 0 | AB9: ='ป.6ไทย คณิต วิทย์ สังคม อังกฤษ'!BG15+'ป.6ไทย คณิต วิทย์ สังคม อังกฤษ'!BH15 -> 0 | AC9: ='ป.6ไทย คณิต วิทย์ สังคม อังกฤษ'!BI15+'ป.6ไทย คณิต วิทย์ สังคม อังกฤษ'!BJ15 -> 0 | AD9: =SUM(Y9:AC9) -> 0 | AE9: ='ป.6ไทย คณิต วิทย์ สังคม อังกฤษ'!BL15+'ป.6ไทย คณิต วิทย์ สังคม อังกฤษ'!BM15+'ป.6ไทย คณิต วิทย์ สังคม อังกฤษ'!BN15 -> 0 | AF9: ='ป.6ไทย คณิต วิทย์ สังคม อังกฤษ'!BO15+'ป.6ไทย คณิต วิทย์ สังคม อังกฤษ'!BP15 -> 0 | AG9: ='ป.6ไทย คณิต วิทย์ สังคม อังกฤษ'!BQ15+'ป.6ไทย คณิต วิทย์ สังคม อังกฤษ'!BR15 -> 0 | AH9: =SUM(AE9:AG9) -> 0
A10: ='ป.6ไทย คณิต วิทย์ สังคม อังกฤษ'!A16 -> 0 | B10: ='ป.6ไทย คณิต วิทย์ สังคม อังกฤษ'!B16 -> 0 | C10: ='ป.6ไทย คณิต วิทย์ สังคม อังกฤษ'!C16 -> 6 | D10: ='ป.6ไทย คณิต วิทย์ สังคม อังกฤษ'!D16 -> 0 | E10: ='ป.6ไทย คณิต วิทย์ สังคม อังกฤษ'!E16+'ป.6ไทย คณิต วิทย์ สังคม อังกฤษ'!F16+'ป.6ไทย คณิต วิทย์ สังคม อังกฤษ'!G16 -> 0 | F10: ='ป.6ไทย คณิต วิทย์ สังคม อังกฤษ'!H16+'ป.6ไทย คณิต วิทย์ สังคม อังกฤษ'!I16+'ป.6ไทย คณิต วิทย์ สังคม อังกฤษ'!J16 -> 0 | G10: ='ป.6ไทย คณิต วิทย์ สังคม อังกฤษ'!K16+'ป.6ไทย คณิต วิทย์ สังคม อังกฤษ'!L16 -> 0 | H10: ='ป.6ไทย คณิต วิทย์ สังคม อังกฤษ'!M16+'ป.6ไทย คณิต วิทย์ สังคม อังกฤษ'!N16+'ป.6ไทย คณิต วิทย์ สังคม อังกฤษ'!O16 -> 0 | I10: ='ป.6ไทย คณิต วิทย์ สังคม อังกฤษ'!P16 -> 0 | J10: =SUM(E10:I10) -> 0 | K10: ='ป.6ไทย คณิต วิทย์ สังคม อังกฤษ'!R16+'ป.6ไทย คณิต วิทย์ สังคม อังกฤษ'!S16+'ป.6ไทย คณิต วิทย์ สังคม อังกฤษ'!T16+'ป.6ไทย คณิต วิทย์ สังคม อังกฤษ'!U16 -> 0 | L10: ='ป.6ไทย คณิต วิทย์ สังคม อังกฤษ'!V16+'ป.6ไทย คณิต วิทย์ สังคม อังกฤษ'!W16+'ป.6ไทย คณิต วิทย์ สังคม อังกฤษ'!X16 -> 0 | M10: ='ป.6ไทย คณิต วิทย์ สังคม อังกฤษ'!Y16 -> 0 | N10: ='ป.6ไทย คณิต วิทย์ สังคม อังกฤษ'!Z16+'ป.6ไทย คณิต วิทย์ สังคม อังกฤษ'!AA16+'ป.6ไทย คณิต วิทย์ สังคม อังกฤษ'!AB16 -> 0 | O10: ='ป.6ไทย คณิต วิทย์ สังคม อังกฤษ'!AC16+'ป.6ไทย คณิต วิทย์ สังคม อังกฤษ'!AD16+'ป.6ไทย คณิต วิทย์ สังคม อังกฤษ'!AE16 -> 0 | P10: =SUM(K10:O10) -> 0 | Q10: ='ป.6ไทย คณิต วิทย์ สังคม อังกฤษ'!AG16+'ป.6ไทย คณิต วิทย์ สังคม อังกฤษ'!AH16 -> 0 | R10: ='ป.6ไทย คณิต วิทย์ สังคม อังกฤษ'!AI16+'ป.6ไทย คณิต วิทย์ สังคม อังกฤษ'!AJ16 -> 0 | S10: ='ป.6ไทย คณิต วิทย์ สังคม อังกฤษ'!AK16+'ป.6ไทย คณิต วิทย์ สังคม อังกฤษ'!AL16+'ป.6ไทย คณิต วิทย์ สังคม อังกฤษ'!AM16 -> 0 | T10: ='ป.6ไทย คณิต วิทย์ สังคม อังกฤษ'!AN16+'ป.6ไทย คณิต วิทย์ สังคม อังกฤษ'!AO16 -> 0 | U10: ='ป.6ไทย คณิต วิทย์ สังคม อังกฤษ'!AP16+'ป.6ไทย คณิต วิทย์ สังคม อังกฤษ'!AQ16+'ป.6ไทย คณิต วิทย์ สังคม อังกฤษ'!AR16+'ป.6ไทย คณิต วิทย์ สังคม อังกฤษ'!AS16 -> 0 | V10: ='ป.6ไทย คณิต วิทย์ สังคม อังกฤษ'!AT16+'ป.6ไทย คณิต วิทย์ สังคม อังกฤษ'!AU16+'ป.6ไทย คณิต วิทย์ สังคม อังกฤษ'!AV16 -> 0 | W10: ='ป.6ไทย คณิต วิทย์ สังคม อังกฤษ'!AW16 -> 0 | X10: =SUM(Q10:W10) -> 0 | Y10: ='ป.6ไทย คณิต วิทย์ สังคม อังกฤษ'!AY16+'ป.6ไทย คณิต วิทย์ สังคม อังกฤษ'!AZ16+'ป.6ไทย คณิต วิทย์ สังคม อังกฤษ'!BA16 -> 0 | Z10: ='ป.6ไทย คณิต วิทย์ สังคม อังกฤษ'!BB16+'ป.6ไทย คณิต วิทย์ สังคม อังกฤษ'!BC16 -> 0 | AA10: ='ป.6ไทย คณิต วิทย์ สังคม อังกฤษ'!BD16+'ป.6ไทย คณิต วิทย์ สังคม อังกฤษ'!BE16+'ป.6ไทย คณิต วิทย์ สังคม อังกฤษ'!BF16 -> 0 | AB10: ='ป.6ไทย คณิต วิทย์ สังคม อังกฤษ'!BG16+'ป.6ไทย คณิต วิทย์ สังคม อังกฤษ'!BH16 -> 0 | AC10: ='ป.6ไทย คณิต วิทย์ สังคม อังกฤษ'!BI16+'ป.6ไทย คณิต วิทย์ สังคม อังกฤษ'!BJ16 -> 0 | AD10: =SUM(Y10:AC10) -> 0 | AE10: ='ป.6ไทย คณิต วิทย์ สังคม อังกฤษ'!BL16+'ป.6ไทย คณิต วิทย์ สังคม อังกฤษ'!BM16+'ป.6ไทย คณิต วิทย์ สังคม อังกฤษ'!BN16 -> 0 | AF10: ='ป.6ไทย คณิต วิทย์ สังคม อังกฤษ'!BO16+'ป.6ไทย คณิต วิทย์ สังคม อังกฤษ'!BP16 -> 0 | AG10: ='ป.6ไทย คณิต วิทย์ สังคม อังกฤษ'!BQ16+'ป.6ไทย คณิต วิทย์ สังคม อังกฤษ'!BR16 -> 0 | AH10: =SUM(AE10:AG10) -> 0
A11: ='ป.6ไทย คณิต วิทย์ สังคม อังกฤษ'!A17 -> 0 | B11: ='ป.6ไทย คณิต วิทย์ สังคม อังกฤษ'!B17 -> 0 | C11: ='ป.6ไทย คณิต วิทย์ สังคม อังกฤษ'!C17 -> 7 | D11: ='ป.6ไทย คณิต วิทย์ สังคม อังกฤษ'!D17 -> 0 | E11: ='ป.6ไทย คณิต วิทย์ สังคม อังกฤษ'!E17+'ป.6ไทย คณิต วิทย์ สังคม อังกฤษ'!F17+'ป.6ไทย คณิต วิทย์ สังคม อังกฤษ'!G17 -> 0 | F11: ='ป.6ไทย คณิต วิทย์ สังคม อังกฤษ'!H17+'ป.6ไทย คณิต วิทย์ สังคม อังกฤษ'!I17+'ป.6ไทย คณิต วิทย์ สังคม อังกฤษ'!J17 -> 0 | G11: ='ป.6ไทย คณิต วิทย์ สังคม อังกฤษ'!K17+'ป.6ไทย คณิต วิทย์ สังคม อังกฤษ'!L17 -> 0 | H11: ='ป.6ไทย คณิต วิทย์ สังคม อังกฤษ'!M17+'ป.6ไทย คณิต วิทย์ สังคม อังกฤษ'!N17+'ป.6ไทย คณิต วิทย์ สังคม อังกฤษ'!O17 -> 0 | I11: ='ป.6ไทย คณิต วิทย์ สังคม อังกฤษ'!P17 -> 0 | J11: =SUM(E11:I11) -> 0 | K11: ='ป.6ไทย คณิต วิทย์ สังคม อังกฤษ'!R17+'ป.6ไทย คณิต วิทย์ สังคม อังกฤษ'!S17+'ป.6ไทย คณิต วิทย์ สังคม อังกฤษ'!T17+'ป.6ไทย คณิต วิทย์ สังคม อังกฤษ'!U17 -> 0 | L11: ='ป.6ไทย คณิต วิทย์ สังคม อังกฤษ'!V17+'ป.6ไทย คณิต วิทย์ สังคม อังกฤษ'!W17+'ป.6ไทย คณิต วิทย์ สังคม อังกฤษ'!X17 -> 0 | M11: ='ป.6ไทย คณิต วิทย์ สังคม อังกฤษ'!Y17 -> 0 | N11: ='ป.6ไทย คณิต วิทย์ สังคม อังกฤษ'!Z17+'ป.6ไทย คณิต วิทย์ สังคม อังกฤษ'!AA17+'ป.6ไทย คณิต วิทย์ สังคม อังกฤษ'!AB17 -> 0 | O11: ='ป.6ไทย คณิต วิทย์ สังคม อังกฤษ'!AC17+'ป.6ไทย คณิต วิทย์ สังคม อังกฤษ'!AD17+'ป.6ไทย คณิต วิทย์ สังคม อังกฤษ'!AE17 -> 0 | P11: =SUM(K11:O11) -> 0 | Q11: ='ป.6ไทย คณิต วิทย์ สังคม อังกฤษ'!AG17+'ป.6ไทย คณิต วิทย์ สังคม อังกฤษ'!AH17 -> 0 | R11: ='ป.6ไทย คณิต วิทย์ สังคม อังกฤษ'!AI17+'ป.6ไทย คณิต วิทย์ สังคม อังกฤษ'!AJ17 -> 0 | S11: ='ป.6ไทย คณิต วิทย์ สังคม อังกฤษ'!AK17+'ป.6ไทย คณิต วิทย์ สังคม อังกฤษ'!AL17+'ป.6ไทย คณิต วิทย์ สังคม อังกฤษ'!AM17 -> 0 | T11: ='ป.6ไทย คณิต วิทย์ สังคม อังกฤษ'!AN17+'ป.6ไทย คณิต วิทย์ สังคม อังกฤษ'!AO17 -> 0 | U11: ='ป.6ไทย คณิต วิทย์ สังคม อังกฤษ'!AP17+'ป.6ไทย คณิต วิทย์ สังคม อังกฤษ'!AQ17+'ป.6ไทย คณิต วิทย์ สังคม อังกฤษ'!AR17+'ป.6ไทย คณิต วิทย์ สังคม อังกฤษ'!AS17 -> 0 | V11: ='ป.6ไทย คณิต วิทย์ สังคม อังกฤษ'!AT17+'ป.6ไทย คณิต วิทย์ สังคม อังกฤษ'!AU17+'ป.6ไทย คณิต วิทย์ สังคม อังกฤษ'!AV17 -> 0 | W11: ='ป.6ไทย คณิต วิทย์ สังคม อังกฤษ'!AW17 -> 0 | X11: =SUM(Q11:W11) -> 0 | Y11: ='ป.6ไทย คณิต วิทย์ สังคม อังกฤษ'!AY17+'ป.6ไทย คณิต วิทย์ สังคม อังกฤษ'!AZ17+'ป.6ไทย คณิต วิทย์ สังคม อังกฤษ'!BA17 -> 0 | Z11: ='ป.6ไทย คณิต วิทย์ สังคม อังกฤษ'!BB17+'ป.6ไทย คณิต วิทย์ สังคม อังกฤษ'!BC17 -> 0 | AA11: ='ป.6ไทย คณิต วิทย์ สังคม อังกฤษ'!BD17+'ป.6ไทย คณิต วิทย์ สังคม อังกฤษ'!BE17+'ป.6ไทย คณิต วิทย์ สังคม อังกฤษ'!BF17 -> 0 | AB11: ='ป.6ไทย คณิต วิทย์ สังคม อังกฤษ'!BG17+'ป.6ไทย คณิต วิทย์ สังคม อังกฤษ'!BH17 -> 0 | AC11: ='ป.6ไทย คณิต วิทย์ สังคม อังกฤษ'!BI17+'ป.6ไทย คณิต วิทย์ สังคม อังกฤษ'!BJ17 -> 0 | AD11: =SUM(Y11:AC11) -> 0 | AE11: ='ป.6ไทย คณิต วิทย์ สังคม อังกฤษ'!BL17+'ป.6ไทย คณิต วิทย์ สังคม อังกฤษ'!BM17+'ป.6ไทย คณิต วิทย์ สังคม อังกฤษ'!BN17 -> 0 | AF11: ='ป.6ไทย คณิต วิทย์ สังคม อังกฤษ'!BO17+'ป.6ไทย คณิต วิทย์ สังคม อังกฤษ'!BP17 -> 0 | AG11: ='ป.6ไทย คณิต วิทย์ สังคม อังกฤษ'!BQ17+'ป.6ไทย คณิต วิทย์ สังคม อังกฤษ'!BR17 -> 0 | AH11: =SUM(AE11:AG11) -> 0
A12: ='ป.6ไทย คณิต วิทย์ สังคม อังกฤษ'!A18 -> 0 | B12: ='ป.6ไทย คณิต วิทย์ สังคม อังกฤษ'!B18 -> 0 | C12: ='ป.6ไทย คณิต วิทย์ สังคม อังกฤษ'!C18 -> 8 | D12: ='ป.6ไทย คณิต วิทย์ สังคม อังกฤษ'!D18 -> 0 | E12: ='ป.6ไทย คณิต วิทย์ สังคม อังกฤษ'!E18+'ป.6ไทย คณิต วิทย์ สังคม อังกฤษ'!F18+'ป.6ไทย คณิต วิทย์ สังคม อังกฤษ'!G18 -> 0 | F12: ='ป.6ไทย คณิต วิทย์ สังคม อังกฤษ'!H18+'ป.6ไทย คณิต วิทย์ สังคม อังกฤษ'!I18+'ป.6ไทย คณิต วิทย์ สังคม อังกฤษ'!J18 -> 0 | G12: ='ป.6ไทย คณิต วิทย์ สังคม อังกฤษ'!K18+'ป.6ไทย คณิต วิทย์ สังคม อังกฤษ'!L18 -> 0 | H12: ='ป.6ไทย คณิต วิทย์ สังคม อังกฤษ'!M18+'ป.6ไทย คณิต วิทย์ สังคม อังกฤษ'!N18+'ป.6ไทย คณิต วิทย์ สังคม อังกฤษ'!O18 -> 0 | I12: ='ป.6ไทย คณิต วิทย์ สังคม อังกฤษ'!P18 -> 0 | J12: =SUM(E12:I12) -> 0 | K12: ='ป.6ไทย คณิต วิทย์ สังคม อังกฤษ'!R18+'ป.6ไทย คณิต วิทย์ สังคม อังกฤษ'!S18+'ป.6ไทย คณิต วิทย์ สังคม อังกฤษ'!T18+'ป.6ไทย คณิต วิทย์ สังคม อังกฤษ'!U18 -> 0 | L12: ='ป.6ไทย คณิต วิทย์ สังคม อังกฤษ'!V18+'ป.6ไทย คณิต วิทย์ สังคม อังกฤษ'!W18+'ป.6ไทย คณิต วิทย์ สังคม อังกฤษ'!X18 -> 0 | M12: ='ป.6ไทย คณิต วิทย์ สังคม อังกฤษ'!Y18 -> 0 | N12: ='ป.6ไทย คณิต วิทย์ สังคม อังกฤษ'!Z18+'ป.6ไทย คณิต วิทย์ สังคม อังกฤษ'!AA18+'ป.6ไทย คณิต วิทย์ สังคม อังกฤษ'!AB18 -> 0 | O12: ='ป.6ไทย คณิต วิทย์ สังคม อังกฤษ'!AC18+'ป.6ไทย คณิต วิทย์ สังคม อังกฤษ'!AD18+'ป.6ไทย คณิต วิทย์ สังคม อังกฤษ'!AE18 -> 0 | P12: =SUM(K12:O12) -> 0 | Q12: ='ป.6ไทย คณิต วิทย์ สังคม อังกฤษ'!AG18+'ป.6ไทย คณิต วิทย์ สังคม อังกฤษ'!AH18 -> 0 | R12: ='ป.6ไทย คณิต วิทย์ สังคม อังกฤษ'!AI18+'ป.6ไทย คณิต วิทย์ สังคม อังกฤษ'!AJ18 -> 0 | S12: ='ป.6ไทย คณิต วิทย์ สังคม อังกฤษ'!AK18+'ป.6ไทย คณิต วิทย์ สังคม อังกฤษ'!AL18+'ป.6ไทย คณิต วิทย์ สังคม อังกฤษ'!AM18 -> 0 | T12: ='ป.6ไทย คณิต วิทย์ สังคม อังกฤษ'!AN18+'ป.6ไทย คณิต วิทย์ สังคม อังกฤษ'!AO18 -> 0 | U12: ='ป.6ไทย คณิต วิทย์ สังคม อังกฤษ'!AP18+'ป.6ไทย คณิต วิทย์ สังคม อังกฤษ'!AQ18+'ป.6ไทย คณิต วิทย์ สังคม อังกฤษ'!AR18+'ป.6ไทย คณิต วิทย์ สังคม อังกฤษ'!AS18 -> 0 | V12: ='ป.6ไทย คณิต วิทย์ สังคม อังกฤษ'!AT18+'ป.6ไทย คณิต วิทย์ สังคม อังกฤษ'!AU18+'ป.6ไทย คณิต วิทย์ สังคม อังกฤษ'!AV18 -> 0 | W12: ='ป.6ไทย คณิต วิทย์ สังคม อังกฤษ'!AW18 -> 0 | X12: =SUM(Q12:W12) -> 0 | Y12: ='ป.6ไทย คณิต วิทย์ สังคม อังกฤษ'!AY18+'ป.6ไทย คณิต วิทย์ สังคม อังกฤษ'!AZ18+'ป.6ไทย คณิต วิทย์ สังคม อังกฤษ'!BA18 -> 0 | Z12: ='ป.6ไทย คณิต วิทย์ สังคม อังกฤษ'!BB18+'ป.6ไทย คณิต วิทย์ สังคม อังกฤษ'!BC18 -> 0 | AA12: ='ป.6ไทย คณิต วิทย์ สังคม อังกฤษ'!BD18+'ป.6ไทย คณิต วิทย์ สังคม อังกฤษ'!BE18+'ป.6ไทย คณิต วิทย์ สังคม อังกฤษ'!BF18 -> 0 | AB12: ='ป.6ไทย คณิต วิทย์ สังคม อังกฤษ'!BG18+'ป.6ไทย คณิต วิทย์ สังคม อังกฤษ'!BH18 -> 0 | AC12: ='ป.6ไทย คณิต วิทย์ สังคม อังกฤษ'!BI18+'ป.6ไทย คณิต วิทย์ สังคม อังกฤษ'!BJ18 -> 0 | AD12: =SUM(Y12:AC12) -> 0 | AE12: ='ป.6ไทย คณิต วิทย์ สังคม อังกฤษ'!BL18+'ป.6ไทย คณิต วิทย์ สังคม อังกฤษ'!BM18+'ป.6ไทย คณิต วิทย์ สังคม อังกฤษ'!BN18 -> 0 | AF12: ='ป.6ไทย คณิต วิทย์ สังคม อังกฤษ'!BO18+'ป.6ไทย คณิต วิทย์ สังคม อังกฤษ'!BP18 -> 0 | AG12: ='ป.6ไทย คณิต วิทย์ สังคม อังกฤษ'!BQ18+'ป.6ไทย คณิต วิทย์ สังคม อังกฤษ'!BR18 -> 0 | AH12: =SUM(AE12:AG12) -> 0
A13: ='ป.6ไทย คณิต วิทย์ สังคม อังกฤษ'!A19 -> 0 | B13: ='ป.6ไทย คณิต วิทย์ สังคม อังกฤษ'!B19 -> 0 | C13: ='ป.6ไทย คณิต วิทย์ สังคม อังกฤษ'!C19 -> 9 | D13: ='ป.6ไทย คณิต วิทย์ สังคม อังกฤษ'!D19 -> 0 | E13: ='ป.6ไทย คณิต วิทย์ สังคม อังกฤษ'!E19+'ป.6ไทย คณิต วิทย์ สังคม อังกฤษ'!F19+'ป.6ไทย คณิต วิทย์ สังคม อังกฤษ'!G19 -> 0 | F13: ='ป.6ไทย คณิต วิทย์ สังคม อังกฤษ'!H19+'ป.6ไทย คณิต วิทย์ สังคม อังกฤษ'!I19+'ป.6ไทย คณิต วิทย์ สังคม อังกฤษ'!J19 -> 0 | G13: ='ป.6ไทย คณิต วิทย์ สังคม อังกฤษ'!K19+'ป.6ไทย คณิต วิทย์ สังคม อังกฤษ'!L19 -> 0 | H13: ='ป.6ไทย คณิต วิทย์ สังคม อังกฤษ'!M19+'ป.6ไทย คณิต วิทย์ สังคม อังกฤษ'!N19+'ป.6ไทย คณิต วิทย์ สังคม อังกฤษ'!O19 -> 0 | I13: ='ป.6ไทย คณิต วิทย์ สังคม อังกฤษ'!P19 -> 0 | J13: =SUM(E13:I13) -> 0 | K13: ='ป.6ไทย คณิต วิทย์ สังคม อังกฤษ'!R19+'ป.6ไทย คณิต วิทย์ สังคม อังกฤษ'!S19+'ป.6ไทย คณิต วิทย์ สังคม อังกฤษ'!T19+'ป.6ไทย คณิต วิทย์ สังคม อังกฤษ'!U19 -> 0 | L13: ='ป.6ไทย คณิต วิทย์ สังคม อังกฤษ'!V19+'ป.6ไทย คณิต วิทย์ สังคม อังกฤษ'!W19+'ป.6ไทย คณิต วิทย์ สังคม อังกฤษ'!X19 -> 0 | M13: ='ป.6ไทย คณิต วิทย์ สังคม อังกฤษ'!Y19 -> 0 | N13: ='ป.6ไทย คณิต วิทย์ สังคม อังกฤษ'!Z19+'ป.6ไทย คณิต วิทย์ สังคม อังกฤษ'!AA19+'ป.6ไทย คณิต วิทย์ สังคม อังกฤษ'!AB19 -> 0 | O13: ='ป.6ไทย คณิต วิทย์ สังคม อังกฤษ'!AC19+'ป.6ไทย คณิต วิทย์ สังคม อังกฤษ'!AD19+'ป.6ไทย คณิต วิทย์ สังคม อังกฤษ'!AE19 -> 0 | P13: =SUM(K13:O13) -> 0 | Q13: ='ป.6ไทย คณิต วิทย์ สังคม อังกฤษ'!AG19+'ป.6ไทย คณิต วิทย์ สังคม อังกฤษ'!AH19 -> 0 | R13: ='ป.6ไทย คณิต วิทย์ สังคม อังกฤษ'!AI19+'ป.6ไทย คณิต วิทย์ สังคม อังกฤษ'!AJ19 -> 0 | S13: ='ป.6ไทย คณิต วิทย์ สังคม อังกฤษ'!AK19+'ป.6ไทย คณิต วิทย์ สังคม อังกฤษ'!AL19+'ป.6ไทย คณิต วิทย์ สังคม อังกฤษ'!AM19 -> 0 | T13: ='ป.6ไทย คณิต วิทย์ สังคม อังกฤษ'!AN19+'ป.6ไทย คณิต วิทย์ สังคม อังกฤษ'!AO19 -> 0 | U13: ='ป.6ไทย คณิต วิทย์ สังคม อังกฤษ'!AP19+'ป.6ไทย คณิต วิทย์ สังคม อังกฤษ'!AQ19+'ป.6ไทย คณิต วิทย์ สังคม อังกฤษ'!AR19+'ป.6ไทย คณิต วิทย์ สังคม อังกฤษ'!AS19 -> 0 | V13: ='ป.6ไทย คณิต วิทย์ สังคม อังกฤษ'!AT19+'ป.6ไทย คณิต วิทย์ สังคม อังกฤษ'!AU19+'ป.6ไทย คณิต วิทย์ สังคม อังกฤษ'!AV19 -> 0 | W13: ='ป.6ไทย คณิต วิทย์ สังคม อังกฤษ'!AW19 -> 0 | X13: =SUM(Q13:W13) -> 0 | Y13: ='ป.6ไทย คณิต วิทย์ สังคม อังกฤษ'!AY19+'ป.6ไทย คณิต วิทย์ สังคม อังกฤษ'!AZ19+'ป.6ไทย คณิต วิทย์ สังคม อังกฤษ'!BA19 -> 0 | Z13: ='ป.6ไทย คณิต วิทย์ สังคม อังกฤษ'!BB19+'ป.6ไทย คณิต วิทย์ สังคม อังกฤษ'!BC19 -> 0 | AA13: ='ป.6ไทย คณิต วิทย์ สังคม อังกฤษ'!BD19+'ป.6ไทย คณิต วิทย์ สังคม อังกฤษ'!BE19+'ป.6ไทย คณิต วิทย์ สังคม อังกฤษ'!BF19 -> 0 | AB13: ='ป.6ไทย คณิต วิทย์ สังคม อังกฤษ'!BG19+'ป.6ไทย คณิต วิทย์ สังคม อังกฤษ'!BH19 -> 0 | AC13: ='ป.6ไทย คณิต วิทย์ สังคม อังกฤษ'!BI19+'ป.6ไทย คณิต วิทย์ สังคม อังกฤษ'!BJ19 -> 0 | AD13: =SUM(Y13:AC13) -> 0 | AE13: ='ป.6ไทย คณิต วิทย์ สังคม อังกฤษ'!BL19+'ป.6ไทย คณิต วิทย์ สังคม อังกฤษ'!BM19+'ป.6ไทย คณิต วิทย์ สังคม อังกฤษ'!BN19 -> 0 | AF13: ='ป.6ไทย คณิต วิทย์ สังคม อังกฤษ'!BO19+'ป.6ไทย คณิต วิทย์ สังคม อังกฤษ'!BP19 -> 0 | AG13: ='ป.6ไทย คณิต วิทย์ สังคม อังกฤษ'!BQ19+'ป.6ไทย คณิต วิทย์ สังคม อังกฤษ'!BR19 -> 0 | AH13: =SUM(AE13:AG13) -> 0
A14: ='ป.6ไทย คณิต วิทย์ สังคม อังกฤษ'!A20 -> 0 | B14: ='ป.6ไทย คณิต วิทย์ สังคม อังกฤษ'!B20 -> 0 | C14: ='ป.6ไทย คณิต วิทย์ สังคม อังกฤษ'!C20 -> 10 | D14: ='ป.6ไทย คณิต วิทย์ สังคม อังกฤษ'!D20 -> 0 | E14: ='ป.6ไทย คณิต วิทย์ สังคม อังกฤษ'!E20+'ป.6ไทย คณิต วิทย์ สังคม อังกฤษ'!F20+'ป.6ไทย คณิต วิทย์ สังคม อังกฤษ'!G20 -> 0 | F14: ='ป.6ไทย คณิต วิทย์ สังคม อังกฤษ'!H20+'ป.6ไทย คณิต วิทย์ สังคม อังกฤษ'!I20+'ป.6ไทย คณิต วิทย์ สังคม อังกฤษ'!J20 -> 0 | G14: ='ป.6ไทย คณิต วิทย์ สังคม อังกฤษ'!K20+'ป.6ไทย คณิต วิทย์ สังคม อังกฤษ'!L20 -> 0 | H14: ='ป.6ไทย คณิต วิทย์ สังคม อังกฤษ'!M20+'ป.6ไทย คณิต วิทย์ สังคม อังกฤษ'!N20+'ป.6ไทย คณิต วิทย์ สังคม อังกฤษ'!O20 -> 0 | I14: ='ป.6ไทย คณิต วิทย์ สังคม อังกฤษ'!P20 -> 0 | J14: =SUM(E14:I14) -> 0 | K14: ='ป.6ไทย คณิต วิทย์ สังคม อังกฤษ'!R20+'ป.6ไทย คณิต วิทย์ สังคม อังกฤษ'!S20+'ป.6ไทย คณิต วิทย์ สังคม อังกฤษ'!T20+'ป.6ไทย คณิต วิทย์ สังคม อังกฤษ'!U20 -> 0 | L14: ='ป.6ไทย คณิต วิทย์ สังคม อังกฤษ'!V20+'ป.6ไทย คณิต วิทย์ สังคม อังกฤษ'!W20+'ป.6ไทย คณิต วิทย์ สังคม อังกฤษ'!X20 -> 0 | M14: ='ป.6ไทย คณิต วิทย์ สังคม อังกฤษ'!Y20 -> 0 | N14: ='ป.6ไทย คณิต วิทย์ สังคม อังกฤษ'!Z20+'ป.6ไทย คณิต วิทย์ สังคม อังกฤษ'!AA20+'ป.6ไทย คณิต วิทย์ สังคม อังกฤษ'!AB20 -> 0 | O14: ='ป.6ไทย คณิต วิทย์ สังคม อังกฤษ'!AC20+'ป.6ไทย คณิต วิทย์ สังคม อังกฤษ'!AD20+'ป.6ไทย คณิต วิทย์ สังคม อังกฤษ'!AE20 -> 0 | P14: =SUM(K14:O14) -> 0 | Q14: ='ป.6ไทย คณิต วิทย์ สังคม อังกฤษ'!AG20+'ป.6ไทย คณิต วิทย์ สังคม อังกฤษ'!AH20 -> 0 | R14: ='ป.6ไทย คณิต วิทย์ สังคม อังกฤษ'!AI20+'ป.6ไทย คณิต วิทย์ สังคม อังกฤษ'!AJ20 -> 0 | S14: ='ป.6ไทย คณิต วิทย์ สังคม อังกฤษ'!AK20+'ป.6ไทย คณิต วิทย์ สังคม อังกฤษ'!AL20+'ป.6ไทย คณิต วิทย์ สังคม อังกฤษ'!AM20 -> 0 | T14: ='ป.6ไทย คณิต วิทย์ สังคม อังกฤษ'!AN20+'ป.6ไทย คณิต วิทย์ สังคม อังกฤษ'!AO20 -> 0 | U14: ='ป.6ไทย คณิต วิทย์ สังคม อังกฤษ'!AP20+'ป.6ไทย คณิต วิทย์ สังคม อังกฤษ'!AQ20+'ป.6ไทย คณิต วิทย์ สังคม อังกฤษ'!AR20+'ป.6ไทย คณิต วิทย์ สังคม อังกฤษ'!AS20 -> 0 | V14: ='ป.6ไทย คณิต วิทย์ สังคม อังกฤษ'!AT20+'ป.6ไทย คณิต วิทย์ สังคม อังกฤษ'!AU20+'ป.6ไทย คณิต วิทย์ สังคม อังกฤษ'!AV20 -> 0 | W14: ='ป.6ไทย คณิต วิทย์ สังคม อังกฤษ'!AW20 -> 0 | X14: =SUM(Q14:W14) -> 0 | Y14: ='ป.6ไทย คณิต วิทย์ สังคม อังกฤษ'!AY20+'ป.6ไทย คณิต วิทย์ สังคม อังกฤษ'!AZ20+'ป.6ไทย คณิต วิทย์ สังคม อังกฤษ'!BA20 -> 0 | Z14: ='ป.6ไทย คณิต วิทย์ สังคม อังกฤษ'!BB20+'ป.6ไทย คณิต วิทย์ สังคม อังกฤษ'!BC20 -> 0 | AA14: ='ป.6ไทย คณิต วิทย์ สังคม อังกฤษ'!BD20+'ป.6ไทย คณิต วิทย์ สังคม อังกฤษ'!BE20+'ป.6ไทย คณิต วิทย์ สังคม อังกฤษ'!BF20 -> 0 | AB14: ='ป.6ไทย คณิต วิทย์ สังคม อังกฤษ'!BG20+'ป.6ไทย คณิต วิทย์ สังคม อังกฤษ'!BH20 -> 0 | AC14: ='ป.6ไทย คณิต วิทย์ สังคม อังกฤษ'!BI20+'ป.6ไทย คณิต วิทย์ สังคม อังกฤษ'!BJ20 -> 0 | AD14: =SUM(Y14:AC14) -> 0 | AE14: ='ป.6ไทย คณิต วิทย์ สังคม อังกฤษ'!BL20+'ป.6ไทย คณิต วิทย์ สังคม อังกฤษ'!BM20+'ป.6ไทย คณิต วิทย์ สังคม อังกฤษ'!BN20 -> 0 | AF14: ='ป.6ไทย คณิต วิทย์ สังคม อังกฤษ'!BO20+'ป.6ไทย คณิต วิทย์ สังคม อังกฤษ'!BP20 -> 0 | AG14: ='ป.6ไทย คณิต วิทย์ สังคม อังกฤษ'!BQ20+'ป.6ไทย คณิต วิทย์ สังคม อังกฤษ'!BR20 -> 0 | AH14: =SUM(AE14:AG14) -> 0
A15: ='ป.6ไทย คณิต วิทย์ สังคม อังกฤษ'!A21 -> 0 | B15: ='ป.6ไทย คณิต วิทย์ สังคม อังกฤษ'!B21 -> 0 | C15: ='ป.6ไทย คณิต วิทย์ สังคม อังกฤษ'!C21 -> 11 | D15: ='ป.6ไทย คณิต วิทย์ สังคม อังกฤษ'!D21 -> 0 | E15: ='ป.6ไทย คณิต วิทย์ สังคม อังกฤษ'!E21+'ป.6ไทย คณิต วิทย์ สังคม อังกฤษ'!F21+'ป.6ไทย คณิต วิทย์ สังคม อังกฤษ'!G21 -> 0 | F15: ='ป.6ไทย คณิต วิทย์ สังคม อังกฤษ'!H21+'ป.6ไทย คณิต วิทย์ สังคม อังกฤษ'!I21+'ป.6ไทย คณิต วิทย์ สังคม อังกฤษ'!J21 -> 0 | G15: ='ป.6ไทย คณิต วิทย์ สังคม อังกฤษ'!K21+'ป.6ไทย คณิต วิทย์ สังคม อังกฤษ'!L21 -> 0 | H15: ='ป.6ไทย คณิต วิทย์ สังคม อังกฤษ'!M21+'ป.6ไทย คณิต วิทย์ สังคม อังกฤษ'!N21+'ป.6ไทย คณิต วิทย์ สังคม อังกฤษ'!O21 -> 0 | I15: ='ป.6ไทย คณิต วิทย์ สังคม อังกฤษ'!P21 -> 0 | J15: =SUM(E15:I15) -> 0 | K15: ='ป.6ไทย คณิต วิทย์ สังคม อังกฤษ'!R21+'ป.6ไทย คณิต วิทย์ สังคม อังกฤษ'!S21+'ป.6ไทย คณิต วิทย์ สังคม อังกฤษ'!T21+'ป.6ไทย คณิต วิทย์ สังคม อังกฤษ'!U21 -> 0 | L15: ='ป.6ไทย คณิต วิทย์ สังคม อังกฤษ'!V21+'ป.6ไทย คณิต วิทย์ สังคม อังกฤษ'!W21+'ป.6ไทย คณิต วิทย์ สังคม อังกฤษ'!X21 -> 0 | M15: ='ป.6ไทย คณิต วิทย์ สังคม อังกฤษ'!Y21 -> 0 | N15: ='ป.6ไทย คณิต วิทย์ สังคม อังกฤษ'!Z21+'ป.6ไทย คณิต วิทย์ สังคม อังกฤษ'!AA21+'ป.6ไทย คณิต วิทย์ สังคม อังกฤษ'!AB21 -> 0 | O15: ='ป.6ไทย คณิต วิทย์ สังคม อังกฤษ'!AC21+'ป.6ไทย คณิต วิทย์ สังคม อังกฤษ'!AD21+'ป.6ไทย คณิต วิทย์ สังคม อังกฤษ'!AE21 -> 0 | P15: =SUM(K15:O15) -> 0 | Q15: ='ป.6ไทย คณิต วิทย์ สังคม อังกฤษ'!AG21+'ป.6ไทย คณิต วิทย์ สังคม อังกฤษ'!AH21 -> 0 | R15: ='ป.6ไทย คณิต วิทย์ สังคม อังกฤษ'!AI21+'ป.6ไทย คณิต วิทย์ สังคม อังกฤษ'!AJ21 -> 0 | S15: ='ป.6ไทย คณิต วิทย์ สังคม อังกฤษ'!AK21+'ป.6ไทย คณิต วิทย์ สังคม อังกฤษ'!AL21+'ป.6ไทย คณิต วิทย์ สังคม อังกฤษ'!AM21 -> 0 | T15: ='ป.6ไทย คณิต วิทย์ สังคม อังกฤษ'!AN21+'ป.6ไทย คณิต วิทย์ สังคม อังกฤษ'!AO21 -> 0 | U15: ='ป.6ไทย คณิต วิทย์ สังคม อังกฤษ'!AP21+'ป.6ไทย คณิต วิทย์ สังคม อังกฤษ'!AQ21+'ป.6ไทย คณิต วิทย์ สังคม อังกฤษ'!AR21+'ป.6ไทย คณิต วิทย์ สังคม อังกฤษ'!AS21 -> 0 | V15: ='ป.6ไทย คณิต วิทย์ สังคม อังกฤษ'!AT21+'ป.6ไทย คณิต วิทย์ สังคม อังกฤษ'!AU21+'ป.6ไทย คณิต วิทย์ สังคม อังกฤษ'!AV21 -> 0 | W15: ='ป.6ไทย คณิต วิทย์ สังคม อังกฤษ'!AW21 -> 0 | X15: =SUM(Q15:W15) -> 0 | Y15: ='ป.6ไทย คณิต วิทย์ สังคม อังกฤษ'!AY21+'ป.6ไทย คณิต วิทย์ สังคม อังกฤษ'!AZ21+'ป.6ไทย คณิต วิทย์ สังคม อังกฤษ'!BA21 -> 0 | Z15: ='ป.6ไทย คณิต วิทย์ สังคม อังกฤษ'!BB21+'ป.6ไทย คณิต วิทย์ สังคม อังกฤษ'!BC21 -> 0 | AA15: ='ป.6ไทย คณิต วิทย์ สังคม อังกฤษ'!BD21+'ป.6ไทย คณิต วิทย์ สังคม อังกฤษ'!BE21+'ป.6ไทย คณิต วิทย์ สังคม อังกฤษ'!BF21 -> 0 | AB15: ='ป.6ไทย คณิต วิทย์ สังคม อังกฤษ'!BG21+'ป.6ไทย คณิต วิทย์ สังคม อังกฤษ'!BH21 -> 0 | AC15: ='ป.6ไทย คณิต วิทย์ สังคม อังกฤษ'!BI21+'ป.6ไทย คณิต วิทย์ สังคม อังกฤษ'!BJ21 -> 0 | AD15: =SUM(Y15:AC15) -> 0 | AE15: ='ป.6ไทย คณิต วิทย์ สังคม อังกฤษ'!BL21+'ป.6ไทย คณิต วิทย์ สังคม อังกฤษ'!BM21+'ป.6ไทย คณิต วิทย์ สังคม อังกฤษ'!BN21 -> 0 | AF15: ='ป.6ไทย คณิต วิทย์ สังคม อังกฤษ'!BO21+'ป.6ไทย คณิต วิทย์ สังคม อังกฤษ'!BP21 -> 0 | AG15: ='ป.6ไทย คณิต วิทย์ สังคม อังกฤษ'!BQ21+'ป.6ไทย คณิต วิทย์ สังคม อังกฤษ'!BR21 -> 0 | AH15: =SUM(AE15:AG15) -> 0
A16: ='ป.6ไทย คณิต วิทย์ สังคม อังกฤษ'!A22 -> 0 | B16: ='ป.6ไทย คณิต วิทย์ สังคม อังกฤษ'!B22 -> 0 | C16: ='ป.6ไทย คณิต วิทย์ สังคม อังกฤษ'!C22 -> 12 | D16: ='ป.6ไทย คณิต วิทย์ สังคม อังกฤษ'!D22 -> 0 | E16: ='ป.6ไทย คณิต วิทย์ สังคม อังกฤษ'!E22+'ป.6ไทย คณิต วิทย์ สังคม อังกฤษ'!F22+'ป.6ไทย คณิต วิทย์ สังคม อังกฤษ'!G22 -> 0 | F16: ='ป.6ไทย คณิต วิทย์ สังคม อังกฤษ'!H22+'ป.6ไทย คณิต วิทย์ สังคม อังกฤษ'!I22+'ป.6ไทย คณิต วิทย์ สังคม อังกฤษ'!J22 -> 0 | G16: ='ป.6ไทย คณิต วิทย์ สังคม อังกฤษ'!K22+'ป.6ไทย คณิต วิทย์ สังคม อังกฤษ'!L22 -> 0 | H16: ='ป.6ไทย คณิต วิทย์ สังคม อังกฤษ'!M22+'ป.6ไทย คณิต วิทย์ สังคม อังกฤษ'!N22+'ป.6ไทย คณิต วิทย์ สังคม อังกฤษ'!O22 -> 0 | I16: ='ป.6ไทย คณิต วิทย์ สังคม อังกฤษ'!P22 -> 0 | J16: =SUM(E16:I16) -> 0 | K16: ='ป.6ไทย คณิต วิทย์ สังคม อังกฤษ'!R22+'ป.6ไทย คณิต วิทย์ สังคม อังกฤษ'!S22+'ป.6ไทย คณิต วิทย์ สังคม อังกฤษ'!T22+'ป.6ไทย คณิต วิทย์ สังคม อังกฤษ'!U22 -> 0 | L16: ='ป.6ไทย คณิต วิทย์ สังคม อังกฤษ'!V22+'ป.6ไทย คณิต วิทย์ สังคม อังกฤษ'!W22+'ป.6ไทย คณิต วิทย์ สังคม อังกฤษ'!X22 -> 0 | M16: ='ป.6ไทย คณิต วิทย์ สังคม อังกฤษ'!Y22 -> 0 | N16: ='ป.6ไทย คณิต วิทย์ สังคม อังกฤษ'!Z22+'ป.6ไทย คณิต วิทย์ สังคม อังกฤษ'!AA22+'ป.6ไทย คณิต วิทย์ สังคม อังกฤษ'!AB22 -> 0 | O16: ='ป.6ไทย คณิต วิทย์ สังคม อังกฤษ'!AC22+'ป.6ไทย คณิต วิทย์ สังคม อังกฤษ'!AD22+'ป.6ไทย คณิต วิทย์ สังคม อังกฤษ'!AE22 -> 0 | P16: =SUM(K16:O16) -> 0 | Q16: ='ป.6ไทย คณิต วิทย์ สังคม อังกฤษ'!AG22+'ป.6ไทย คณิต วิทย์ สังคม อังกฤษ'!AH22 -> 0 | R16: ='ป.6ไทย คณิต วิทย์ สังคม อังกฤษ'!AI22+'ป.6ไทย คณิต วิทย์ สังคม อังกฤษ'!AJ22 -> 0 | S16: ='ป.6ไทย คณิต วิทย์ สังคม อังกฤษ'!AK22+'ป.6ไทย คณิต วิทย์ สังคม อังกฤษ'!AL22+'ป.6ไทย คณิต วิทย์ สังคม อังกฤษ'!AM22 -> 0 | T16: ='ป.6ไทย คณิต วิทย์ สังคม อังกฤษ'!AN22+'ป.6ไทย คณิต วิทย์ สังคม อังกฤษ'!AO22 -> 0 | U16: ='ป.6ไทย คณิต วิทย์ สังคม อังกฤษ'!AP22+'ป.6ไทย คณิต วิทย์ สังคม อังกฤษ'!AQ22+'ป.6ไทย คณิต วิทย์ สังคม อังกฤษ'!AR22+'ป.6ไทย คณิต วิทย์ สังคม อังกฤษ'!AS22 -> 0 | V16: ='ป.6ไทย คณิต วิทย์ สังคม อังกฤษ'!AT22+'ป.6ไทย คณิต วิทย์ สังคม อังกฤษ'!AU22+'ป.6ไทย คณิต วิทย์ สังคม อังกฤษ'!AV22 -> 0 | W16: ='ป.6ไทย คณิต วิทย์ สังคม อังกฤษ'!AW22 -> 0 | X16: =SUM(Q16:W16) -> 0 | Y16: ='ป.6ไทย คณิต วิทย์ สังคม อังกฤษ'!AY22+'ป.6ไทย คณิต วิทย์ สังคม อังกฤษ'!AZ22+'ป.6ไทย คณิต วิทย์ สังคม อังกฤษ'!BA22 -> 0 | Z16: ='ป.6ไทย คณิต วิทย์ สังคม อังกฤษ'!BB22+'ป.6ไทย คณิต วิทย์ สังคม อังกฤษ'!BC22 -> 0 | AA16: ='ป.6ไทย คณิต วิทย์ สังคม อังกฤษ'!BD22+'ป.6ไทย คณิต วิทย์ สังคม อังกฤษ'!BE22+'ป.6ไทย คณิต วิทย์ สังคม อังกฤษ'!BF22 -> 0 | AB16: ='ป.6ไทย คณิต วิทย์ สังคม อังกฤษ'!BG22+'ป.6ไทย คณิต วิทย์ สังคม อังกฤษ'!BH22 -> 0 | AC16: ='ป.6ไทย คณิต วิทย์ สังคม อังกฤษ'!BI22+'ป.6ไทย คณิต วิทย์ สังคม อังกฤษ'!BJ22 -> 0 | AD16: =SUM(Y16:AC16) -> 0 | AE16: ='ป.6ไทย คณิต วิทย์ สังคม อังกฤษ'!BL22+'ป.6ไทย คณิต วิทย์ สังคม อังกฤษ'!BM22+'ป.6ไทย คณิต วิทย์ สังคม อังกฤษ'!BN22 -> 0 | AF16: ='ป.6ไทย คณิต วิทย์ สังคม อังกฤษ'!BO22+'ป.6ไทย คณิต วิทย์ สังคม อังกฤษ'!BP22 -> 0 | AG16: ='ป.6ไทย คณิต วิทย์ สังคม อังกฤษ'!BQ22+'ป.6ไทย คณิต วิทย์ สังคม อังกฤษ'!BR22 -> 0 | AH16: =SUM(AE16:AG16) -> 0
... A104: ='ป.6ไทย คณิต วิทย์ สังคม อังกฤษ'!A110 -> 0 | B104: ='ป.6ไทย คณิต วิทย์ สังคม อังกฤษ'!B110 -> 0 | C104: ='ป.6ไทย คณิต วิทย์ สังคม อังกฤษ'!C110 -> 100 | D104: ='ป.6ไทย คณิต วิทย์ สังคม อังกฤษ'!D110 -> 0 | E104: ='ป.6ไทย คณิต วิทย์ สังคม อังกฤษ'!E110+'ป.6ไทย คณิต วิทย์ สังคม อังกฤษ'!F110+'ป.6ไทย คณิต วิทย์ สังคม อังกฤษ'!G110 -> 0 | F104: ='ป.6ไทย คณิต วิทย์ สังคม อังกฤษ'!H110+'ป.6ไทย คณิต วิทย์ สังคม อังกฤษ'!I110+'ป.6ไทย คณิต วิทย์ สังคม อังกฤษ'!J110 -> 0 | G104: ='ป.6ไทย คณิต วิทย์ สังคม อังกฤษ'!K110+'ป.6ไทย คณิต วิทย์ สังคม อังกฤษ'!L110 -> 0 | H104: ='ป.6ไทย คณิต วิทย์ สังคม อังกฤษ'!M110+'ป.6ไทย คณิต วิทย์ สังคม อังกฤษ'!N110+'ป.6ไทย คณิต วิทย์ สังคม อังกฤษ'!O110 -> 0 | I104: ='ป.6ไทย คณิต วิทย์ สังคม อังกฤษ'!P110 -> 0 | J104: =SUM(E104:I104) -> 0 | K104: ='ป.6ไทย คณิต วิทย์ สังคม อังกฤษ'!R110+'ป.6ไทย คณิต วิทย์ สังคม อังกฤษ'!S110+'ป.6ไทย คณิต วิทย์ สังคม อังกฤษ'!T110+'ป.6ไทย คณิต วิทย์ สังคม อังกฤษ'!U110 -> 0 | L104: ='ป.6ไทย คณิต วิทย์ สังคม อังกฤษ'!V110+'ป.6ไทย คณิต วิทย์ สังคม อังกฤษ'!W110+'ป.6ไทย คณิต วิทย์ สังคม อังกฤษ'!X110 -> 0 | M104: ='ป.6ไทย คณิต วิทย์ สังคม อังกฤษ'!Y110 -> 0 | N104: ='ป.6ไทย คณิต วิทย์ สังคม อังกฤษ'!Z110+'ป.6ไทย คณิต วิทย์ สังคม อังกฤษ'!AA110+'ป.6ไทย คณิต วิทย์ สังคม อังกฤษ'!AB110 -> 0 | O104: ='ป.6ไทย คณิต วิทย์ สังคม อังกฤษ'!AC110+'ป.6ไทย คณิต วิทย์ สังคม อังกฤษ'!AD110+'ป.6ไทย คณิต วิทย์ สังคม อังกฤษ'!AE110 -> 0 | P104: =SUM(K104:O104) -> 0 | Q104: ='ป.6ไทย คณิต วิทย์ สังคม อังกฤษ'!AG110+'ป.6ไทย คณิต วิทย์ สังคม อังกฤษ'!AH110 -> 0 | R104: ='ป.6ไทย คณิต วิทย์ สังคม อังกฤษ'!AI110+'ป.6ไทย คณิต วิทย์ สังคม อังกฤษ'!AJ110 -> 0 | S104: ='ป.6ไทย คณิต วิทย์ สังคม อังกฤษ'!AK110+'ป.6ไทย คณิต วิทย์ สังคม อังกฤษ'!AL110+'ป.6ไทย คณิต วิทย์ สังคม อังกฤษ'!AM110 -> 0 | T104: ='ป.6ไทย คณิต วิทย์ สังคม อังกฤษ'!AN110+'ป.6ไทย คณิต วิทย์ สังคม อังกฤษ'!AO110 -> 0 | U104: ='ป.6ไทย คณิต วิทย์ สังคม อังกฤษ'!AP110+'ป.6ไทย คณิต วิทย์ สังคม อังกฤษ'!AQ110+'ป.6ไทย คณิต วิทย์ สังคม อังกฤษ'!AR110+'ป.6ไทย คณิต วิทย์ สังคม อังกฤษ'!AS110 -> 0 | V104: ='ป.6ไทย คณิต วิทย์ สังคม อังกฤษ'!AT110+'ป.6ไทย คณิต วิทย์ สังคม อังกฤษ'!AU110+'ป.6ไทย คณิต วิทย์ สังคม อังกฤษ'!AV110 -> 0 | W104: ='ป.6ไทย คณิต วิทย์ สังคม อังกฤษ'!AW110 -> 0 | X104: =SUM(Q104:W104) -> 0 | Y104: ='ป.6ไทย คณิต วิทย์ สังคม อังกฤษ'!AY110+'ป.6ไทย คณิต วิทย์ สังคม อังกฤษ'!AZ110+'ป.6ไทย คณิต วิทย์ สังคม อังกฤษ'!BA110 -> 0 | Z104: ='ป.6ไทย คณิต วิทย์ สังคม อังกฤษ'!BB110+'ป.6ไทย คณิต วิทย์ สังคม อังกฤษ'!BC110 -> 0 | AA104: ='ป.6ไทย คณิต วิทย์ สังคม อังกฤษ'!BD110+'ป.6ไทย คณิต วิทย์ สังคม อังกฤษ'!BE110+'ป.6ไทย คณิต วิทย์ สังคม อังกฤษ'!BF110 -> 0 | AB104: ='ป.6ไทย คณิต วิทย์ สังคม อังกฤษ'!BG110+'ป.6ไทย คณิต วิทย์ สังคม อังกฤษ'!BH110 -> 0 | AC104: ='ป.6ไทย คณิต วิทย์ สังคม อังกฤษ'!BI110+'ป.6ไทย คณิต วิทย์ สังคม อังกฤษ'!BJ110 -> 0 | AD104: =SUM(Y104:AC104) -> 0 | AE104: ='ป.6ไทย คณิต วิทย์ สังคม อังกฤษ'!BL110+'ป.6ไทย คณิต วิทย์ สังคม อังกฤษ'!BM110+'ป.6ไทย คณิต วิทย์ สังคม อังกฤษ'!BN110 -> 0 | AF104: ='ป.6ไทย คณิต วิทย์ สังคม อังกฤษ'!BO110+'ป.6ไทย คณิต วิทย์ สังคม อังกฤษ'!BP110 -> 0 | AG104: ='ป.6ไทย คณิต วิทย์ สังคม อังกฤษ'!BQ110+'ป.6ไทย คณิต วิทย์ สังคม อังกฤษ'!BR110 -> 0 | AH104: =SUM(AE104:AG104) -> 0
A105: ='ป.6ไทย คณิต วิทย์ สังคม อังกฤษ'!A262 -> รวมคะแนน | B105: ='ป.6ไทย คณิต วิทย์ สังคม อังกฤษ'!B262 -> 0 | C105: ='ป.6ไทย คณิต วิทย์ สังคม อังกฤษ'!C262 -> 0 | D105: ='ป.6ไทย คณิต วิทย์ สังคม อังกฤษ'!D262 -> 0 | E105: ='ป.6ไทย คณิต วิทย์ สังคม อังกฤษ'!E262+'ป.6ไทย คณิต วิทย์ สังคม อังกฤษ'!F262+'ป.6ไทย คณิต วิทย์ สังคม อังกฤษ'!G262 -> 0 | F105: ='ป.6ไทย คณิต วิทย์ สังคม อังกฤษ'!H262+'ป.6ไทย คณิต วิทย์ สังคม อังกฤษ'!I262+'ป.6ไทย คณิต วิทย์ สังคม อังกฤษ'!J262 -> 0 | G105: ='ป.6ไทย คณิต วิทย์ สังคม อังกฤษ'!K262+'ป.6ไทย คณิต วิทย์ สังคม อังกฤษ'!L262 -> 0 | H105: ='ป.6ไทย คณิต วิทย์ สังคม อังกฤษ'!M262+'ป.6ไทย คณิต วิทย์ สังคม อังกฤษ'!N262+'ป.6ไทย คณิต วิทย์ สังคม อังกฤษ'!O262 -> 0 | I105: ='ป.6ไทย คณิต วิทย์ สังคม อังกฤษ'!P262 -> 0 | J105: =SUM(E105:I105) -> 0 | K105: ='ป.6ไทย คณิต วิทย์ สังคม อังกฤษ'!R262+'ป.6ไทย คณิต วิทย์ สังคม อังกฤษ'!S262+'ป.6ไทย คณิต วิทย์ สังคม อังกฤษ'!T262+'ป.6ไทย คณิต วิทย์ สังคม อังกฤษ'!U262 -> 0 | L105: ='ป.6ไทย คณิต วิทย์ สังคม อังกฤษ'!V262+'ป.6ไทย คณิต วิทย์ สังคม อังกฤษ'!W262+'ป.6ไทย คณิต วิทย์ สังคม อังกฤษ'!X262 -> 0 | M105: ='ป.6ไทย คณิต วิทย์ สังคม อังกฤษ'!Y262 -> 0 | N105: ='ป.6ไทย คณิต วิทย์ สังคม อังกฤษ'!Z262+'ป.6ไทย คณิต วิทย์ สังคม อังกฤษ'!AA262+'ป.6ไทย คณิต วิทย์ สังคม อังกฤษ'!AB262 -> 0 | O105: ='ป.6ไทย คณิต วิทย์ สังคม อังกฤษ'!AC262+'ป.6ไทย คณิต วิทย์ สังคม อังกฤษ'!AD262+'ป.6ไทย คณิต วิทย์ สังคม อังกฤษ'!AE262 -> 0 | P105: =SUM(K105:O105) -> 0 | Q105: ='ป.6ไทย คณิต วิทย์ สังคม อังกฤษ'!AG262+'ป.6ไทย คณิต วิทย์ สังคม อังกฤษ'!AH262 -> 0 | R105: ='ป.6ไทย คณิต วิทย์ สังคม อังกฤษ'!AI262+'ป.6ไทย คณิต วิทย์ สังคม อังกฤษ'!AJ262 -> 0 | S105: ='ป.6ไทย คณิต วิทย์ สังคม อังกฤษ'!AK262+'ป.6ไทย คณิต วิทย์ สังคม อังกฤษ'!AL262+'ป.6ไทย คณิต วิทย์ สังคม อังกฤษ'!AM262 -> 0 | T105: ='ป.6ไทย คณิต วิทย์ สังคม อังกฤษ'!AN262+'ป.6ไทย คณิต วิทย์ สังคม อังกฤษ'!AO262 -> 0 | U105: ='ป.6ไทย คณิต วิทย์ สังคม อังกฤษ'!AP262+'ป.6ไทย คณิต วิทย์ สังคม อังกฤษ'!AQ262+'ป.6ไทย คณิต วิทย์ สังคม อังกฤษ'!AR262+'ป.6ไทย คณิต วิทย์ สังคม อังกฤษ'!AS262 -> 0 | V105: ='ป.6ไทย คณิต วิทย์ สังคม อังกฤษ'!AT262+'ป.6ไทย คณิต วิทย์ สังคม อังกฤษ'!AU262+'ป.6ไทย คณิต วิทย์ สังคม อังกฤษ'!AV262 -> 0 | W105: ='ป.6ไทย คณิต วิทย์ สังคม อังกฤษ'!AW262 -> 0 | X105: =SUM(Q105:W105) -> 0 | Y105: ='ป.6ไทย คณิต วิทย์ สังคม อังกฤษ'!AY262+'ป.6ไทย คณิต วิทย์ สังคม อังกฤษ'!AZ262+'ป.6ไทย คณิต วิทย์ สังคม อังกฤษ'!BA262 -> 0 | Z105: ='ป.6ไทย คณิต วิทย์ สังคม อังกฤษ'!BB262+'ป.6ไทย คณิต วิทย์ สังคม อังกฤษ'!BC262 -> 0 | AA105: ='ป.6ไทย คณิต วิทย์ สังคม อังกฤษ'!BD262+'ป.6ไทย คณิต วิทย์ สังคม อังกฤษ'!BE262+'ป.6ไทย คณิต วิทย์ สังคม อังกฤษ'!BF262 -> 0 | AB105: ='ป.6ไทย คณิต วิทย์ สังคม อังกฤษ'!BG262+'ป.6ไทย คณิต วิทย์ สังคม อังกฤษ'!BH262 -> 0 | AC105: ='ป.6ไทย คณิต วิทย์ สังคม อังกฤษ'!BI262+'ป.6ไทย คณิต วิทย์ สังคม อังกฤษ'!BJ262 -> 0 | AD105: =SUM(Y105:AC105) -> 0 | AE105: ='ป.6ไทย คณิต วิทย์ สังคม อังกฤษ'!BL262+'ป.6ไทย คณิต วิทย์ สังคม อังกฤษ'!BM262+'ป.6ไทย คณิต วิทย์ สังคม อังกฤษ'!BN262 -> 0 | AF105: ='ป.6ไทย คณิต วิทย์ สังคม อังกฤษ'!BO262+'ป.6ไทย คณิต วิทย์ สังคม อังกฤษ'!BP262 -> 0 | AG105: ='ป.6ไทย คณิต วิทย์ สังคม อังกฤษ'!BQ262+'ป.6ไทย คณิต วิทย์ สังคม อังกฤษ'!BR262 -> 0 | AH105: =SUM(AE105:AG105) -> 0
A106: ='ป.6ไทย คณิต วิทย์ สังคม อังกฤษ'!A263 -> คิดเป็นร้อยละ | B106: ='ป.6ไทย คณิต วิทย์ สังคม อังกฤษ'!B263 -> 0 | C106: ='ป.6ไทย คณิต วิทย์ สังคม อังกฤษ'!C263 -> 0 | D106: ='ป.6ไทย คณิต วิทย์ สังคม อังกฤษ'!D263 -> 0 | E106: ='ป.6ไทย คณิต วิทย์ สังคม อังกฤษ'!E263+'ป.6ไทย คณิต วิทย์ สังคม อังกฤษ'!F263+'ป.6ไทย คณิต วิทย์ สังคม อังกฤษ'!G263 -> 0 | F106: ='ป.6ไทย คณิต วิทย์ สังคม อังกฤษ'!H263+'ป.6ไทย คณิต วิทย์ สังคม อังกฤษ'!I263+'ป.6ไทย คณิต วิทย์ สังคม อังกฤษ'!J263 -> 0 | G106: ='ป.6ไทย คณิต วิทย์ สังคม อังกฤษ'!K263+'ป.6ไทย คณิต วิทย์ สังคม อังกฤษ'!L263 -> 0 | H106: ='ป.6ไทย คณิต วิทย์ สังคม อังกฤษ'!M263+'ป.6ไทย คณิต วิทย์ สังคม อังกฤษ'!N263+'ป.6ไทย คณิต วิทย์ สังคม อังกฤษ'!O263 -> 0 | I106: ='ป.6ไทย คณิต วิทย์ สังคม อังกฤษ'!P263 -> 0 | J106: =SUM(E106:I106) -> 0 | K106: ='ป.6ไทย คณิต วิทย์ สังคม อังกฤษ'!R263+'ป.6ไทย คณิต วิทย์ สังคม อังกฤษ'!S263+'ป.6ไทย คณิต วิทย์ สังคม อังกฤษ'!T263+'ป.6ไทย คณิต วิทย์ สังคม อังกฤษ'!U263 -> 0 | L106: ='ป.6ไทย คณิต วิทย์ สังคม อังกฤษ'!V263+'ป.6ไทย คณิต วิทย์ สังคม อังกฤษ'!W263+'ป.6ไทย คณิต วิทย์ สังคม อังกฤษ'!X263 -> 0 | M106: ='ป.6ไทย คณิต วิทย์ สังคม อังกฤษ'!Y263 -> 0 | N106: ='ป.6ไทย คณิต วิทย์ สังคม อังกฤษ'!Z263+'ป.6ไทย คณิต วิทย์ สังคม อังกฤษ'!AA263+'ป.6ไทย คณิต วิทย์ สังคม อังกฤษ'!AB263 -> 0 | O106: ='ป.6ไทย คณิต วิทย์ สังคม อังกฤษ'!AC263+'ป.6ไทย คณิต วิทย์ สังคม อังกฤษ'!AD263+'ป.6ไทย คณิต วิทย์ สังคม อังกฤษ'!AE263 -> 0 | P106: =SUM(K106:O106) -> 0 | Q106: ='ป.6ไทย คณิต วิทย์ สังคม อังกฤษ'!AG263+'ป.6ไทย คณิต วิทย์ สังคม อังกฤษ'!AH263 -> 0 | R106: ='ป.6ไทย คณิต วิทย์ สังคม อังกฤษ'!AI263+'ป.6ไทย คณิต วิทย์ สังคม อังกฤษ'!AJ263 -> 0 | S106: ='ป.6ไทย คณิต วิทย์ สังคม อังกฤษ'!AK263+'ป.6ไทย คณิต วิทย์ สังคม อังกฤษ'!AL263+'ป.6ไทย คณิต วิทย์ สังคม อังกฤษ'!AM263 -> 0 | T106: ='ป.6ไทย คณิต วิทย์ สังคม อังกฤษ'!AN263+'ป.6ไทย คณิต วิทย์ สังคม อังกฤษ'!AO263 -> 0 | U106: ='ป.6ไทย คณิต วิทย์ สังคม อังกฤษ'!AP263+'ป.6ไทย คณิต วิทย์ สังคม อังกฤษ'!AQ263+'ป.6ไทย คณิต วิทย์ สังคม อังกฤษ'!AR263+'ป.6ไทย คณิต วิทย์ สังคม อังกฤษ'!AS263 -> 0 | V106: ='ป.6ไทย คณิต วิทย์ สังคม อังกฤษ'!AT263+'ป.6ไทย คณิต วิทย์ สังคม อังกฤษ'!AU263+'ป.6ไทย คณิต วิทย์ สังคม อังกฤษ'!AV263 -> 0 | W106: ='ป.6ไทย คณิต วิทย์ สังคม อังกฤษ'!AW263 -> 0 | X106: =SUM(Q106:W106) -> 0 | Y106: ='ป.6ไทย คณิต วิทย์ สังคม อังกฤษ'!AY263+'ป.6ไทย คณิต วิทย์ สังคม อังกฤษ'!AZ263+'ป.6ไทย คณิต วิทย์ สังคม อังกฤษ'!BA263 -> 0 | Z106: ='ป.6ไทย คณิต วิทย์ สังคม อังกฤษ'!BB263+'ป.6ไทย คณิต วิทย์ สังคม อังกฤษ'!BC263 -> 0 | AA106: ='ป.6ไทย คณิต วิทย์ สังคม อังกฤษ'!BD263+'ป.6ไทย คณิต วิทย์ สังคม อังกฤษ'!BE263+'ป.6ไทย คณิต วิทย์ สังคม อังกฤษ'!BF263 -> 0 | AB106: ='ป.6ไทย คณิต วิทย์ สังคม อังกฤษ'!BG263+'ป.6ไทย คณิต วิทย์ สังคม อังกฤษ'!BH263 -> 0 | AC106: ='ป.6ไทย คณิต วิทย์ สังคม อังกฤษ'!BI263+'ป.6ไทย คณิต วิทย์ สังคม อังกฤษ'!BJ263 -> 0 | AD106: =SUM(Y106:AC106) -> 0 | AE106: ='ป.6ไทย คณิต วิทย์ สังคม อังกฤษ'!BL263+'ป.6ไทย คณิต วิทย์ สังคม อังกฤษ'!BM263+'ป.6ไทย คณิต วิทย์ สังคม อังกฤษ'!BN263 -> 0 | AF106: ='ป.6ไทย คณิต วิทย์ สังคม อังกฤษ'!BO263+'ป.6ไทย คณิต วิทย์ สังคม อังกฤษ'!BP263 -> 0 | AG106: ='ป.6ไทย คณิต วิทย์ สังคม อังกฤษ'!BQ263+'ป.6ไทย คณิต วิทย์ สังคม อังกฤษ'!BR263 -> 0 | AH106: =SUM(AE106:AG106) -> 0
A107: ='ป.6ไทย คณิต วิทย์ สังคม อังกฤษ'!A264 -> 0 | B107: ='ป.6ไทย คณิต วิทย์ สังคม อังกฤษ'!B264 -> 0 | C107: ='ป.6ไทย คณิต วิทย์ สังคม อังกฤษ'!C264 -> 0 | D107: ='ป.6ไทย คณิต วิทย์ สังคม อังกฤษ'!D264 -> 0 | E107: ='ป.6ไทย คณิต วิทย์ สังคม อังกฤษ'!E264+'ป.6ไทย คณิต วิทย์ สังคม อังกฤษ'!F264+'ป.6ไทย คณิต วิทย์ สังคม อังกฤษ'!G264 -> 0 | F107: ='ป.6ไทย คณิต วิทย์ สังคม อังกฤษ'!H264+'ป.6ไทย คณิต วิทย์ สังคม อังกฤษ'!I264+'ป.6ไทย คณิต วิทย์ สังคม อังกฤษ'!J264 -> 0 | G107: ='ป.6ไทย คณิต วิทย์ สังคม อังกฤษ'!K264+'ป.6ไทย คณิต วิทย์ สังคม อังกฤษ'!L264 -> 0 | H107: ='ป.6ไทย คณิต วิทย์ สังคม อังกฤษ'!M264+'ป.6ไทย คณิต วิทย์ สังคม อังกฤษ'!N264+'ป.6ไทย คณิต วิทย์ สังคม อังกฤษ'!O264 -> 0 | I107: ='ป.6ไทย คณิต วิทย์ สังคม อังกฤษ'!P264 -> 0 | J107: =SUM(E107:I107) -> 0 | K107: ='ป.6ไทย คณิต วิทย์ สังคม อังกฤษ'!R264+'ป.6ไทย คณิต วิทย์ สังคม อังกฤษ'!S264+'ป.6ไทย คณิต วิทย์ สังคม อังกฤษ'!T264+'ป.6ไทย คณิต วิทย์ สังคม อังกฤษ'!U264 -> 0 | L107: ='ป.6ไทย คณิต วิทย์ สังคม อังกฤษ'!V264+'ป.6ไทย คณิต วิทย์ สังคม อังกฤษ'!W264+'ป.6ไทย คณิต วิทย์ สังคม อังกฤษ'!X264 -> 0 | M107: ='ป.6ไทย คณิต วิทย์ สังคม อังกฤษ'!Y264 -> 0 | N107: ='ป.6ไทย คณิต วิทย์ สังคม อังกฤษ'!Z264+'ป.6ไทย คณิต วิทย์ สังคม อังกฤษ'!AA264+'ป.6ไทย คณิต วิทย์ สังคม อังกฤษ'!AB264 -> 0 | O107: ='ป.6ไทย คณิต วิทย์ สังคม อังกฤษ'!AC264+'ป.6ไทย คณิต วิทย์ สังคม อังกฤษ'!AD264+'ป.6ไทย คณิต วิทย์ สังคม อังกฤษ'!AE264 -> 0 | P107: =SUM(K107:O107) -> 0 | Q107: ='ป.6ไทย คณิต วิทย์ สังคม อังกฤษ'!AG264+'ป.6ไทย คณิต วิทย์ สังคม อังกฤษ'!AH264 -> 0 | R107: ='ป.6ไทย คณิต วิทย์ สังคม อังกฤษ'!AI264+'ป.6ไทย คณิต วิทย์ สังคม อังกฤษ'!AJ264 -> 0 | S107: ='ป.6ไทย คณิต วิทย์ สังคม อังกฤษ'!AK264+'ป.6ไทย คณิต วิทย์ สังคม อังกฤษ'!AL264+'ป.6ไทย คณิต วิทย์ สังคม อังกฤษ'!AM264 -> 0 | T107: ='ป.6ไทย คณิต วิทย์ สังคม อังกฤษ'!AN264+'ป.6ไทย คณิต วิทย์ สังคม อังกฤษ'!AO264 -> 0 | U107: ='ป.6ไทย คณิต วิทย์ สังคม อังกฤษ'!AP264+'ป.6ไทย คณิต วิทย์ สังคม อังกฤษ'!AQ264+'ป.6ไทย คณิต วิทย์ สังคม อังกฤษ'!AR264+'ป.6ไทย คณิต วิทย์ สังคม อังกฤษ'!AS264 -> 0 | V107: ='ป.6ไทย คณิต วิทย์ สังคม อังกฤษ'!AT264+'ป.6ไทย คณิต วิทย์ สังคม อังกฤษ'!AU264+'ป.6ไทย คณิต วิทย์ สังคม อังกฤษ'!AV264 -> 0 | W107: ='ป.6ไทย คณิต วิทย์ สังคม อังกฤษ'!AW264 -> 0 | X107: =SUM(Q107:W107) -> 0 | Y107: ='ป.6ไทย คณิต วิทย์ สังคม อังกฤษ'!AY264+'ป.6ไทย คณิต วิทย์ สังคม อังกฤษ'!AZ264+'ป.6ไทย คณิต วิทย์ สังคม อังกฤษ'!BA264 -> 0 | Z107: ='ป.6ไทย คณิต วิทย์ สังคม อังกฤษ'!BB264+'ป.6ไทย คณิต วิทย์ สังคม อังกฤษ'!BC264 -> 0 | AA107: ='ป.6ไทย คณิต วิทย์ สังคม อังกฤษ'!BD264+'ป.6ไทย คณิต วิทย์ สังคม อังกฤษ'!BE264+'ป.6ไทย คณิต วิทย์ สังคม อังกฤษ'!BF264 -> 0 | AB107: ='ป.6ไทย คณิต วิทย์ สังคม อังกฤษ'!BG264+'ป.6ไทย คณิต วิทย์ สังคม อังกฤษ'!BH264 -> 0 | AC107: ='ป.6ไทย คณิต วิทย์ สังคม อังกฤษ'!BI264+'ป.6ไทย คณิต วิทย์ สังคม อังกฤษ'!BJ264 -> 0 | AD107: =SUM(Y107:AC107) -> 0 | AE107: ='ป.6ไทย คณิต วิทย์ สังคม อังกฤษ'!BL264+'ป.6ไทย คณิต วิทย์ สังคม อังกฤษ'!BM264+'ป.6ไทย คณิต วิทย์ สังคม อังกฤษ'!BN264 -> 0 | AF107: ='ป.6ไทย คณิต วิทย์ สังคม อังกฤษ'!BO264+'ป.6ไทย คณิต วิทย์ สังคม อังกฤษ'!BP264 -> 0 | AG107: ='ป.6ไทย คณิต วิทย์ สังคม อังกฤษ'!BQ264+'ป.6ไทย คณิต วิทย์ สังคม อังกฤษ'!BR264 -> 0 | AH107: =SUM(AE107:AG107) -> 0
A108: ='ป.6ไทย คณิต วิทย์ สังคม อังกฤษ'!A265 -> 0 | B108: ='ป.6ไทย คณิต วิทย์ สังคม อังกฤษ'!B265 -> 0 | C108: ='ป.6ไทย คณิต วิทย์ สังคม อังกฤษ'!C265 -> 0 | D108: ='ป.6ไทย คณิต วิทย์ สังคม อังกฤษ'!D265 -> 0 | E108: ='ป.6ไทย คณิต วิทย์ สังคม อังกฤษ'!E265+'ป.6ไทย คณิต วิทย์ สังคม อังกฤษ'!F265+'ป.6ไทย คณิต วิทย์ สังคม อังกฤษ'!G265 -> 0 | F108: ='ป.6ไทย คณิต วิทย์ สังคม อังกฤษ'!H265+'ป.6ไทย คณิต วิทย์ สังคม อังกฤษ'!I265+'ป.6ไทย คณิต วิทย์ สังคม อังกฤษ'!J265 -> 0 | G108: ='ป.6ไทย คณิต วิทย์ สังคม อังกฤษ'!K265+'ป.6ไทย คณิต วิทย์ สังคม อังกฤษ'!L265 -> 0 | H108: ='ป.6ไทย คณิต วิทย์ สังคม อังกฤษ'!M265+'ป.6ไทย คณิต วิทย์ สังคม อังกฤษ'!N265+'ป.6ไทย คณิต วิทย์ สังคม อังกฤษ'!O265 -> 0 | I108: ='ป.6ไทย คณิต วิทย์ สังคม อังกฤษ'!P265 -> 0 | J108: =SUM(E108:I108) -> 0 | K108: ='ป.6ไทย คณิต วิทย์ สังคม อังกฤษ'!R265+'ป.6ไทย คณิต วิทย์ สังคม อังกฤษ'!S265+'ป.6ไทย คณิต วิทย์ สังคม อังกฤษ'!T265+'ป.6ไทย คณิต วิทย์ สังคม อังกฤษ'!U265 -> 0 | L108: ='ป.6ไทย คณิต วิทย์ สังคม อังกฤษ'!V265+'ป.6ไทย คณิต วิทย์ สังคม อังกฤษ'!W265+'ป.6ไทย คณิต วิทย์ สังคม อังกฤษ'!X265 -> 0 | M108: ='ป.6ไทย คณิต วิทย์ สังคม อังกฤษ'!Y265 -> 0 | N108: ='ป.6ไทย คณิต วิทย์ สังคม อังกฤษ'!Z265+'ป.6ไทย คณิต วิทย์ สังคม อังกฤษ'!AA265+'ป.6ไทย คณิต วิทย์ สังคม อังกฤษ'!AB265 -> 0 | O108: ='ป.6ไทย คณิต วิทย์ สังคม อังกฤษ'!AC265+'ป.6ไทย คณิต วิทย์ สังคม อังกฤษ'!AD265+'ป.6ไทย คณิต วิทย์ สังคม อังกฤษ'!AE265 -> 0 | P108: =SUM(K108:O108) -> 0 | Q108: ='ป.6ไทย คณิต วิทย์ สังคม อังกฤษ'!AG265+'ป.6ไทย คณิต วิทย์ สังคม อังกฤษ'!AH265 -> 0 | R108: ='ป.6ไทย คณิต วิทย์ สังคม อังกฤษ'!AI265+'ป.6ไทย คณิต วิทย์ สังคม อังกฤษ'!AJ265 -> 0 | S108: ='ป.6ไทย คณิต วิทย์ สังคม อังกฤษ'!AK265+'ป.6ไทย คณิต วิทย์ สังคม อังกฤษ'!AL265+'ป.6ไทย คณิต วิทย์ สังคม อังกฤษ'!AM265 -> 0 | T108: ='ป.6ไทย คณิต วิทย์ สังคม อังกฤษ'!AN265+'ป.6ไทย คณิต วิทย์ สังคม อังกฤษ'!AO265 -> 0 | U108: ='ป.6ไทย คณิต วิทย์ สังคม อังกฤษ'!AP265+'ป.6ไทย คณิต วิทย์ สังคม อังกฤษ'!AQ265+'ป.6ไทย คณิต วิทย์ สังคม อังกฤษ'!AR265+'ป.6ไทย คณิต วิทย์ สังคม อังกฤษ'!AS265 -> 0 | V108: ='ป.6ไทย คณิต วิทย์ สังคม อังกฤษ'!AT265+'ป.6ไทย คณิต วิทย์ สังคม อังกฤษ'!AU265+'ป.6ไทย คณิต วิทย์ สังคม อังกฤษ'!AV265 -> 0 | W108: ='ป.6ไทย คณิต วิทย์ สังคม อังกฤษ'!AW265 -> 0 | X108: =SUM(Q108:W108) -> 0 | Y108: ='ป.6ไทย คณิต วิทย์ สังคม อังกฤษ'!AY265+'ป.6ไทย คณิต วิทย์ สังคม อังกฤษ'!AZ265+'ป.6ไทย คณิต วิทย์ สังคม อังกฤษ'!BA265 -> 0 | Z108: ='ป.6ไทย คณิต วิทย์ สังคม อังกฤษ'!BB265+'ป.6ไทย คณิต วิทย์ สังคม อังกฤษ'!BC265 -> 0 | AA108: ='ป.6ไทย คณิต วิทย์ สังคม อังกฤษ'!BD265+'ป.6ไทย คณิต วิทย์ สังคม อังกฤษ'!BE265+'ป.6ไทย คณิต วิทย์ สังคม อังกฤษ'!BF265 -> 0 | AB108: ='ป.6ไทย คณิต วิทย์ สังคม อังกฤษ'!BG265+'ป.6ไทย คณิต วิทย์ สังคม อังกฤษ'!BH265 -> 0 | AC108: ='ป.6ไทย คณิต วิทย์ สังคม อังกฤษ'!BI265+'ป.6ไทย คณิต วิทย์ สังคม อังกฤษ'!BJ265 -> 0 | AD108: =SUM(Y108:AC108) -> 0 | AE108: ='ป.6ไทย คณิต วิทย์ สังคม อังกฤษ'!BL265+'ป.6ไทย คณิต วิทย์ สังคม อังกฤษ'!BM265+'ป.6ไทย คณิต วิทย์ สังคม อังกฤษ'!BN265 -> 0 | AF108: ='ป.6ไทย คณิต วิทย์ สังคม อังกฤษ'!BO265+'ป.6ไทย คณิต วิทย์ สังคม อังกฤษ'!BP265 -> 0 | AG108: ='ป.6ไทย คณิต วิทย์ สังคม อังกฤษ'!BQ265+'ป.6ไทย คณิต วิทย์ สังคม อังกฤษ'!BR265 -> 0 | AH108: =SUM(AE108:AG108) -> 0
A109: ='ป.6ไทย คณิต วิทย์ สังคม อังกฤษ'!A266 -> 0 | B109: ='ป.6ไทย คณิต วิทย์ สังคม อังกฤษ'!B266 -> 0 | C109: ='ป.6ไทย คณิต วิทย์ สังคม อังกฤษ'!C266 -> 0 | D109: ='ป.6ไทย คณิต วิทย์ สังคม อังกฤษ'!D266 -> 0 | E109: ='ป.6ไทย คณิต วิทย์ สังคม อังกฤษ'!E266+'ป.6ไทย คณิต วิทย์ สังคม อังกฤษ'!F266+'ป.6ไทย คณิต วิทย์ สังคม อังกฤษ'!G266 -> 0 | F109: ='ป.6ไทย คณิต วิทย์ สังคม อังกฤษ'!H266+'ป.6ไทย คณิต วิทย์ สังคม อังกฤษ'!I266+'ป.6ไทย คณิต วิทย์ สังคม อังกฤษ'!J266 -> 0 | G109: ='ป.6ไทย คณิต วิทย์ สังคม อังกฤษ'!K266+'ป.6ไทย คณิต วิทย์ สังคม อังกฤษ'!L266 -> 0 | H109: ='ป.6ไทย คณิต วิทย์ สังคม อังกฤษ'!M266+'ป.6ไทย คณิต วิทย์ สังคม อังกฤษ'!N266+'ป.6ไทย คณิต วิทย์ สังคม อังกฤษ'!O266 -> 0 | I109: ='ป.6ไทย คณิต วิทย์ สังคม อังกฤษ'!P266 -> 0 | J109: =SUM(E109:I109) -> 0 | K109: ='ป.6ไทย คณิต วิทย์ สังคม อังกฤษ'!R266+'ป.6ไทย คณิต วิทย์ สังคม อังกฤษ'!S266+'ป.6ไทย คณิต วิทย์ สังคม อังกฤษ'!T266+'ป.6ไทย คณิต วิทย์ สังคม อังกฤษ'!U266 -> 0 | L109: ='ป.6ไทย คณิต วิทย์ สังคม อังกฤษ'!V266+'ป.6ไทย คณิต วิทย์ สังคม อังกฤษ'!W266+'ป.6ไทย คณิต วิทย์ สังคม อังกฤษ'!X266 -> 0 | M109: ='ป.6ไทย คณิต วิทย์ สังคม อังกฤษ'!Y266 -> 0 | N109: ='ป.6ไทย คณิต วิทย์ สังคม อังกฤษ'!Z266+'ป.6ไทย คณิต วิทย์ สังคม อังกฤษ'!AA266+'ป.6ไทย คณิต วิทย์ สังคม อังกฤษ'!AB266 -> 0 | O109: ='ป.6ไทย คณิต วิทย์ สังคม อังกฤษ'!AC266+'ป.6ไทย คณิต วิทย์ สังคม อังกฤษ'!AD266+'ป.6ไทย คณิต วิทย์ สังคม อังกฤษ'!AE266 -> 0 | P109: =SUM(K109:O109) -> 0 | Q109: ='ป.6ไทย คณิต วิทย์ สังคม อังกฤษ'!AG266+'ป.6ไทย คณิต วิทย์ สังคม อังกฤษ'!AH266 -> 0 | R109: ='ป.6ไทย คณิต วิทย์ สังคม อังกฤษ'!AI266+'ป.6ไทย คณิต วิทย์ สังคม อังกฤษ'!AJ266 -> 0 | S109: ='ป.6ไทย คณิต วิทย์ สังคม อังกฤษ'!AK266+'ป.6ไทย คณิต วิทย์ สังคม อังกฤษ'!AL266+'ป.6ไทย คณิต วิทย์ สังคม อังกฤษ'!AM266 -> 0 | T109: ='ป.6ไทย คณิต วิทย์ สังคม อังกฤษ'!AN266+'ป.6ไทย คณิต วิทย์ สังคม อังกฤษ'!AO266 -> 0 | U109: ='ป.6ไทย คณิต วิทย์ สังคม อังกฤษ'!AP266+'ป.6ไทย คณิต วิทย์ สังคม อังกฤษ'!AQ266+'ป.6ไทย คณิต วิทย์ สังคม อังกฤษ'!AR266+'ป.6ไทย คณิต วิทย์ สังคม อังกฤษ'!AS266 -> 0 | V109: ='ป.6ไทย คณิต วิทย์ สังคม อังกฤษ'!AT266+'ป.6ไทย คณิต วิทย์ สังคม อังกฤษ'!AU266+'ป.6ไทย คณิต วิทย์ สังคม อังกฤษ'!AV266 -> 0 | W109: ='ป.6ไทย คณิต วิทย์ สังคม อังกฤษ'!AW266 -> 0 | X109: =SUM(Q109:W109) -> 0 | Y109: ='ป.6ไทย คณิต วิทย์ สังคม อังกฤษ'!AY266+'ป.6ไทย คณิต วิทย์ สังคม อังกฤษ'!AZ266+'ป.6ไทย คณิต วิทย์ สังคม อังกฤษ'!BA266 -> 0 | Z109: ='ป.6ไทย คณิต วิทย์ สังคม อังกฤษ'!BB266+'ป.6ไทย คณิต วิทย์ สังคม อังกฤษ'!BC266 -> 0 | AA109: ='ป.6ไทย คณิต วิทย์ สังคม อังกฤษ'!BD266+'ป.6ไทย คณิต วิทย์ สังคม อังกฤษ'!BE266+'ป.6ไทย คณิต วิทย์ สังคม อังกฤษ'!BF266 -> 0 | AB109: ='ป.6ไทย คณิต วิทย์ สังคม อังกฤษ'!BG266+'ป.6ไทย คณิต วิทย์ สังคม อังกฤษ'!BH266 -> 0 | AC109: ='ป.6ไทย คณิต วิทย์ สังคม อังกฤษ'!BI266+'ป.6ไทย คณิต วิทย์ สังคม อังกฤษ'!BJ266 -> 0 | AD109: =SUM(Y109:AC109) -> 0 | AE109: ='ป.6ไทย คณิต วิทย์ สังคม อังกฤษ'!BL266+'ป.6ไทย คณิต วิทย์ สังคม อังกฤษ'!BM266+'ป.6ไทย คณิต วิทย์ สังคม อังกฤษ'!BN266 -> 0 | AF109: ='ป.6ไทย คณิต วิทย์ สังคม อังกฤษ'!BO266+'ป.6ไทย คณิต วิทย์ สังคม อังกฤษ'!BP266 -> 0 | AG109: ='ป.6ไทย คณิต วิทย์ สังคม อังกฤษ'!BQ266+'ป.6ไทย คณิต วิทย์ สังคม อังกฤษ'!BR266 -> 0 | AH109: =SUM(AE109:AG109) -> 0
A110: ='ป.6ไทย คณิต วิทย์ สังคม อังกฤษ'!A267 -> 0 | B110: ='ป.6ไทย คณิต วิทย์ สังคม อังกฤษ'!B267 -> 0 | C110: ='ป.6ไทย คณิต วิทย์ สังคม อังกฤษ'!C267 -> 0 | D110: ='ป.6ไทย คณิต วิทย์ สังคม อังกฤษ'!D267 -> 0 | E110: ='ป.6ไทย คณิต วิทย์ สังคม อังกฤษ'!E267+'ป.6ไทย คณิต วิทย์ สังคม อังกฤษ'!F267+'ป.6ไทย คณิต วิทย์ สังคม อังกฤษ'!G267 -> 0 | F110: ='ป.6ไทย คณิต วิทย์ สังคม อังกฤษ'!H267+'ป.6ไทย คณิต วิทย์ สังคม อังกฤษ'!I267+'ป.6ไทย คณิต วิทย์ สังคม อังกฤษ'!J267 -> 0 | G110: ='ป.6ไทย คณิต วิทย์ สังคม อังกฤษ'!K267+'ป.6ไทย คณิต วิทย์ สังคม อังกฤษ'!L267 -> 0 | H110: ='ป.6ไทย คณิต วิทย์ สังคม อังกฤษ'!M267+'ป.6ไทย คณิต วิทย์ สังคม อังกฤษ'!N267+'ป.6ไทย คณิต วิทย์ สังคม อังกฤษ'!O267 -> 0 | I110: ='ป.6ไทย คณิต วิทย์ สังคม อังกฤษ'!P267 -> 0 | J110: =SUM(E110:I110) -> 0 | K110: ='ป.6ไทย คณิต วิทย์ สังคม อังกฤษ'!R267+'ป.6ไทย คณิต วิทย์ สังคม อังกฤษ'!S267+'ป.6ไทย คณิต วิทย์ สังคม อังกฤษ'!T267+'ป.6ไทย คณิต วิทย์ สังคม อังกฤษ'!U267 -> 0 | L110: ='ป.6ไทย คณิต วิทย์ สังคม อังกฤษ'!V267+'ป.6ไทย คณิต วิทย์ สังคม อังกฤษ'!W267+'ป.6ไทย คณิต วิทย์ สังคม อังกฤษ'!X267 -> 0 | M110: ='ป.6ไทย คณิต วิทย์ สังคม อังกฤษ'!Y267 -> 0 | N110: ='ป.6ไทย คณิต วิทย์ สังคม อังกฤษ'!Z267+'ป.6ไทย คณิต วิทย์ สังคม อังกฤษ'!AA267+'ป.6ไทย คณิต วิทย์ สังคม อังกฤษ'!AB267 -> 0 | O110: ='ป.6ไทย คณิต วิทย์ สังคม อังกฤษ'!AC267+'ป.6ไทย คณิต วิทย์ สังคม อังกฤษ'!AD267+'ป.6ไทย คณิต วิทย์ สังคม อังกฤษ'!AE267 -> 0 | P110: =SUM(K110:O110) -> 0 | Q110: ='ป.6ไทย คณิต วิทย์ สังคม อังกฤษ'!AG267+'ป.6ไทย คณิต วิทย์ สังคม อังกฤษ'!AH267 -> 0 | R110: ='ป.6ไทย คณิต วิทย์ สังคม อังกฤษ'!AI267+'ป.6ไทย คณิต วิทย์ สังคม อังกฤษ'!AJ267 -> 0 | S110: ='ป.6ไทย คณิต วิทย์ สังคม อังกฤษ'!AK267+'ป.6ไทย คณิต วิทย์ สังคม อังกฤษ'!AL267+'ป.6ไทย คณิต วิทย์ สังคม อังกฤษ'!AM267 -> 0 | T110: ='ป.6ไทย คณิต วิทย์ สังคม อังกฤษ'!AN267+'ป.6ไทย คณิต วิทย์ สังคม อังกฤษ'!AO267 -> 0 | U110: ='ป.6ไทย คณิต วิทย์ สังคม อังกฤษ'!AP267+'ป.6ไทย คณิต วิทย์ สังคม อังกฤษ'!AQ267+'ป.6ไทย คณิต วิทย์ สังคม อังกฤษ'!AR267+'ป.6ไทย คณิต วิทย์ สังคม อังกฤษ'!AS267 -> 0 | V110: ='ป.6ไทย คณิต วิทย์ สังคม อังกฤษ'!AT267+'ป.6ไทย คณิต วิทย์ สังคม อังกฤษ'!AU267+'ป.6ไทย คณิต วิทย์ สังคม อังกฤษ'!AV267 -> 0 | W110: ='ป.6ไทย คณิต วิทย์ สังคม อังกฤษ'!AW267 -> 0 | X110: =SUM(Q110:W110) -> 0 | Y110: ='ป.6ไทย คณิต วิทย์ สังคม อังกฤษ'!AY267+'ป.6ไทย คณิต วิทย์ สังคม อังกฤษ'!AZ267+'ป.6ไทย คณิต วิทย์ สังคม อังกฤษ'!BA267 -> 0 | Z110: ='ป.6ไทย คณิต วิทย์ สังคม อังกฤษ'!BB267+'ป.6ไทย คณิต วิทย์ สังคม อังกฤษ'!BC267 -> 0 | AA110: ='ป.6ไทย คณิต วิทย์ สังคม อังกฤษ'!BD267+'ป.6ไทย คณิต วิทย์ สังคม อังกฤษ'!BE267+'ป.6ไทย คณิต วิทย์ สังคม อังกฤษ'!BF267 -> 0 | AB110: ='ป.6ไทย คณิต วิทย์ สังคม อังกฤษ'!BG267+'ป.6ไทย คณิต วิทย์ สังคม อังกฤษ'!BH267 -> 0 | AC110: ='ป.6ไทย คณิต วิทย์ สังคม อังกฤษ'!BI267+'ป.6ไทย คณิต วิทย์ สังคม อังกฤษ'!BJ267 -> 0 | AD110: =SUM(Y110:AC110) -> 0 | AE110: ='ป.6ไทย คณิต วิทย์ สังคม อังกฤษ'!BL267+'ป.6ไทย คณิต วิทย์ สังคม อังกฤษ'!BM267+'ป.6ไทย คณิต วิทย์ สังคม อังกฤษ'!BN267 -> 0 | AF110: ='ป.6ไทย คณิต วิทย์ สังคม อังกฤษ'!BO267+'ป.6ไทย คณิต วิทย์ สังคม อังกฤษ'!BP267 -> 0 | AG110: ='ป.6ไทย คณิต วิทย์ สังคม อังกฤษ'!BQ267+'ป.6ไทย คณิต วิทย์ สังคม อังกฤษ'!BR267 -> 0 | AH110: =SUM(AE110:AG110) -> 0
A111: ='ป.6ไทย คณิต วิทย์ สังคม อังกฤษ'!A268 -> 0 | B111: ='ป.6ไทย คณิต วิทย์ สังคม อังกฤษ'!B268 -> 0 | C111: ='ป.6ไทย คณิต วิทย์ สังคม อังกฤษ'!C268 -> 0 | D111: ='ป.6ไทย คณิต วิทย์ สังคม อังกฤษ'!D268 -> 0 | E111: ='ป.6ไทย คณิต วิทย์ สังคม อังกฤษ'!E268+'ป.6ไทย คณิต วิทย์ สังคม อังกฤษ'!F268+'ป.6ไทย คณิต วิทย์ สังคม อังกฤษ'!G268 -> 0 | F111: ='ป.6ไทย คณิต วิทย์ สังคม อังกฤษ'!H268+'ป.6ไทย คณิต วิทย์ สังคม อังกฤษ'!I268+'ป.6ไทย คณิต วิทย์ สังคม อังกฤษ'!J268 -> 0 | G111: ='ป.6ไทย คณิต วิทย์ สังคม อังกฤษ'!K268+'ป.6ไทย คณิต วิทย์ สังคม อังกฤษ'!L268 -> 0 | H111: ='ป.6ไทย คณิต วิทย์ สังคม อังกฤษ'!M268+'ป.6ไทย คณิต วิทย์ สังคม อังกฤษ'!N268+'ป.6ไทย คณิต วิทย์ สังคม อังกฤษ'!O268 -> 0 | I111: ='ป.6ไทย คณิต วิทย์ สังคม อังกฤษ'!P268 -> 0 | J111: =SUM(E111:I111) -> 0 | K111: ='ป.6ไทย คณิต วิทย์ สังคม อังกฤษ'!R268+'ป.6ไทย คณิต วิทย์ สังคม อังกฤษ'!S268+'ป.6ไทย คณิต วิทย์ สังคม อังกฤษ'!T268+'ป.6ไทย คณิต วิทย์ สังคม อังกฤษ'!U268 -> 0 | L111: ='ป.6ไทย คณิต วิทย์ สังคม อังกฤษ'!V268+'ป.6ไทย คณิต วิทย์ สังคม อังกฤษ'!W268+'ป.6ไทย คณิต วิทย์ สังคม อังกฤษ'!X268 -> 0 | M111: ='ป.6ไทย คณิต วิทย์ สังคม อังกฤษ'!Y268 -> 0 | N111: ='ป.6ไทย คณิต วิทย์ สังคม อังกฤษ'!Z268+'ป.6ไทย คณิต วิทย์ สังคม อังกฤษ'!AA268+'ป.6ไทย คณิต วิทย์ สังคม อังกฤษ'!AB268 -> 0 | O111: ='ป.6ไทย คณิต วิทย์ สังคม อังกฤษ'!AC268+'ป.6ไทย คณิต วิทย์ สังคม อังกฤษ'!AD268+'ป.6ไทย คณิต วิทย์ สังคม อังกฤษ'!AE268 -> 0 | P111: =SUM(K111:O111) -> 0 | Q111: ='ป.6ไทย คณิต วิทย์ สังคม อังกฤษ'!AG268+'ป.6ไทย คณิต วิทย์ สังคม อังกฤษ'!AH268 -> 0 | R111: ='ป.6ไทย คณิต วิทย์ สังคม อังกฤษ'!AI268+'ป.6ไทย คณิต วิทย์ สังคม อังกฤษ'!AJ268 -> 0 | S111: ='ป.6ไทย คณิต วิทย์ สังคม อังกฤษ'!AK268+'ป.6ไทย คณิต วิทย์ สังคม อังกฤษ'!AL268+'ป.6ไทย คณิต วิทย์ สังคม อังกฤษ'!AM268 -> 0 | T111: ='ป.6ไทย คณิต วิทย์ สังคม อังกฤษ'!AN268+'ป.6ไทย คณิต วิทย์ สังคม อังกฤษ'!AO268 -> 0 | U111: ='ป.6ไทย คณิต วิทย์ สังคม อังกฤษ'!AP268+'ป.6ไทย คณิต วิทย์ สังคม อังกฤษ'!AQ268+'ป.6ไทย คณิต วิทย์ สังคม อังกฤษ'!AR268+'ป.6ไทย คณิต วิทย์ สังคม อังกฤษ'!AS268 -> 0 | V111: ='ป.6ไทย คณิต วิทย์ สังคม อังกฤษ'!AT268+'ป.6ไทย คณิต วิทย์ สังคม อังกฤษ'!AU268+'ป.6ไทย คณิต วิทย์ สังคม อังกฤษ'!AV268 -> 0 | W111: ='ป.6ไทย คณิต วิทย์ สังคม อังกฤษ'!AW268 -> 0 | X111: =SUM(Q111:W111) -> 0 | Y111: ='ป.6ไทย คณิต วิทย์ สังคม อังกฤษ'!AY268+'ป.6ไทย คณิต วิทย์ สังคม อังกฤษ'!AZ268+'ป.6ไทย คณิต วิทย์ สังคม อังกฤษ'!BA268 -> 0 | Z111: ='ป.6ไทย คณิต วิทย์ สังคม อังกฤษ'!BB268+'ป.6ไทย คณิต วิทย์ สังคม อังกฤษ'!BC268 -> 0 | AA111: ='ป.6ไทย คณิต วิทย์ สังคม อังกฤษ'!BD268+'ป.6ไทย คณิต วิทย์ สังคม อังกฤษ'!BE268+'ป.6ไทย คณิต วิทย์ สังคม อังกฤษ'!BF268 -> 0 | AB111: ='ป.6ไทย คณิต วิทย์ สังคม อังกฤษ'!BG268+'ป.6ไทย คณิต วิทย์ สังคม อังกฤษ'!BH268 -> 0 | AC111: ='ป.6ไทย คณิต วิทย์ สังคม อังกฤษ'!BI268+'ป.6ไทย คณิต วิทย์ สังคม อังกฤษ'!BJ268 -> 0 | AD111: =SUM(Y111:AC111) -> 0 | AE111: ='ป.6ไทย คณิต วิทย์ สังคม อังกฤษ'!BL268+'ป.6ไทย คณิต วิทย์ สังคม อังกฤษ'!BM268+'ป.6ไทย คณิต วิทย์ สังคม อังกฤษ'!BN268 -> 0 | AF111: ='ป.6ไทย คณิต วิทย์ สังคม อังกฤษ'!BO268+'ป.6ไทย คณิต วิทย์ สังคม อังกฤษ'!BP268 -> 0 | AG111: ='ป.6ไทย คณิต วิทย์ สังคม อังกฤษ'!BQ268+'ป.6ไทย คณิต วิทย์ สังคม อังกฤษ'!BR268 -> 0 | AH111: =SUM(AE111:AG111) -> 0
A112: ='ป.6ไทย คณิต วิทย์ สังคม อังกฤษ'!A269 -> 0 | B112: ='ป.6ไทย คณิต วิทย์ สังคม อังกฤษ'!B269 -> 0 | C112: ='ป.6ไทย คณิต วิทย์ สังคม อังกฤษ'!C269 -> 0 | D112: ='ป.6ไทย คณิต วิทย์ สังคม อังกฤษ'!D269 -> 0 | E112: ='ป.6ไทย คณิต วิทย์ สังคม อังกฤษ'!E269+'ป.6ไทย คณิต วิทย์ สังคม อังกฤษ'!F269+'ป.6ไทย คณิต วิทย์ สังคม อังกฤษ'!G269 -> 0 | F112: ='ป.6ไทย คณิต วิทย์ สังคม อังกฤษ'!H269+'ป.6ไทย คณิต วิทย์ สังคม อังกฤษ'!I269+'ป.6ไทย คณิต วิทย์ สังคม อังกฤษ'!J269 -> 0 | G112: ='ป.6ไทย คณิต วิทย์ สังคม อังกฤษ'!K269+'ป.6ไทย คณิต วิทย์ สังคม อังกฤษ'!L269 -> 0 | H112: ='ป.6ไทย คณิต วิทย์ สังคม อังกฤษ'!M269+'ป.6ไทย คณิต วิทย์ สังคม อังกฤษ'!N269+'ป.6ไทย คณิต วิทย์ สังคม อังกฤษ'!O269 -> 0 | I112: ='ป.6ไทย คณิต วิทย์ สังคม อังกฤษ'!P269 -> 0 | J112: =SUM(E112:I112) -> 0 | K112: ='ป.6ไทย คณิต วิทย์ สังคม อังกฤษ'!R269+'ป.6ไทย คณิต วิทย์ สังคม อังกฤษ'!S269+'ป.6ไทย คณิต วิทย์ สังคม อังกฤษ'!T269+'ป.6ไทย คณิต วิทย์ สังคม อังกฤษ'!U269 -> 0 | L112: ='ป.6ไทย คณิต วิทย์ สังคม อังกฤษ'!V269+'ป.6ไทย คณิต วิทย์ สังคม อังกฤษ'!W269+'ป.6ไทย คณิต วิทย์ สังคม อังกฤษ'!X269 -> 0 | M112: ='ป.6ไทย คณิต วิทย์ สังคม อังกฤษ'!Y269 -> 0 | N112: ='ป.6ไทย คณิต วิทย์ สังคม อังกฤษ'!Z269+'ป.6ไทย คณิต วิทย์ สังคม อังกฤษ'!AA269+'ป.6ไทย คณิต วิทย์ สังคม อังกฤษ'!AB269 -> 0 | O112: ='ป.6ไทย คณิต วิทย์ สังคม อังกฤษ'!AC269+'ป.6ไทย คณิต วิทย์ สังคม อังกฤษ'!AD269+'ป.6ไทย คณิต วิทย์ สังคม อังกฤษ'!AE269 -> 0 | P112: =SUM(K112:O112) -> 0 | Q112: ='ป.6ไทย คณิต วิทย์ สังคม อังกฤษ'!AG269+'ป.6ไทย คณิต วิทย์ สังคม อังกฤษ'!AH269 -> 0 | R112: ='ป.6ไทย คณิต วิทย์ สังคม อังกฤษ'!AI269+'ป.6ไทย คณิต วิทย์ สังคม อังกฤษ'!AJ269 -> 0 | S112: ='ป.6ไทย คณิต วิทย์ สังคม อังกฤษ'!AK269+'ป.6ไทย คณิต วิทย์ สังคม อังกฤษ'!AL269+'ป.6ไทย คณิต วิทย์ สังคม อังกฤษ'!AM269 -> 0 | T112: ='ป.6ไทย คณิต วิทย์ สังคม อังกฤษ'!AN269+'ป.6ไทย คณิต วิทย์ สังคม อังกฤษ'!AO269 -> 0 | U112: ='ป.6ไทย คณิต วิทย์ สังคม อังกฤษ'!AP269+'ป.6ไทย คณิต วิทย์ สังคม อังกฤษ'!AQ269+'ป.6ไทย คณิต วิทย์ สังคม อังกฤษ'!AR269+'ป.6ไทย คณิต วิทย์ สังคม อังกฤษ'!AS269 -> 0 | V112: ='ป.6ไทย คณิต วิทย์ สังคม อังกฤษ'!AT269+'ป.6ไทย คณิต วิทย์ สังคม อังกฤษ'!AU269+'ป.6ไทย คณิต วิทย์ สังคม อังกฤษ'!AV269 -> 0 | W112: ='ป.6ไทย คณิต วิทย์ สังคม อังกฤษ'!AW269 -> 0 | X112: =SUM(Q112:W112) -> 0 | Y112: ='ป.6ไทย คณิต วิทย์ สังคม อังกฤษ'!AY269+'ป.6ไทย คณิต วิทย์ สังคม อังกฤษ'!AZ269+'ป.6ไทย คณิต วิทย์ สังคม อังกฤษ'!BA269 -> 0 | Z112: ='ป.6ไทย คณิต วิทย์ สังคม อังกฤษ'!BB269+'ป.6ไทย คณิต วิทย์ สังคม อังกฤษ'!BC269 -> 0 | AA112: ='ป.6ไทย คณิต วิทย์ สังคม อังกฤษ'!BD269+'ป.6ไทย คณิต วิทย์ สังคม อังกฤษ'!BE269+'ป.6ไทย คณิต วิทย์ สังคม อังกฤษ'!BF269 -> 0 | AB112: ='ป.6ไทย คณิต วิทย์ สังคม อังกฤษ'!BG269+'ป.6ไทย คณิต วิทย์ สังคม อังกฤษ'!BH269 -> 0 | AC112: ='ป.6ไทย คณิต วิทย์ สังคม อังกฤษ'!BI269+'ป.6ไทย คณิต วิทย์ สังคม อังกฤษ'!BJ269 -> 0 | AD112: =SUM(Y112:AC112) -> 0 | AE112: ='ป.6ไทย คณิต วิทย์ สังคม อังกฤษ'!BL269+'ป.6ไทย คณิต วิทย์ สังคม อังกฤษ'!BM269+'ป.6ไทย คณิต วิทย์ สังคม อังกฤษ'!BN269 -> 0 | AF112: ='ป.6ไทย คณิต วิทย์ สังคม อังกฤษ'!BO269+'ป.6ไทย คณิต วิทย์ สังคม อังกฤษ'!BP269 -> 0 | AG112: ='ป.6ไทย คณิต วิทย์ สังคม อังกฤษ'!BQ269+'ป.6ไทย คณิต วิทย์ สังคม อังกฤษ'!BR269 -> 0 | AH112: =SUM(AE112:AG112) -> 0
A113: ='ป.6ไทย คณิต วิทย์ สังคม อังกฤษ'!A270 -> 0 | B113: ='ป.6ไทย คณิต วิทย์ สังคม อังกฤษ'!B270 -> 0 | C113: ='ป.6ไทย คณิต วิทย์ สังคม อังกฤษ'!C270 -> 0 | D113: ='ป.6ไทย คณิต วิทย์ สังคม อังกฤษ'!D270 -> 0 | E113: ='ป.6ไทย คณิต วิทย์ สังคม อังกฤษ'!E270+'ป.6ไทย คณิต วิทย์ สังคม อังกฤษ'!F270+'ป.6ไทย คณิต วิทย์ สังคม อังกฤษ'!G270 -> 0 | F113: ='ป.6ไทย คณิต วิทย์ สังคม อังกฤษ'!H270+'ป.6ไทย คณิต วิทย์ สังคม อังกฤษ'!I270+'ป.6ไทย คณิต วิทย์ สังคม อังกฤษ'!J270 -> 0 | G113: ='ป.6ไทย คณิต วิทย์ สังคม อังกฤษ'!K270+'ป.6ไทย คณิต วิทย์ สังคม อังกฤษ'!L270 -> 0 | H113: ='ป.6ไทย คณิต วิทย์ สังคม อังกฤษ'!M270+'ป.6ไทย คณิต วิทย์ สังคม อังกฤษ'!N270+'ป.6ไทย คณิต วิทย์ สังคม อังกฤษ'!O270 -> 0 | I113: ='ป.6ไทย คณิต วิทย์ สังคม อังกฤษ'!P270 -> 0 | J113: =SUM(E113:I113) -> 0 | K113: ='ป.6ไทย คณิต วิทย์ สังคม อังกฤษ'!R270+'ป.6ไทย คณิต วิทย์ สังคม อังกฤษ'!S270+'ป.6ไทย คณิต วิทย์ สังคม อังกฤษ'!T270+'ป.6ไทย คณิต วิทย์ สังคม อังกฤษ'!U270 -> 0 | L113: ='ป.6ไทย คณิต วิทย์ สังคม อังกฤษ'!V270+'ป.6ไทย คณิต วิทย์ สังคม อังกฤษ'!W270+'ป.6ไทย คณิต วิทย์ สังคม อังกฤษ'!X270 -> 0 | M113: ='ป.6ไทย คณิต วิทย์ สังคม อังกฤษ'!Y270 -> 0 | N113: ='ป.6ไทย คณิต วิทย์ สังคม อังกฤษ'!Z270+'ป.6ไทย คณิต วิทย์ สังคม อังกฤษ'!AA270+'ป.6ไทย คณิต วิทย์ สังคม อังกฤษ'!AB270 -> 0 | O113: ='ป.6ไทย คณิต วิทย์ สังคม อังกฤษ'!AC270+'ป.6ไทย คณิต วิทย์ สังคม อังกฤษ'!AD270+'ป.6ไทย คณิต วิทย์ สังคม อังกฤษ'!AE270 -> 0 | P113: =SUM(K113:O113) -> 0 | Q113: ='ป.6ไทย คณิต วิทย์ สังคม อังกฤษ'!AG270+'ป.6ไทย คณิต วิทย์ สังคม อังกฤษ'!AH270 -> 0 | R113: ='ป.6ไทย คณิต วิทย์ สังคม อังกฤษ'!AI270+'ป.6ไทย คณิต วิทย์ สังคม อังกฤษ'!AJ270 -> 0 | S113: ='ป.6ไทย คณิต วิทย์ สังคม อังกฤษ'!AK270+'ป.6ไทย คณิต วิทย์ สังคม อังกฤษ'!AL270+'ป.6ไทย คณิต วิทย์ สังคม อังกฤษ'!AM270 -> 0 | T113: ='ป.6ไทย คณิต วิทย์ สังคม อังกฤษ'!AN270+'ป.6ไทย คณิต วิทย์ สังคม อังกฤษ'!AO270 -> 0 | U113: ='ป.6ไทย คณิต วิทย์ สังคม อังกฤษ'!AP270+'ป.6ไทย คณิต วิทย์ สังคม อังกฤษ'!AQ270+'ป.6ไทย คณิต วิทย์ สังคม อังกฤษ'!AR270+'ป.6ไทย คณิต วิทย์ สังคม อังกฤษ'!AS270 -> 0 | V113: ='ป.6ไทย คณิต วิทย์ สังคม อังกฤษ'!AT270+'ป.6ไทย คณิต วิทย์ สังคม อังกฤษ'!AU270+'ป.6ไทย คณิต วิทย์ สังคม อังกฤษ'!AV270 -> 0 | W113: ='ป.6ไทย คณิต วิทย์ สังคม อังกฤษ'!AW270 -> 0 | X113: =SUM(Q113:W113) -> 0 | Y113: ='ป.6ไทย คณิต วิทย์ สังคม อังกฤษ'!AY270+'ป.6ไทย คณิต วิทย์ สังคม อังกฤษ'!AZ270+'ป.6ไทย คณิต วิทย์ สังคม อังกฤษ'!BA270 -> 0 | Z113: ='ป.6ไทย คณิต วิทย์ สังคม อังกฤษ'!BB270+'ป.6ไทย คณิต วิทย์ สังคม อังกฤษ'!BC270 -> 0 | AA113: ='ป.6ไทย คณิต วิทย์ สังคม อังกฤษ'!BD270+'ป.6ไทย คณิต วิทย์ สังคม อังกฤษ'!BE270+'ป.6ไทย คณิต วิทย์ สังคม อังกฤษ'!BF270 -> 0 | AB113: ='ป.6ไทย คณิต วิทย์ สังคม อังกฤษ'!BG270+'ป.6ไทย คณิต วิทย์ สังคม อังกฤษ'!BH270 -> 0 | AC113: ='ป.6ไทย คณิต วิทย์ สังคม อังกฤษ'!BI270+'ป.6ไทย คณิต วิทย์ สังคม อังกฤษ'!BJ270 -> 0 | AD113: =SUM(Y113:AC113) -> 0 | AE113: ='ป.6ไทย คณิต วิทย์ สังคม อังกฤษ'!BL270+'ป.6ไทย คณิต วิทย์ สังคม อังกฤษ'!BM270+'ป.6ไทย คณิต วิทย์ สังคม อังกฤษ'!BN270 -> 0 | AF113: ='ป.6ไทย คณิต วิทย์ สังคม อังกฤษ'!BO270+'ป.6ไทย คณิต วิทย์ สังคม อังกฤษ'!BP270 -> 0 | AG113: ='ป.6ไทย คณิต วิทย์ สังคม อังกฤษ'!BQ270+'ป.6ไทย คณิต วิทย์ สังคม อังกฤษ'!BR270 -> 0 | AH113: =SUM(AE113:AG113) -> 0
A114: ='ป.6ไทย คณิต วิทย์ สังคม อังกฤษ'!A271 -> 0 | B114: ='ป.6ไทย คณิต วิทย์ สังคม อังกฤษ'!B271 -> 0 | C114: ='ป.6ไทย คณิต วิทย์ สังคม อังกฤษ'!C271 -> 0 | D114: ='ป.6ไทย คณิต วิทย์ สังคม อังกฤษ'!D271 -> 0 | E114: ='ป.6ไทย คณิต วิทย์ สังคม อังกฤษ'!E271+'ป.6ไทย คณิต วิทย์ สังคม อังกฤษ'!F271+'ป.6ไทย คณิต วิทย์ สังคม อังกฤษ'!G271 -> 0 | F114: ='ป.6ไทย คณิต วิทย์ สังคม อังกฤษ'!H271+'ป.6ไทย คณิต วิทย์ สังคม อังกฤษ'!I271+'ป.6ไทย คณิต วิทย์ สังคม อังกฤษ'!J271 -> 0 | G114: ='ป.6ไทย คณิต วิทย์ สังคม อังกฤษ'!K271+'ป.6ไทย คณิต วิทย์ สังคม อังกฤษ'!L271 -> 0 | H114: ='ป.6ไทย คณิต วิทย์ สังคม อังกฤษ'!M271+'ป.6ไทย คณิต วิทย์ สังคม อังกฤษ'!N271+'ป.6ไทย คณิต วิทย์ สังคม อังกฤษ'!O271 -> 0 | I114: ='ป.6ไทย คณิต วิทย์ สังคม อังกฤษ'!P271 -> 0 | J114: =SUM(E114:I114) -> 0 | K114: ='ป.6ไทย คณิต วิทย์ สังคม อังกฤษ'!R271+'ป.6ไทย คณิต วิทย์ สังคม อังกฤษ'!S271+'ป.6ไทย คณิต วิทย์ สังคม อังกฤษ'!T271+'ป.6ไทย คณิต วิทย์ สังคม อังกฤษ'!U271 -> 0 | L114: ='ป.6ไทย คณิต วิทย์ สังคม อังกฤษ'!V271+'ป.6ไทย คณิต วิทย์ สังคม อังกฤษ'!W271+'ป.6ไทย คณิต วิทย์ สังคม อังกฤษ'!X271 -> 0 | M114: ='ป.6ไทย คณิต วิทย์ สังคม อังกฤษ'!Y271 -> 0 | N114: ='ป.6ไทย คณิต วิทย์ สังคม อังกฤษ'!Z271+'ป.6ไทย คณิต วิทย์ สังคม อังกฤษ'!AA271+'ป.6ไทย คณิต วิทย์ สังคม อังกฤษ'!AB271 -> 0 | O114: ='ป.6ไทย คณิต วิทย์ สังคม อังกฤษ'!AC271+'ป.6ไทย คณิต วิทย์ สังคม อังกฤษ'!AD271+'ป.6ไทย คณิต วิทย์ สังคม อังกฤษ'!AE271 -> 0 | P114: =SUM(K114:O114) -> 0 | Q114: ='ป.6ไทย คณิต วิทย์ สังคม อังกฤษ'!AG271+'ป.6ไทย คณิต วิทย์ สังคม อังกฤษ'!AH271 -> 0 | R114: ='ป.6ไทย คณิต วิทย์ สังคม อังกฤษ'!AI271+'ป.6ไทย คณิต วิทย์ สังคม อังกฤษ'!AJ271 -> 0 | S114: ='ป.6ไทย คณิต วิทย์ สังคม อังกฤษ'!AK271+'ป.6ไทย คณิต วิทย์ สังคม อังกฤษ'!AL271+'ป.6ไทย คณิต วิทย์ สังคม อังกฤษ'!AM271 -> 0 | T114: ='ป.6ไทย คณิต วิทย์ สังคม อังกฤษ'!AN271+'ป.6ไทย คณิต วิทย์ สังคม อังกฤษ'!AO271 -> 0 | U114: ='ป.6ไทย คณิต วิทย์ สังคม อังกฤษ'!AP271+'ป.6ไทย คณิต วิทย์ สังคม อังกฤษ'!AQ271+'ป.6ไทย คณิต วิทย์ สังคม อังกฤษ'!AR271+'ป.6ไทย คณิต วิทย์ สังคม อังกฤษ'!AS271 -> 0 | V114: ='ป.6ไทย คณิต วิทย์ สังคม อังกฤษ'!AT271+'ป.6ไทย คณิต วิทย์ สังคม อังกฤษ'!AU271+'ป.6ไทย คณิต วิทย์ สังคม อังกฤษ'!AV271 -> 0 | W114: ='ป.6ไทย คณิต วิทย์ สังคม อังกฤษ'!AW271 -> 0 | X114: =SUM(Q114:W114) -> 0 | Y114: ='ป.6ไทย คณิต วิทย์ สังคม อังกฤษ'!AY271+'ป.6ไทย คณิต วิทย์ สังคม อังกฤษ'!AZ271+'ป.6ไทย คณิต วิทย์ สังคม อังกฤษ'!BA271 -> 0 | Z114: ='ป.6ไทย คณิต วิทย์ สังคม อังกฤษ'!BB271+'ป.6ไทย คณิต วิทย์ สังคม อังกฤษ'!BC271 -> 0 | AA114: ='ป.6ไทย คณิต วิทย์ สังคม อังกฤษ'!BD271+'ป.6ไทย คณิต วิทย์ สังคม อังกฤษ'!BE271+'ป.6ไทย คณิต วิทย์ สังคม อังกฤษ'!BF271 -> 0 | AB114: ='ป.6ไทย คณิต วิทย์ สังคม อังกฤษ'!BG271+'ป.6ไทย คณิต วิทย์ สังคม อังกฤษ'!BH271 -> 0 | AC114: ='ป.6ไทย คณิต วิทย์ สังคม อังกฤษ'!BI271+'ป.6ไทย คณิต วิทย์ สังคม อังกฤษ'!BJ271 -> 0 | AD114: =SUM(Y114:AC114) -> 0 | AE114: ='ป.6ไทย คณิต วิทย์ สังคม อังกฤษ'!BL271+'ป.6ไทย คณิต วิทย์ สังคม อังกฤษ'!BM271+'ป.6ไทย คณิต วิทย์ สังคม อังกฤษ'!BN271 -> 0 | AF114: ='ป.6ไทย คณิต วิทย์ สังคม อังกฤษ'!BO271+'ป.6ไทย คณิต วิทย์ สังคม อังกฤษ'!BP271 -> 0 | AG114: ='ป.6ไทย คณิต วิทย์ สังคม อังกฤษ'!BQ271+'ป.6ไทย คณิต วิทย์ สังคม อังกฤษ'!BR271 -> 0 | AH114: =SUM(AE114:AG114) -> 0
A115: ='ป.6ไทย คณิต วิทย์ สังคม อังกฤษ'!A272 -> 0 | B115: ='ป.6ไทย คณิต วิทย์ สังคม อังกฤษ'!B272 -> 0 | C115: ='ป.6ไทย คณิต วิทย์ สังคม อังกฤษ'!C272 -> 0 | D115: ='ป.6ไทย คณิต วิทย์ สังคม อังกฤษ'!D272 -> 0 | E115: ='ป.6ไทย คณิต วิทย์ สังคม อังกฤษ'!E272+'ป.6ไทย คณิต วิทย์ สังคม อังกฤษ'!F272+'ป.6ไทย คณิต วิทย์ สังคม อังกฤษ'!G272 -> 0 | F115: ='ป.6ไทย คณิต วิทย์ สังคม อังกฤษ'!H272+'ป.6ไทย คณิต วิทย์ สังคม อังกฤษ'!I272+'ป.6ไทย คณิต วิทย์ สังคม อังกฤษ'!J272 -> 0 | G115: ='ป.6ไทย คณิต วิทย์ สังคม อังกฤษ'!K272+'ป.6ไทย คณิต วิทย์ สังคม อังกฤษ'!L272 -> 0 | H115: ='ป.6ไทย คณิต วิทย์ สังคม อังกฤษ'!M272+'ป.6ไทย คณิต วิทย์ สังคม อังกฤษ'!N272+'ป.6ไทย คณิต วิทย์ สังคม อังกฤษ'!O272 -> 0 | I115: ='ป.6ไทย คณิต วิทย์ สังคม อังกฤษ'!P272 -> 0 | J115: =SUM(E115:I115) -> 0 | K115: ='ป.6ไทย คณิต วิทย์ สังคม อังกฤษ'!R272+'ป.6ไทย คณิต วิทย์ สังคม อังกฤษ'!S272+'ป.6ไทย คณิต วิทย์ สังคม อังกฤษ'!T272+'ป.6ไทย คณิต วิทย์ สังคม อังกฤษ'!U272 -> 0 | L115: ='ป.6ไทย คณิต วิทย์ สังคม อังกฤษ'!V272+'ป.6ไทย คณิต วิทย์ สังคม อังกฤษ'!W272+'ป.6ไทย คณิต วิทย์ สังคม อังกฤษ'!X272 -> 0 | M115: ='ป.6ไทย คณิต วิทย์ สังคม อังกฤษ'!Y272 -> 0 | N115: ='ป.6ไทย คณิต วิทย์ สังคม อังกฤษ'!Z272+'ป.6ไทย คณิต วิทย์ สังคม อังกฤษ'!AA272+'ป.6ไทย คณิต วิทย์ สังคม อังกฤษ'!AB272 -> 0 | O115: ='ป.6ไทย คณิต วิทย์ สังคม อังกฤษ'!AC272+'ป.6ไทย คณิต วิทย์ สังคม อังกฤษ'!AD272+'ป.6ไทย คณิต วิทย์ สังคม อังกฤษ'!AE272 -> 0 | P115: =SUM(K115:O115) -> 0 | Q115: ='ป.6ไทย คณิต วิทย์ สังคม อังกฤษ'!AG272+'ป.6ไทย คณิต วิทย์ สังคม อังกฤษ'!AH272 -> 0 | R115: ='ป.6ไทย คณิต วิทย์ สังคม อังกฤษ'!AI272+'ป.6ไทย คณิต วิทย์ สังคม อังกฤษ'!AJ272 -> 0 | S115: ='ป.6ไทย คณิต วิทย์ สังคม อังกฤษ'!AK272+'ป.6ไทย คณิต วิทย์ สังคม อังกฤษ'!AL272+'ป.6ไทย คณิต วิทย์ สังคม อังกฤษ'!AM272 -> 0 | T115: ='ป.6ไทย คณิต วิทย์ สังคม อังกฤษ'!AN272+'ป.6ไทย คณิต วิทย์ สังคม อังกฤษ'!AO272 -> 0 | U115: ='ป.6ไทย คณิต วิทย์ สังคม อังกฤษ'!AP272+'ป.6ไทย คณิต วิทย์ สังคม อังกฤษ'!AQ272+'ป.6ไทย คณิต วิทย์ สังคม อังกฤษ'!AR272+'ป.6ไทย คณิต วิทย์ สังคม อังกฤษ'!AS272 -> 0 | V115: ='ป.6ไทย คณิต วิทย์ สังคม อังกฤษ'!AT272+'ป.6ไทย คณิต วิทย์ สังคม อังกฤษ'!AU272+'ป.6ไทย คณิต วิทย์ สังคม อังกฤษ'!AV272 -> 0 | W115: ='ป.6ไทย คณิต วิทย์ สังคม อังกฤษ'!AW272 -> 0 | X115: =SUM(Q115:W115) -> 0 | Y115: ='ป.6ไทย คณิต วิทย์ สังคม อังกฤษ'!AY272+'ป.6ไทย คณิต วิทย์ สังคม อังกฤษ'!AZ272+'ป.6ไทย คณิต วิทย์ สังคม อังกฤษ'!BA272 -> 0 | Z115: ='ป.6ไทย คณิต วิทย์ สังคม อังกฤษ'!BB272+'ป.6ไทย คณิต วิทย์ สังคม อังกฤษ'!BC272 -> 0 | AA115: ='ป.6ไทย คณิต วิทย์ สังคม อังกฤษ'!BD272+'ป.6ไทย คณิต วิทย์ สังคม อังกฤษ'!BE272+'ป.6ไทย คณิต วิทย์ สังคม อังกฤษ'!BF272 -> 0 | AB115: ='ป.6ไทย คณิต วิทย์ สังคม อังกฤษ'!BG272+'ป.6ไทย คณิต วิทย์ สังคม อังกฤษ'!BH272 -> 0 | AC115: ='ป.6ไทย คณิต วิทย์ สังคม อังกฤษ'!BI272+'ป.6ไทย คณิต วิทย์ สังคม อังกฤษ'!BJ272 -> 0 | AD115: =SUM(Y115:AC115) -> 0 | AE115: ='ป.6ไทย คณิต วิทย์ สังคม อังกฤษ'!BL272+'ป.6ไทย คณิต วิทย์ สังคม อังกฤษ'!BM272+'ป.6ไทย คณิต วิทย์ สังคม อังกฤษ'!BN272 -> 0 | AF115: ='ป.6ไทย คณิต วิทย์ สังคม อังกฤษ'!BO272+'ป.6ไทย คณิต วิทย์ สังคม อังกฤษ'!BP272 -> 0 | AG115: ='ป.6ไทย คณิต วิทย์ สังคม อังกฤษ'!BQ272+'ป.6ไทย คณิต วิทย์ สังคม อังกฤษ'!BR272 -> 0 | AH115: =SUM(AE115:AG115) -> 0
A116: ='ป.6ไทย คณิต วิทย์ สังคม อังกฤษ'!A273 -> 0 | B116: ='ป.6ไทย คณิต วิทย์ สังคม อังกฤษ'!B273 -> 0 | C116: ='ป.6ไทย คณิต วิทย์ สังคม อังกฤษ'!C273 -> 0 | D116: ='ป.6ไทย คณิต วิทย์ สังคม อังกฤษ'!D273 -> 0 | E116: ='ป.6ไทย คณิต วิทย์ สังคม อังกฤษ'!E273+'ป.6ไทย คณิต วิทย์ สังคม อังกฤษ'!F273+'ป.6ไทย คณิต วิทย์ สังคม อังกฤษ'!G273 -> 0 | F116: ='ป.6ไทย คณิต วิทย์ สังคม อังกฤษ'!H273+'ป.6ไทย คณิต วิทย์ สังคม อังกฤษ'!I273+'ป.6ไทย คณิต วิทย์ สังคม อังกฤษ'!J273 -> 0 | G116: ='ป.6ไทย คณิต วิทย์ สังคม อังกฤษ'!K273+'ป.6ไทย คณิต วิทย์ สังคม อังกฤษ'!L273 -> 0 | H116: ='ป.6ไทย คณิต วิทย์ สังคม อังกฤษ'!M273+'ป.6ไทย คณิต วิทย์ สังคม อังกฤษ'!N273+'ป.6ไทย คณิต วิทย์ สังคม อังกฤษ'!O273 -> 0 | I116: ='ป.6ไทย คณิต วิทย์ สังคม อังกฤษ'!P273 -> 0 | J116: =SUM(E116:I116) -> 0 | K116: ='ป.6ไทย คณิต วิทย์ สังคม อังกฤษ'!R273+'ป.6ไทย คณิต วิทย์ สังคม อังกฤษ'!S273+'ป.6ไทย คณิต วิทย์ สังคม อังกฤษ'!T273+'ป.6ไทย คณิต วิทย์ สังคม อังกฤษ'!U273 -> 0 | L116: ='ป.6ไทย คณิต วิทย์ สังคม อังกฤษ'!V273+'ป.6ไทย คณิต วิทย์ สังคม อังกฤษ'!W273+'ป.6ไทย คณิต วิทย์ สังคม อังกฤษ'!X273 -> 0 | M116: ='ป.6ไทย คณิต วิทย์ สังคม อังกฤษ'!Y273 -> 0 | N116: ='ป.6ไทย คณิต วิทย์ สังคม อังกฤษ'!Z273+'ป.6ไทย คณิต วิทย์ สังคม อังกฤษ'!AA273+'ป.6ไทย คณิต วิทย์ สังคม อังกฤษ'!AB273 -> 0 | O116: ='ป.6ไทย คณิต วิทย์ สังคม อังกฤษ'!AC273+'ป.6ไทย คณิต วิทย์ สังคม อังกฤษ'!AD273+'ป.6ไทย คณิต วิทย์ สังคม อังกฤษ'!AE273 -> 0 | P116: =SUM(K116:O116) -> 0 | Q116: ='ป.6ไทย คณิต วิทย์ สังคม อังกฤษ'!AG273+'ป.6ไทย คณิต วิทย์ สังคม อังกฤษ'!AH273 -> 0 | R116: ='ป.6ไทย คณิต วิทย์ สังคม อังกฤษ'!AI273+'ป.6ไทย คณิต วิทย์ สังคม อังกฤษ'!AJ273 -> 0 | S116: ='ป.6ไทย คณิต วิทย์ สังคม อังกฤษ'!AK273+'ป.6ไทย คณิต วิทย์ สังคม อังกฤษ'!AL273+'ป.6ไทย คณิต วิทย์ สังคม อังกฤษ'!AM273 -> 0 | T116: ='ป.6ไทย คณิต วิทย์ สังคม อังกฤษ'!AN273+'ป.6ไทย คณิต วิทย์ สังคม อังกฤษ'!AO273 -> 0 | U116: ='ป.6ไทย คณิต วิทย์ สังคม อังกฤษ'!AP273+'ป.6ไทย คณิต วิทย์ สังคม อังกฤษ'!AQ273+'ป.6ไทย คณิต วิทย์ สังคม อังกฤษ'!AR273+'ป.6ไทย คณิต วิทย์ สังคม อังกฤษ'!AS273 -> 0 | V116: ='ป.6ไทย คณิต วิทย์ สังคม อังกฤษ'!AT273+'ป.6ไทย คณิต วิทย์ สังคม อังกฤษ'!AU273+'ป.6ไทย คณิต วิทย์ สังคม อังกฤษ'!AV273 -> 0 | W116: ='ป.6ไทย คณิต วิทย์ สังคม อังกฤษ'!AW273 -> 0 | X116: =SUM(Q116:W116) -> 0 | Y116: ='ป.6ไทย คณิต วิทย์ สังคม อังกฤษ'!AY273+'ป.6ไทย คณิต วิทย์ สังคม อังกฤษ'!AZ273+'ป.6ไทย คณิต วิทย์ สังคม อังกฤษ'!BA273 -> 0 | Z116: ='ป.6ไทย คณิต วิทย์ สังคม อังกฤษ'!BB273+'ป.6ไทย คณิต วิทย์ สังคม อังกฤษ'!BC273 -> 0 | AA116: ='ป.6ไทย คณิต วิทย์ สังคม อังกฤษ'!BD273+'ป.6ไทย คณิต วิทย์ สังคม อังกฤษ'!BE273+'ป.6ไทย คณิต วิทย์ สังคม อังกฤษ'!BF273 -> 0 | AB116: ='ป.6ไทย คณิต วิทย์ สังคม อังกฤษ'!BG273+'ป.6ไทย คณิต วิทย์ สังคม อังกฤษ'!BH273 -> 0 | AC116: ='ป.6ไทย คณิต วิทย์ สังคม อังกฤษ'!BI273+'ป.6ไทย คณิต วิทย์ สังคม อังกฤษ'!BJ273 -> 0 | AD116: =SUM(Y116:AC116) -> 0 | AE116: ='ป.6ไทย คณิต วิทย์ สังคม อังกฤษ'!BL273+'ป.6ไทย คณิต วิทย์ สังคม อังกฤษ'!BM273+'ป.6ไทย คณิต วิทย์ สังคม อังกฤษ'!BN273 -> 0 | AF116: ='ป.6ไทย คณิต วิทย์ สังคม อังกฤษ'!BO273+'ป.6ไทย คณิต วิทย์ สังคม อังกฤษ'!BP273 -> 0 | AG116: ='ป.6ไทย คณิต วิทย์ สังคม อังกฤษ'!BQ273+'ป.6ไทย คณิต วิทย์ สังคม อังกฤษ'!BR273 -> 0 | AH116: =SUM(AE116:AG116) -> 0
... A304: ='ป.6ไทย คณิต วิทย์ สังคม อังกฤษ'!A461 -> 0 | B304: ='ป.6ไทย คณิต วิทย์ สังคม อังกฤษ'!B461 -> 0 | C304: ='ป.6ไทย คณิต วิทย์ สังคม อังกฤษ'!C461 -> 0 | D304: ='ป.6ไทย คณิต วิทย์ สังคม อังกฤษ'!D461 -> 0 | E304: ='ป.6ไทย คณิต วิทย์ สังคม อังกฤษ'!E461+'ป.6ไทย คณิต วิทย์ สังคม อังกฤษ'!F461+'ป.6ไทย คณิต วิทย์ สังคม อังกฤษ'!G461 -> 0 | F304: ='ป.6ไทย คณิต วิทย์ สังคม อังกฤษ'!H461+'ป.6ไทย คณิต วิทย์ สังคม อังกฤษ'!I461+'ป.6ไทย คณิต วิทย์ สังคม อังกฤษ'!J461 -> 0 | G304: ='ป.6ไทย คณิต วิทย์ สังคม อังกฤษ'!K461+'ป.6ไทย คณิต วิทย์ สังคม อังกฤษ'!L461 -> 0 | H304: ='ป.6ไทย คณิต วิทย์ สังคม อังกฤษ'!M461+'ป.6ไทย คณิต วิทย์ สังคม อังกฤษ'!N461+'ป.6ไทย คณิต วิทย์ สังคม อังกฤษ'!O461 -> 0 | I304: ='ป.6ไทย คณิต วิทย์ สังคม อังกฤษ'!P461 -> 0 | J304: =SUM(E304:I304) -> 0 | K304: ='ป.6ไทย คณิต วิทย์ สังคม อังกฤษ'!R461+'ป.6ไทย คณิต วิทย์ สังคม อังกฤษ'!S461+'ป.6ไทย คณิต วิทย์ สังคม อังกฤษ'!T461+'ป.6ไทย คณิต วิทย์ สังคม อังกฤษ'!U461 -> 0 | L304: ='ป.6ไทย คณิต วิทย์ สังคม อังกฤษ'!V461+'ป.6ไทย คณิต วิทย์ สังคม อังกฤษ'!W461+'ป.6ไทย คณิต วิทย์ สังคม อังกฤษ'!X461 -> 0 | M304: ='ป.6ไทย คณิต วิทย์ สังคม อังกฤษ'!Y461 -> 0 | N304: ='ป.6ไทย คณิต วิทย์ สังคม อังกฤษ'!Z461+'ป.6ไทย คณิต วิทย์ สังคม อังกฤษ'!AA461+'ป.6ไทย คณิต วิทย์ สังคม อังกฤษ'!AB461 -> 0 | O304: ='ป.6ไทย คณิต วิทย์ สังคม อังกฤษ'!AC461+'ป.6ไทย คณิต วิทย์ สังคม อังกฤษ'!AD461+'ป.6ไทย คณิต วิทย์ สังคม อังกฤษ'!AE461 -> 0 | P304: =SUM(K304:O304) -> 0 | Q304: ='ป.6ไทย คณิต วิทย์ สังคม อังกฤษ'!AG461+'ป.6ไทย คณิต วิทย์ สังคม อังกฤษ'!AH461 -> 0 | R304: ='ป.6ไทย คณิต วิทย์ สังคม อังกฤษ'!AI461+'ป.6ไทย คณิต วิทย์ สังคม อังกฤษ'!AJ461 -> 0 | S304: ='ป.6ไทย คณิต วิทย์ สังคม อังกฤษ'!AK461+'ป.6ไทย คณิต วิทย์ สังคม อังกฤษ'!AL461+'ป.6ไทย คณิต วิทย์ สังคม อังกฤษ'!AM461 -> 0 | T304: ='ป.6ไทย คณิต วิทย์ สังคม อังกฤษ'!AN461+'ป.6ไทย คณิต วิทย์ สังคม อังกฤษ'!AO461 -> 0 | U304: ='ป.6ไทย คณิต วิทย์ สังคม อังกฤษ'!AP461+'ป.6ไทย คณิต วิทย์ สังคม อังกฤษ'!AQ461+'ป.6ไทย คณิต วิทย์ สังคม อังกฤษ'!AR461+'ป.6ไทย คณิต วิทย์ สังคม อังกฤษ'!AS461 -> 0 | V304: ='ป.6ไทย คณิต วิทย์ สังคม อังกฤษ'!AT461+'ป.6ไทย คณิต วิทย์ สังคม อังกฤษ'!AU461+'ป.6ไทย คณิต วิทย์ สังคม อังกฤษ'!AV461 -> 0 | W304: ='ป.6ไทย คณิต วิทย์ สังคม อังกฤษ'!AW461 -> 0 | X304: =SUM(Q304:W304) -> 0 | Y304: ='ป.6ไทย คณิต วิทย์ สังคม อังกฤษ'!AY461+'ป.6ไทย คณิต วิทย์ สังคม อังกฤษ'!AZ461+'ป.6ไทย คณิต วิทย์ สังคม อังกฤษ'!BA461 -> 0 | Z304: ='ป.6ไทย คณิต วิทย์ สังคม อังกฤษ'!BB461+'ป.6ไทย คณิต วิทย์ สังคม อังกฤษ'!BC461 -> 0 | AA304: ='ป.6ไทย คณิต วิทย์ สังคม อังกฤษ'!BD461+'ป.6ไทย คณิต วิทย์ สังคม อังกฤษ'!BE461+'ป.6ไทย คณิต วิทย์ สังคม อังกฤษ'!BF461 -> 0 | AB304: ='ป.6ไทย คณิต วิทย์ สังคม อังกฤษ'!BG461+'ป.6ไทย คณิต วิทย์ สังคม อังกฤษ'!BH461 -> 0 | AC304: ='ป.6ไทย คณิต วิทย์ สังคม อังกฤษ'!BI461+'ป.6ไทย คณิต วิทย์ สังคม อังกฤษ'!BJ461 -> 0 | AD304: =SUM(Y304:AC304) -> 0 | AE304: ='ป.6ไทย คณิต วิทย์ สังคม อังกฤษ'!BL461+'ป.6ไทย คณิต วิทย์ สังคม อังกฤษ'!BM461+'ป.6ไทย คณิต วิทย์ สังคม อังกฤษ'!BN461 -> 0 | AF304: ='ป.6ไทย คณิต วิทย์ สังคม อังกฤษ'!BO461+'ป.6ไทย คณิต วิทย์ สังคม อังกฤษ'!BP461 -> 0 | AG304: ='ป.6ไทย คณิต วิทย์ สังคม อังกฤษ'!BQ461+'ป.6ไทย คณิต วิทย์ สังคม อังกฤษ'!BR461 -> 0 | AH304: =SUM(AE304:AG304) -> 0
C305: รวมคะแนน
C306: คิดเป็นร้อยละ
