Workbook

Sheet ม.3ไทย คณิต วิทย์ สังคม อังกฤษ
A1: แบบบันทึกคะแนน การสอบ Pre O-NET ชั้น ม.3 ปีการศึกษา 2559 | E1: ภาษาไทย | R1: คณิตศาสตร์ | AF1: วิทยาศาสตร์ | AW1: สังคมศึกษา ศาสนา และวัฒนธรรม | BI1: ภาษาอังกฤษ
E2: แบบที่ 1 แบบเลือกตอบ จำนวน 36 ข้อ ข้อละ 2 คะแนน รวม 72 คะแนน | R2: ตอนที่ 1 แบบระบายคำตอบ จำนวน 22 ข้อ ข้อ 1-22 ข้อละ 2.5 คะแนน รวม 55 คะแนน | AF2: แบบที่ 1 แบบเลือกตอบ จำนวน 35 ข้อ ข้อละ 2 คะแนน | AW2: ตอนที่ 1 แบบเลือกตอบ จำนวน 40 ข้อ ข้อละ 2 คะแนน รวม 80 คะแนน | BI2: รูปแบบที่ 1 แบบเลือกตอบ จำนวน 38 ข้อ (ข้อละ2 คะแนน รวม 76 คะแนน)
E3: แบบที่ 2 แบบเลือกตอบหลายคำตอบ จำนวน 2 ข้อ ข้อละ 2 คะแนน รวม 4 คะแนน | R3: ตอนที่ 2 แบบเชิงซ้อน จำนวน 4 ข้อ ข้อ 23-26 ข้อละ 4 คะแนน รวม 16 คะแนน | AF3: แบบที่ 2 แบบระบาย 2 คำตอบ จำนวน 4 ข้อ ข้อละ 2 คะแนน รวม 8 คะแนน | AW3: ตอนที่ 2 แบบเชิงซ้อน จำนวน 3 ข้อ ข้อละ 4 คะแนน (ตอบถูกข้อความละ 1 คะแนน) รวม 12 คะแนน | BI3: รูปแบบที่ 2 แบบเขียนตอบสั้น จำนวน 10 ข้อ (ข้อละ 2 คะแนน รวม 20 คะแนน)
E4: แบบที่ 3 แบบเชิงซ้อน จำนวน 2 ข้อ ข้อละ 2 คะแนนผตอบถูกต้อง 4-5 ข้อความได้ 2 คะแนน ตอบถูกต้อง 2-3 ข้องความได้ 1 คะแนน) รวม 4 คะแนน | R4: ตอนที่ 3 แบบระบายคำตัวเลขที่เป็นคำตอบ จำนวน 8 ข้อ ข้อที่ 27-34 ข้อละ 3 คะแนน | AF4: แบบที่ 3 แบบเขียนตอบสั้น จำนวน 4 ข้อ (ข้อละ 3 คะแนน รวม 12 คะแนน) | AW4: ตอนที่ 3 แบบเขียนตอบ จำนวน 7 ข้อ รวม8 คะแนน ( ตอบสั้น จำนวน 7 ข้อ ข้อละ 1 คะแนน ตอบอิสระ จำนวน 1 ข้อ ข้อละ 2 คะแนน) | BI4: รูปแบบที่ 3 แบบเชิงซ้อน จำนวน 2 ข้อ (ข้อละ2 คะแนน ตอบถูกทั้ง 4 ข้อความได้ 2 คะแนน ตอบถูก3 ข้อความได้ 1.5 คะแนน ตอบถูก 2 ข้อความได้ 1 คะแนน ตอบถูก 1 ข้อความได้ 0.5 คะแนน ตอบถูก 0 ข้อความหรือไม่ตอบ ได้ 0 คะแนน รวม 4 คะแนน
E5: แบบที่ 4 แบบเขียนตอบ จำนวน 10 ข้อ ข้อละ 2 คะแนน รวม 20 คะแนน | R5: ตอนที่ 4 แสดงวิธีทำ ข้อที่ 35 ข้อละ 5 คะแนน | AF5: แบบที่ 4 แบบเขียนตอบอิสระ จำนวน 2 ข้อ (ข้อละ 5 คะแนน รวม 10 คะแนน)
A6: กลุ่มโรงเรียน | B6: ชื่อโรงเรียน | C6: เลขที่ | D6: ชื่อ-สกุล | E6: การอ่าน | I6: การเขียน | K6: การฟัง ดู พูด | L6: หลักภาษาไทย | M6: วรรณคดีฯ | Q6: รวม(100) | R6: จำนวนและการดำเนินการ | T6: การวัด | W6: เรขาคณิต | Y6: พีชคณิต | AA6: วิเคราะห์ข้อมูลฯ | AD6: ทักษะกระบวนการ | AE6: รวม(100) | AF6: สิ่งมีชีวิตกับกระบวนการฯ | AH6: ชีวิตกับสิ่งแวดล้อม | AK6: สารและสมบัติของสาร | AM6: แรงและการเคลื่อนที่ | AP6: พลังงงาน | AR6: กระบวนการเปลี่ยนแปลงของโลก | AT6: ดาราศาสตร์และอวกาศ | AV6: รวม(100) | AW6: ศาสนา ศีลธรรม จริยธรรม | AY6: หน้าที่พลเมือง | BA6: เศรษฐศาสตร์ | BD6: ประวัติศาสตร์ | BE6: ภูมิศาสตร์ | BH6: รวม(100) | BI6: ภาษาเพื่อการสื่อสาร | BL6: ภาษาและวัฒนธรรม | BM6: รวม(100)
E7: เลือกตอบ | F7: หลายคำตอบ | G7: เชิงซ้อน | H7: เขียนตอบ | I7: เลือกตอบ | J7: เขียนตอบ | K7: เลือกตอบ | L7: เลือกตอบ | M7: เลือกตอบ | N7: หลายคำตอบ | O7: เชิงซ้อน | P7: เขียนตอบ | R7: เลือกตอบ | S7: ระบายตัวเลข | T7: เลือกตอบ | U7: เชิงซ้อน | V7: ระบายตัวเลข | W7: เลือกตอบ | X7: เชิงซ้อน | Y7: เลือกตอบ | Z7: ระบายตัวเลข | AA7: เลือกตอบ | AB7: เชิงซ้อน | AC7: ระบายตัวเลข | AD7: แสดงวิธีทำ | AF7: เลือกตอบ | AG7: ระบาย 2 คำตอบ | AH7: เลือกตอบ | AI7: ระบาย 2 คำตอบ | AJ7: เขียนตอบอิสระ | AK7: เลือกตอบ | AL7: ระบาย 2 คำตอบ | AM7: เลือกตอบ | AN7: ระบาย 2 คำตอบ | AO7: เขียนตอบอิสระ | AP7: เลือกตอบ | AQ7: ตอบสั้น | AR7: เลือกตอบ | AS7: ตอบสั้น | AT7: เลือกตอบ | AU7: ตอบสั้น | AW7: เลือกตอบ | AX7: เชิงซ้อน | AY7: เลือกตอบ | AZ7: ตอบสั้น | BA7: เลือกตอบ | BB7: เชิงซ้อน | BC7: ตอบอิสระ | BD7: เลือกตอบ | BE7: เลือกตอบ | BF7: เชิงซ้อน | BG7: ตอบสั้น | BI7: เลือกตอบ | BJ7: ตอบสั้น | BK7: เชิงซ้อน | BL7: เลือกตอบ
E8: ข้อ 1-4,6,9-12 | F8: ข้อ 40 | G8: ข้อ 42 | H8: ข้อ 5, 43-44,50 | I8: ข้อ 13-17 | J8: ข้อ 45-47 | K8: ข้อ 18-21 | L8: ข้อ7,22-30,38 | M8: ข้อ 31,33-37 | N8: ข้อ 39 | O8: ข้อ 41 | P8: ข้อ 32,48-49 | R8: ข้อ 1-4 | S8: ข้อ 27-28 | T8: ข้อ 5-6 | U8: ข้อ 23 | V8: ข้อ 29-30 | W8: ข้อ 7-12 | X8: ข้อ 24 | Y8: ข้อ 13-18 | Z8: ข้อ 31-33 | AA8: ข้อ 19-22 | AB8: ข้อ 25-26 | AC8: ข้อ 34 | AD8: ข้อ 35 | AF8: ข้อ 1-7,9-10 | AG8: ข้อ 8 | AH8: ข้อ 12-13 | AI8: ข้อ 11 | AJ8: ข้อ 14 | AK8: ข้อ 15-19,21-22 | AL8: ข้อ 20 | AM8: ข้อ 23,25-28 | AN8: ข้อ 24 | AO8: ข้อ 28 | AP8: ข้อ 30,31,33-37 | AQ8: ข้อ 32 | AR8: ข้อ 38,40 | AS8: ข้อ 39,41 | AT8: ข้อ 43,44,45 | AU8: ข้อ 42 | AW8: ข้อ1-6 | AX8: ข้อ 41 | AY8: ข้อ 7-16 | AZ8: ข้อ 44-45 | BA8: ข้อ 17-26 | BB8: ข้อ 42 | BC8: ข้อ 50 | BD8: ข้อ 27-35 | BE8: ข้อ 36-40 | BF8: ข้อ 43 | BG8: ข้อ 46-49 | BI8: ข้อ 1-27,36-38 | BJ8: ข้อ 39-48 | BK8: ข้อ 49-50 | BL8: ข้อ 28-35
A9: คะแนนเต็ม | E9: 20 | F9: 2 | G9: 2 | H9: 8 | I9: 10 | J9: 6 | K9: 8 | L9: 22 | M9: 12 | N9: 2 | O9: 2 | P9: 6 | Q9: =SUM(E9:P9) -> 100 | R9: 10 | S9: 6 | T9: 5 | U9: 4 | V9: 6 | W9: 15 | X9: 4 | Y9: 15 | Z9: 9 | AA9: 10 | AB9: 8 | AC9: 3 | AD9: 5 | AE9: =SUM(R9:AD9) -> 100 | AF9: 18 | AG9: 2 | AH9: 4 | AI9: 2 | AJ9: 5 | AK9: 14 | AL9: 2 | AM9: 10 | AN9: 2 | AO9: 5 | AP9: 14 | AQ9: 3 | AR9: 4 | AS9: 6 | AT9: 6 | AU9: 3 | AV9: =SUM(AF9:AU9) -> 100 | AW9: 12 | AX9: 4 | AY9: 20 | AZ9: 2 | BA9: 20 | BB9: 4 | BC9: 2 | BD9: 18 | BE9: 10 | BF9: 4 | BG9: 4 | BH9: =SUM(AW9:BG9) -> 100 | BI9: 60 | BJ9: 20 | BK9: 4 | BL9: 16 | BM9: =SUM(BI9:BL9) -> 100
C10: 1 | Q10: =SUM(E10:P10) -> 0 | AE10: =SUM(R10:AD10) -> 0 | AV10: =SUM(AF10:AU10) -> 0 | BH10: =SUM(AW10:BG10) -> 0 | BM10: =SUM(BI10:BL10) -> 0
C11: 2 | Q11: =SUM(E11:P11) -> 0 | AE11: =SUM(R11:AD11) -> 0 | AV11: =SUM(AF11:AU11) -> 0 | BH11: =SUM(AW11:BG11) -> 0 | BM11: =SUM(BI11:BL11) -> 0
C12: 3 | Q12: =SUM(E12:P12) -> 0 | AE12: =SUM(R12:AD12) -> 0 | AV12: =SUM(AF12:AU12) -> 0 | BH12: =SUM(AW12:BG12) -> 0 | BM12: =SUM(BI12:BL12) -> 0
C13: 4 | Q13: =SUM(E13:P13) -> 0 | AE13: =SUM(R13:AD13) -> 0 | AV13: =SUM(AF13:AU13) -> 0 | BH13: =SUM(AW13:BG13) -> 0 | BM13: =SUM(BI13:BL13) -> 0
C14: 5 | Q14: =SUM(E14:P14) -> 0 | AE14: =SUM(R14:AD14) -> 0 | AV14: =SUM(AF14:AU14) -> 0 | BH14: =SUM(AW14:BG14) -> 0 | BM14: =SUM(BI14:BL14) -> 0
C15: 6 | Q15: =SUM(E15:P15) -> 0 | AE15: =SUM(R15:AD15) -> 0 | AV15: =SUM(AF15:AU15) -> 0 | BH15: =SUM(AW15:BG15) -> 0 | BM15: =SUM(BI15:BL15) -> 0
C16: 7 | Q16: =SUM(E16:P16) -> 0 | AE16: =SUM(R16:AD16) -> 0 | AV16: =SUM(AF16:AU16) -> 0 | BH16: =SUM(AW16:BG16) -> 0 | BM16: =SUM(BI16:BL16) -> 0
C17: 8 | Q17: =SUM(E17:P17) -> 0 | AE17: =SUM(R17:AD17) -> 0 | AV17: =SUM(AF17:AU17) -> 0 | BH17: =SUM(AW17:BG17) -> 0 | BM17: =SUM(BI17:BL17) -> 0
C18: 9 | Q18: =SUM(E18:P18) -> 0 | AE18: =SUM(R18:AD18) -> 0 | AV18: =SUM(AF18:AU18) -> 0 | BH18: =SUM(AW18:BG18) -> 0 | BM18: =SUM(BI18:BL18) -> 0
C19: 10 | Q19: =SUM(E19:P19) -> 0 | AE19: =SUM(R19:AD19) -> 0 | AV19: =SUM(AF19:AU19) -> 0 | BH19: =SUM(AW19:BG19) -> 0 | BM19: =SUM(BI19:BL19) -> 0
C20: 11 | Q20: =SUM(E20:P20) -> 0 | AE20: =SUM(R20:AD20) -> 0 | AV20: =SUM(AF20:AU20) -> 0 | BH20: =SUM(AW20:BG20) -> 0 | BM20: =SUM(BI20:BL20) -> 0
C21: 12 | Q21: =SUM(E21:P21) -> 0 | AE21: =SUM(R21:AD21) -> 0 | AV21: =SUM(AF21:AU21) -> 0 | BH21: =SUM(AW21:BG21) -> 0 | BM21: =SUM(BI21:BL21) -> 0
... C109: 100 | Q109: =SUM(E109:P109) -> 0 | AE109: =SUM(R109:AD109) -> 0 | AV109: =SUM(AF109:AU109) -> 0 | BH109: =SUM(AW109:BG109) -> 0 | BM109: =SUM(BI109:BL109) -> 0
C110: รวมคะแนน
C111: คิดเป็นร้อยละ

Sheet สรุป
A1: แบบบันทึกคะแนน การสอบ Pre O-NET ชั้น ม.3 ปีการศึกษา 2559 | E1: ภาษาไทย | K1: คณิตศาสตร์ | R1: วิทยาศาสตร์ | Z1: สังคมศึกษา ศาสนา และวัฒนธรรม | AF1: ภาษาอังกฤษ
A2: กลุ่มโรงเรียน | B2: ชื่อโรงเรียน | C2: เลขที่ | D2: ชื่อ-สกุล | E2: การอ่าน | F2: การเขียน | G2: การฟัง ดู พูด | H2: หลักภาษาไทย | I2: วรรณคดีฯ | J2: รวม(100) | K2: จำนวนและการดำเนินการ | L2: การวัด | M2: เรขาคณิต | N2: พีชคณิต | O2: วิเคราะห์ข้อมูลฯ | P2: ทักษะกระบวนการ | Q2: รวม(100) | R2: สิ่งมีชีวิตกับกระบวนการฯ | S2: ชีวิตกับสิ่งแวดล้อม | T2: สารและสมบัติของสาร | U2: แรงและการเคลื่อนที่ | V2: พลังงงาน | W2: กระบวนการเปลี่ยนแปลงของโลก | X2: ดาราศาสตร์และอวกาศ | Y2: รวม(100) | Z2: ศาสนา ศีลธรรม จริยธรรม | AA2: หน้าที่พลเมือง | AB2: เศรษฐศาสตร์ | AC2: ประวัติศาสตร์ | AD2: ภูมิศาสตร์ | AE2: รวม(100) | AF2: ภาษาเพื่อการสื่อสาร | AG2: ภาษาและวัฒนธรรม | AH2: รวม(100)
E3: คะแนน | K3: คะแนน | S3: คะแนน | Z3: คะแนน | AF3: คะแนน
A4: คะแนนเต็ม | E4: ='ม.3ไทย คณิต วิทย์ สังคม อังกฤษ'!E9+'ม.3ไทย คณิต วิทย์ สังคม อังกฤษ'!F9+'ม.3ไทย คณิต วิทย์ สังคม อังกฤษ'!G9+'ม.3ไทย คณิต วิทย์ สังคม อังกฤษ'!H9 -> 32 | F4: ='ม.3ไทย คณิต วิทย์ สังคม อังกฤษ'!I9+'ม.3ไทย คณิต วิทย์ สังคม อังกฤษ'!J9 -> 16 | G4: ='ม.3ไทย คณิต วิทย์ สังคม อังกฤษ'!K9 -> 8 | H4: ='ม.3ไทย คณิต วิทย์ สังคม อังกฤษ'!L9 -> 22 | I4: ='ม.3ไทย คณิต วิทย์ สังคม อังกฤษ'!M9+'ม.3ไทย คณิต วิทย์ สังคม อังกฤษ'!N9+'ม.3ไทย คณิต วิทย์ สังคม อังกฤษ'!O9+'ม.3ไทย คณิต วิทย์ สังคม อังกฤษ'!P9 -> 22 | J4: =SUM(E4:I4) -> 100 | K4: ='ม.3ไทย คณิต วิทย์ สังคม อังกฤษ'!R9+'ม.3ไทย คณิต วิทย์ สังคม อังกฤษ'!S9 -> 16 | L4: ='ม.3ไทย คณิต วิทย์ สังคม อังกฤษ'!T9+'ม.3ไทย คณิต วิทย์ สังคม อังกฤษ'!U9+'ม.3ไทย คณิต วิทย์ สังคม อังกฤษ'!V9 -> 15 | M4: ='ม.3ไทย คณิต วิทย์ สังคม อังกฤษ'!W9+'ม.3ไทย คณิต วิทย์ สังคม อังกฤษ'!X9 -> 19 | N4: ='ม.3ไทย คณิต วิทย์ สังคม อังกฤษ'!Y9+'ม.3ไทย คณิต วิทย์ สังคม อังกฤษ'!Z9 -> 24 | O4: ='ม.3ไทย คณิต วิทย์ สังคม อังกฤษ'!AA9+'ม.3ไทย คณิต วิทย์ สังคม อังกฤษ'!AB9+'ม.3ไทย คณิต วิทย์ สังคม อังกฤษ'!AC9 -> 21 | P4: ='ม.3ไทย คณิต วิทย์ สังคม อังกฤษ'!AD9 -> 5 | Q4: =SUM(K4:P4) -> 100 | R4: ='ม.3ไทย คณิต วิทย์ สังคม อังกฤษ'!AF9+'ม.3ไทย คณิต วิทย์ สังคม อังกฤษ'!AG9 -> 20 | S4: ='ม.3ไทย คณิต วิทย์ สังคม อังกฤษ'!AH9+'ม.3ไทย คณิต วิทย์ สังคม อังกฤษ'!AI9+'ม.3ไทย คณิต วิทย์ สังคม อังกฤษ'!AJ9 -> 11 | T4: ='ม.3ไทย คณิต วิทย์ สังคม อังกฤษ'!AK9+'ม.3ไทย คณิต วิทย์ สังคม อังกฤษ'!AL9 -> 16 | U4: ='ม.3ไทย คณิต วิทย์ สังคม อังกฤษ'!AM9+'ม.3ไทย คณิต วิทย์ สังคม อังกฤษ'!AN9+'ม.3ไทย คณิต วิทย์ สังคม อังกฤษ'!AO9 -> 17 | V4: ='ม.3ไทย คณิต วิทย์ สังคม อังกฤษ'!AP9+'ม.3ไทย คณิต วิทย์ สังคม อังกฤษ'!AQ9 -> 17 | W4: ='ม.3ไทย คณิต วิทย์ สังคม อังกฤษ'!AR9+'ม.3ไทย คณิต วิทย์ สังคม อังกฤษ'!AS9 -> 10 | X4: ='ม.3ไทย คณิต วิทย์ สังคม อังกฤษ'!AT9+'ม.3ไทย คณิต วิทย์ สังคม อังกฤษ'!AU9 -> 9 | Y4: =SUM(R4:X4) -> 100 | Z4: ='ม.3ไทย คณิต วิทย์ สังคม อังกฤษ'!AW9+'ม.3ไทย คณิต วิทย์ สังคม อังกฤษ'!AX9 -> 16 | AA4: ='ม.3ไทย คณิต วิทย์ สังคม อังกฤษ'!AY9+'ม.3ไทย คณิต วิทย์ สังคม อังกฤษ'!AZ9 -> 22 | AB4: ='ม.3ไทย คณิต วิทย์ สังคม อังกฤษ'!BA9+'ม.3ไทย คณิต วิทย์ สังคม อังกฤษ'!BB9+'ม.3ไทย คณิต วิทย์ สังคม อังกฤษ'!BC9 -> 26 | AC4: ='ม.3ไทย คณิต วิทย์ สังคม อังกฤษ'!BD9 -> 18 | AD4: ='ม.3ไทย คณิต วิทย์ สังคม อังกฤษ'!BE9+'ม.3ไทย คณิต วิทย์ สังคม อังกฤษ'!BF9+'ม.3ไทย คณิต วิทย์ สังคม อังกฤษ'!BG9 -> 18 | AE4: =SUM(Z4:AD4) -> 100 | AF4: ='ม.3ไทย คณิต วิทย์ สังคม อังกฤษ'!BI9+'ม.3ไทย คณิต วิทย์ สังคม อังกฤษ'!BJ9+'ม.3ไทย คณิต วิทย์ สังคม อังกฤษ'!BK9 -> 84 | AG4: ='ม.3ไทย คณิต วิทย์ สังคม อังกฤษ'!BL9 -> 16 | AH4: =SUM(AF4:AG4) -> 100
A5: ='ม.3ไทย คณิต วิทย์ สังคม อังกฤษ'!A10 -> 0 | B5: ='ม.3ไทย คณิต วิทย์ สังคม อังกฤษ'!B10 -> 0 | C5: ='ม.3ไทย คณิต วิทย์ สังคม อังกฤษ'!C10 -> 1 | D5: ='ม.3ไทย คณิต วิทย์ สังคม อังกฤษ'!D10 -> 0 | E5: ='ม.3ไทย คณิต วิทย์ สังคม อังกฤษ'!E10+'ม.3ไทย คณิต วิทย์ สังคม อังกฤษ'!F10+'ม.3ไทย คณิต วิทย์ สังคม อังกฤษ'!G10+'ม.3ไทย คณิต วิทย์ สังคม อังกฤษ'!H10 -> 0 | F5: ='ม.3ไทย คณิต วิทย์ สังคม อังกฤษ'!I10+'ม.3ไทย คณิต วิทย์ สังคม อังกฤษ'!J10 -> 0 | G5: ='ม.3ไทย คณิต วิทย์ สังคม อังกฤษ'!K10 -> 0 | H5: ='ม.3ไทย คณิต วิทย์ สังคม อังกฤษ'!L10 -> 0 | I5: ='ม.3ไทย คณิต วิทย์ สังคม อังกฤษ'!M10+'ม.3ไทย คณิต วิทย์ สังคม อังกฤษ'!N10+'ม.3ไทย คณิต วิทย์ สังคม อังกฤษ'!O10+'ม.3ไทย คณิต วิทย์ สังคม อังกฤษ'!P10 -> 0 | J5: =SUM(E5:I5) -> 0 | K5: ='ม.3ไทย คณิต วิทย์ สังคม อังกฤษ'!R10+'ม.3ไทย คณิต วิทย์ สังคม อังกฤษ'!S10 -> 0 | L5: ='ม.3ไทย คณิต วิทย์ สังคม อังกฤษ'!T10+'ม.3ไทย คณิต วิทย์ สังคม อังกฤษ'!U10+'ม.3ไทย คณิต วิทย์ สังคม อังกฤษ'!V10 -> 0 | M5: ='ม.3ไทย คณิต วิทย์ สังคม อังกฤษ'!W10+'ม.3ไทย คณิต วิทย์ สังคม อังกฤษ'!X10 -> 0 | N5: ='ม.3ไทย คณิต วิทย์ สังคม อังกฤษ'!Y10+'ม.3ไทย คณิต วิทย์ สังคม อังกฤษ'!Z10 -> 0 | O5: ='ม.3ไทย คณิต วิทย์ สังคม อังกฤษ'!AA10+'ม.3ไทย คณิต วิทย์ สังคม อังกฤษ'!AB10+'ม.3ไทย คณิต วิทย์ สังคม อังกฤษ'!AC10 -> 0 | P5: ='ม.3ไทย คณิต วิทย์ สังคม อังกฤษ'!AD10 -> 0 | Q5: =SUM(K5:P5) -> 0 | R5: ='ม.3ไทย คณิต วิทย์ สังคม อังกฤษ'!AF10+'ม.3ไทย คณิต วิทย์ สังคม อังกฤษ'!AG10 -> 0 | S5: ='ม.3ไทย คณิต วิทย์ สังคม อังกฤษ'!AH10+'ม.3ไทย คณิต วิทย์ สังคม อังกฤษ'!AI10+'ม.3ไทย คณิต วิทย์ สังคม อังกฤษ'!AJ10 -> 0 | T5: ='ม.3ไทย คณิต วิทย์ สังคม อังกฤษ'!AK10+'ม.3ไทย คณิต วิทย์ สังคม อังกฤษ'!AL10 -> 0 | U5: ='ม.3ไทย คณิต วิทย์ สังคม อังกฤษ'!AM10+'ม.3ไทย คณิต วิทย์ สังคม อังกฤษ'!AN10+'ม.3ไทย คณิต วิทย์ สังคม อังกฤษ'!AO10 -> 0 | V5: ='ม.3ไทย คณิต วิทย์ สังคม อังกฤษ'!AP10+'ม.3ไทย คณิต วิทย์ สังคม อังกฤษ'!AQ10 -> 0 | W5: ='ม.3ไทย คณิต วิทย์ สังคม อังกฤษ'!AR10+'ม.3ไทย คณิต วิทย์ สังคม อังกฤษ'!AS10 -> 0 | X5: ='ม.3ไทย คณิต วิทย์ สังคม อังกฤษ'!AT10+'ม.3ไทย คณิต วิทย์ สังคม อังกฤษ'!AU10 -> 0 | Y5: =SUM(R5:X5) -> 0 | Z5: ='ม.3ไทย คณิต วิทย์ สังคม อังกฤษ'!AW10+'ม.3ไทย คณิต วิทย์ สังคม อังกฤษ'!AX10 -> 0 | AA5: ='ม.3ไทย คณิต วิทย์ สังคม อังกฤษ'!AY10+'ม.3ไทย คณิต วิทย์ สังคม อังกฤษ'!AZ10 -> 0 | AB5: ='ม.3ไทย คณิต วิทย์ สังคม อังกฤษ'!BA10+'ม.3ไทย คณิต วิทย์ สังคม อังกฤษ'!BB10+'ม.3ไทย คณิต วิทย์ สังคม อังกฤษ'!BC10 -> 0 | AC5: ='ม.3ไทย คณิต วิทย์ สังคม อังกฤษ'!BD10 -> 0 | AD5: ='ม.3ไทย คณิต วิทย์ สังคม อังกฤษ'!BE10+'ม.3ไทย คณิต วิทย์ สังคม อังกฤษ'!BF10+'ม.3ไทย คณิต วิทย์ สังคม อังกฤษ'!BG10 -> 0 | AE5: =SUM(Z5:AD5) -> 0 | AF5: ='ม.3ไทย คณิต วิทย์ สังคม อังกฤษ'!BI10+'ม.3ไทย คณิต วิทย์ สังคม อังกฤษ'!BJ10+'ม.3ไทย คณิต วิทย์ สังคม อังกฤษ'!BK10 -> 0 | AG5: ='ม.3ไทย คณิต วิทย์ สังคม อังกฤษ'!BL10 -> 0 | AH5: =SUM(AF5:AG5) -> 0
A6: ='ม.3ไทย คณิต วิทย์ สังคม อังกฤษ'!A11 -> 0 | B6: ='ม.3ไทย คณิต วิทย์ สังคม อังกฤษ'!B11 -> 0 | C6: ='ม.3ไทย คณิต วิทย์ สังคม อังกฤษ'!C11 -> 2 | D6: ='ม.3ไทย คณิต วิทย์ สังคม อังกฤษ'!D11 -> 0 | E6: ='ม.3ไทย คณิต วิทย์ สังคม อังกฤษ'!E11+'ม.3ไทย คณิต วิทย์ สังคม อังกฤษ'!F11+'ม.3ไทย คณิต วิทย์ สังคม อังกฤษ'!G11+'ม.3ไทย คณิต วิทย์ สังคม อังกฤษ'!H11 -> 0 | F6: ='ม.3ไทย คณิต วิทย์ สังคม อังกฤษ'!I11+'ม.3ไทย คณิต วิทย์ สังคม อังกฤษ'!J11 -> 0 | G6: ='ม.3ไทย คณิต วิทย์ สังคม อังกฤษ'!K11 -> 0 | H6: ='ม.3ไทย คณิต วิทย์ สังคม อังกฤษ'!L11 -> 0 | I6: ='ม.3ไทย คณิต วิทย์ สังคม อังกฤษ'!M11+'ม.3ไทย คณิต วิทย์ สังคม อังกฤษ'!N11+'ม.3ไทย คณิต วิทย์ สังคม อังกฤษ'!O11+'ม.3ไทย คณิต วิทย์ สังคม อังกฤษ'!P11 -> 0 | J6: =SUM(E6:I6) -> 0 | K6: ='ม.3ไทย คณิต วิทย์ สังคม อังกฤษ'!R11+'ม.3ไทย คณิต วิทย์ สังคม อังกฤษ'!S11 -> 0 | L6: ='ม.3ไทย คณิต วิทย์ สังคม อังกฤษ'!T11+'ม.3ไทย คณิต วิทย์ สังคม อังกฤษ'!U11+'ม.3ไทย คณิต วิทย์ สังคม อังกฤษ'!V11 -> 0 | M6: ='ม.3ไทย คณิต วิทย์ สังคม อังกฤษ'!W11+'ม.3ไทย คณิต วิทย์ สังคม อังกฤษ'!X11 -> 0 | N6: ='ม.3ไทย คณิต วิทย์ สังคม อังกฤษ'!Y11+'ม.3ไทย คณิต วิทย์ สังคม อังกฤษ'!Z11 -> 0 | O6: ='ม.3ไทย คณิต วิทย์ สังคม อังกฤษ'!AA11+'ม.3ไทย คณิต วิทย์ สังคม อังกฤษ'!AB11+'ม.3ไทย คณิต วิทย์ สังคม อังกฤษ'!AC11 -> 0 | P6: ='ม.3ไทย คณิต วิทย์ สังคม อังกฤษ'!AD11 -> 0 | Q6: =SUM(K6:P6) -> 0 | R6: ='ม.3ไทย คณิต วิทย์ สังคม อังกฤษ'!AF11+'ม.3ไทย คณิต วิทย์ สังคม อังกฤษ'!AG11 -> 0 | S6: ='ม.3ไทย คณิต วิทย์ สังคม อังกฤษ'!AH11+'ม.3ไทย คณิต วิทย์ สังคม อังกฤษ'!AI11+'ม.3ไทย คณิต วิทย์ สังคม อังกฤษ'!AJ11 -> 0 | T6: ='ม.3ไทย คณิต วิทย์ สังคม อังกฤษ'!AK11+'ม.3ไทย คณิต วิทย์ สังคม อังกฤษ'!AL11 -> 0 | U6: ='ม.3ไทย คณิต วิทย์ สังคม อังกฤษ'!AM11+'ม.3ไทย คณิต วิทย์ สังคม อังกฤษ'!AN11+'ม.3ไทย คณิต วิทย์ สังคม อังกฤษ'!AO11 -> 0 | V6: ='ม.3ไทย คณิต วิทย์ สังคม อังกฤษ'!AP11+'ม.3ไทย คณิต วิทย์ สังคม อังกฤษ'!AQ11 -> 0 | W6: ='ม.3ไทย คณิต วิทย์ สังคม อังกฤษ'!AR11+'ม.3ไทย คณิต วิทย์ สังคม อังกฤษ'!AS11 -> 0 | X6: ='ม.3ไทย คณิต วิทย์ สังคม อังกฤษ'!AT11+'ม.3ไทย คณิต วิทย์ สังคม อังกฤษ'!AU11 -> 0 | Y6: =SUM(R6:X6) -> 0 | Z6: ='ม.3ไทย คณิต วิทย์ สังคม อังกฤษ'!AW11+'ม.3ไทย คณิต วิทย์ สังคม อังกฤษ'!AX11 -> 0 | AA6: ='ม.3ไทย คณิต วิทย์ สังคม อังกฤษ'!AY11+'ม.3ไทย คณิต วิทย์ สังคม อังกฤษ'!AZ11 -> 0 | AB6: ='ม.3ไทย คณิต วิทย์ สังคม อังกฤษ'!BA11+'ม.3ไทย คณิต วิทย์ สังคม อังกฤษ'!BB11+'ม.3ไทย คณิต วิทย์ สังคม อังกฤษ'!BC11 -> 0 | AC6: ='ม.3ไทย คณิต วิทย์ สังคม อังกฤษ'!BD11 -> 0 | AD6: ='ม.3ไทย คณิต วิทย์ สังคม อังกฤษ'!BE11+'ม.3ไทย คณิต วิทย์ สังคม อังกฤษ'!BF11+'ม.3ไทย คณิต วิทย์ สังคม อังกฤษ'!BG11 -> 0 | AE6: =SUM(Z6:AD6) -> 0 | AF6: ='ม.3ไทย คณิต วิทย์ สังคม อังกฤษ'!BI11+'ม.3ไทย คณิต วิทย์ สังคม อังกฤษ'!BJ11+'ม.3ไทย คณิต วิทย์ สังคม อังกฤษ'!BK11 -> 0 | AG6: ='ม.3ไทย คณิต วิทย์ สังคม อังกฤษ'!BL11 -> 0 | AH6: =SUM(AF6:AG6) -> 0
A7: ='ม.3ไทย คณิต วิทย์ สังคม อังกฤษ'!A12 -> 0 | B7: ='ม.3ไทย คณิต วิทย์ สังคม อังกฤษ'!B12 -> 0 | C7: ='ม.3ไทย คณิต วิทย์ สังคม อังกฤษ'!C12 -> 3 | D7: ='ม.3ไทย คณิต วิทย์ สังคม อังกฤษ'!D12 -> 0 | E7: ='ม.3ไทย คณิต วิทย์ สังคม อังกฤษ'!E12+'ม.3ไทย คณิต วิทย์ สังคม อังกฤษ'!F12+'ม.3ไทย คณิต วิทย์ สังคม อังกฤษ'!G12+'ม.3ไทย คณิต วิทย์ สังคม อังกฤษ'!H12 -> 0 | F7: ='ม.3ไทย คณิต วิทย์ สังคม อังกฤษ'!I12+'ม.3ไทย คณิต วิทย์ สังคม อังกฤษ'!J12 -> 0 | G7: ='ม.3ไทย คณิต วิทย์ สังคม อังกฤษ'!K12 -> 0 | H7: ='ม.3ไทย คณิต วิทย์ สังคม อังกฤษ'!L12 -> 0 | I7: ='ม.3ไทย คณิต วิทย์ สังคม อังกฤษ'!M12+'ม.3ไทย คณิต วิทย์ สังคม อังกฤษ'!N12+'ม.3ไทย คณิต วิทย์ สังคม อังกฤษ'!O12+'ม.3ไทย คณิต วิทย์ สังคม อังกฤษ'!P12 -> 0 | J7: =SUM(E7:I7) -> 0 | K7: ='ม.3ไทย คณิต วิทย์ สังคม อังกฤษ'!R12+'ม.3ไทย คณิต วิทย์ สังคม อังกฤษ'!S12 -> 0 | L7: ='ม.3ไทย คณิต วิทย์ สังคม อังกฤษ'!T12+'ม.3ไทย คณิต วิทย์ สังคม อังกฤษ'!U12+'ม.3ไทย คณิต วิทย์ สังคม อังกฤษ'!V12 -> 0 | M7: ='ม.3ไทย คณิต วิทย์ สังคม อังกฤษ'!W12+'ม.3ไทย คณิต วิทย์ สังคม อังกฤษ'!X12 -> 0 | N7: ='ม.3ไทย คณิต วิทย์ สังคม อังกฤษ'!Y12+'ม.3ไทย คณิต วิทย์ สังคม อังกฤษ'!Z12 -> 0 | O7: ='ม.3ไทย คณิต วิทย์ สังคม อังกฤษ'!AA12+'ม.3ไทย คณิต วิทย์ สังคม อังกฤษ'!AB12+'ม.3ไทย คณิต วิทย์ สังคม อังกฤษ'!AC12 -> 0 | P7: ='ม.3ไทย คณิต วิทย์ สังคม อังกฤษ'!AD12 -> 0 | Q7: =SUM(K7:P7) -> 0 | R7: ='ม.3ไทย คณิต วิทย์ สังคม อังกฤษ'!AF12+'ม.3ไทย คณิต วิทย์ สังคม อังกฤษ'!AG12 -> 0 | S7: ='ม.3ไทย คณิต วิทย์ สังคม อังกฤษ'!AH12+'ม.3ไทย คณิต วิทย์ สังคม อังกฤษ'!AI12+'ม.3ไทย คณิต วิทย์ สังคม อังกฤษ'!AJ12 -> 0 | T7: ='ม.3ไทย คณิต วิทย์ สังคม อังกฤษ'!AK12+'ม.3ไทย คณิต วิทย์ สังคม อังกฤษ'!AL12 -> 0 | U7: ='ม.3ไทย คณิต วิทย์ สังคม อังกฤษ'!AM12+'ม.3ไทย คณิต วิทย์ สังคม อังกฤษ'!AN12+'ม.3ไทย คณิต วิทย์ สังคม อังกฤษ'!AO12 -> 0 | V7: ='ม.3ไทย คณิต วิทย์ สังคม อังกฤษ'!AP12+'ม.3ไทย คณิต วิทย์ สังคม อังกฤษ'!AQ12 -> 0 | W7: ='ม.3ไทย คณิต วิทย์ สังคม อังกฤษ'!AR12+'ม.3ไทย คณิต วิทย์ สังคม อังกฤษ'!AS12 -> 0 | X7: ='ม.3ไทย คณิต วิทย์ สังคม อังกฤษ'!AT12+'ม.3ไทย คณิต วิทย์ สังคม อังกฤษ'!AU12 -> 0 | Y7: =SUM(R7:X7) -> 0 | Z7: ='ม.3ไทย คณิต วิทย์ สังคม อังกฤษ'!AW12+'ม.3ไทย คณิต วิทย์ สังคม อังกฤษ'!AX12 -> 0 | AA7: ='ม.3ไทย คณิต วิทย์ สังคม อังกฤษ'!AY12+'ม.3ไทย คณิต วิทย์ สังคม อังกฤษ'!AZ12 -> 0 | AB7: ='ม.3ไทย คณิต วิทย์ สังคม อังกฤษ'!BA12+'ม.3ไทย คณิต วิทย์ สังคม อังกฤษ'!BB12+'ม.3ไทย คณิต วิทย์ สังคม อังกฤษ'!BC12 -> 0 | AC7: ='ม.3ไทย คณิต วิทย์ สังคม อังกฤษ'!BD12 -> 0 | AD7: ='ม.3ไทย คณิต วิทย์ สังคม อังกฤษ'!BE12+'ม.3ไทย คณิต วิทย์ สังคม อังกฤษ'!BF12+'ม.3ไทย คณิต วิทย์ สังคม อังกฤษ'!BG12 -> 0 | AE7: =SUM(Z7:AD7) -> 0 | AF7: ='ม.3ไทย คณิต วิทย์ สังคม อังกฤษ'!BI12+'ม.3ไทย คณิต วิทย์ สังคม อังกฤษ'!BJ12+'ม.3ไทย คณิต วิทย์ สังคม อังกฤษ'!BK12 -> 0 | AG7: ='ม.3ไทย คณิต วิทย์ สังคม อังกฤษ'!BL12 -> 0 | AH7: =SUM(AF7:AG7) -> 0
A8: ='ม.3ไทย คณิต วิทย์ สังคม อังกฤษ'!A13 -> 0 | B8: ='ม.3ไทย คณิต วิทย์ สังคม อังกฤษ'!B13 -> 0 | C8: ='ม.3ไทย คณิต วิทย์ สังคม อังกฤษ'!C13 -> 4 | D8: ='ม.3ไทย คณิต วิทย์ สังคม อังกฤษ'!D13 -> 0 | E8: ='ม.3ไทย คณิต วิทย์ สังคม อังกฤษ'!E13+'ม.3ไทย คณิต วิทย์ สังคม อังกฤษ'!F13+'ม.3ไทย คณิต วิทย์ สังคม อังกฤษ'!G13+'ม.3ไทย คณิต วิทย์ สังคม อังกฤษ'!H13 -> 0 | F8: ='ม.3ไทย คณิต วิทย์ สังคม อังกฤษ'!I13+'ม.3ไทย คณิต วิทย์ สังคม อังกฤษ'!J13 -> 0 | G8: ='ม.3ไทย คณิต วิทย์ สังคม อังกฤษ'!K13 -> 0 | H8: ='ม.3ไทย คณิต วิทย์ สังคม อังกฤษ'!L13 -> 0 | I8: ='ม.3ไทย คณิต วิทย์ สังคม อังกฤษ'!M13+'ม.3ไทย คณิต วิทย์ สังคม อังกฤษ'!N13+'ม.3ไทย คณิต วิทย์ สังคม อังกฤษ'!O13+'ม.3ไทย คณิต วิทย์ สังคม อังกฤษ'!P13 -> 0 | J8: =SUM(E8:I8) -> 0 | K8: ='ม.3ไทย คณิต วิทย์ สังคม อังกฤษ'!R13+'ม.3ไทย คณิต วิทย์ สังคม อังกฤษ'!S13 -> 0 | L8: ='ม.3ไทย คณิต วิทย์ สังคม อังกฤษ'!T13+'ม.3ไทย คณิต วิทย์ สังคม อังกฤษ'!U13+'ม.3ไทย คณิต วิทย์ สังคม อังกฤษ'!V13 -> 0 | M8: ='ม.3ไทย คณิต วิทย์ สังคม อังกฤษ'!W13+'ม.3ไทย คณิต วิทย์ สังคม อังกฤษ'!X13 -> 0 | N8: ='ม.3ไทย คณิต วิทย์ สังคม อังกฤษ'!Y13+'ม.3ไทย คณิต วิทย์ สังคม อังกฤษ'!Z13 -> 0 | O8: ='ม.3ไทย คณิต วิทย์ สังคม อังกฤษ'!AA13+'ม.3ไทย คณิต วิทย์ สังคม อังกฤษ'!AB13+'ม.3ไทย คณิต วิทย์ สังคม อังกฤษ'!AC13 -> 0 | P8: ='ม.3ไทย คณิต วิทย์ สังคม อังกฤษ'!AD13 -> 0 | Q8: =SUM(K8:P8) -> 0 | R8: ='ม.3ไทย คณิต วิทย์ สังคม อังกฤษ'!AF13+'ม.3ไทย คณิต วิทย์ สังคม อังกฤษ'!AG13 -> 0 | S8: ='ม.3ไทย คณิต วิทย์ สังคม อังกฤษ'!AH13+'ม.3ไทย คณิต วิทย์ สังคม อังกฤษ'!AI13+'ม.3ไทย คณิต วิทย์ สังคม อังกฤษ'!AJ13 -> 0 | T8: ='ม.3ไทย คณิต วิทย์ สังคม อังกฤษ'!AK13+'ม.3ไทย คณิต วิทย์ สังคม อังกฤษ'!AL13 -> 0 | U8: ='ม.3ไทย คณิต วิทย์ สังคม อังกฤษ'!AM13+'ม.3ไทย คณิต วิทย์ สังคม อังกฤษ'!AN13+'ม.3ไทย คณิต วิทย์ สังคม อังกฤษ'!AO13 -> 0 | V8: ='ม.3ไทย คณิต วิทย์ สังคม อังกฤษ'!AP13+'ม.3ไทย คณิต วิทย์ สังคม อังกฤษ'!AQ13 -> 0 | W8: ='ม.3ไทย คณิต วิทย์ สังคม อังกฤษ'!AR13+'ม.3ไทย คณิต วิทย์ สังคม อังกฤษ'!AS13 -> 0 | X8: ='ม.3ไทย คณิต วิทย์ สังคม อังกฤษ'!AT13+'ม.3ไทย คณิต วิทย์ สังคม อังกฤษ'!AU13 -> 0 | Y8: =SUM(R8:X8) -> 0 | Z8: ='ม.3ไทย คณิต วิทย์ สังคม อังกฤษ'!AW13+'ม.3ไทย คณิต วิทย์ สังคม อังกฤษ'!AX13 -> 0 | AA8: ='ม.3ไทย คณิต วิทย์ สังคม อังกฤษ'!AY13+'ม.3ไทย คณิต วิทย์ สังคม อังกฤษ'!AZ13 -> 0 | AB8: ='ม.3ไทย คณิต วิทย์ สังคม อังกฤษ'!BA13+'ม.3ไทย คณิต วิทย์ สังคม อังกฤษ'!BB13+'ม.3ไทย คณิต วิทย์ สังคม อังกฤษ'!BC13 -> 0 | AC8: ='ม.3ไทย คณิต วิทย์ สังคม อังกฤษ'!BD13 -> 0 | AD8: ='ม.3ไทย คณิต วิทย์ สังคม อังกฤษ'!BE13+'ม.3ไทย คณิต วิทย์ สังคม อังกฤษ'!BF13+'ม.3ไทย คณิต วิทย์ สังคม อังกฤษ'!BG13 -> 0 | AE8: =SUM(Z8:AD8) -> 0 | AF8: ='ม.3ไทย คณิต วิทย์ สังคม อังกฤษ'!BI13+'ม.3ไทย คณิต วิทย์ สังคม อังกฤษ'!BJ13+'ม.3ไทย คณิต วิทย์ สังคม อังกฤษ'!BK13 -> 0 | AG8: ='ม.3ไทย คณิต วิทย์ สังคม อังกฤษ'!BL13 -> 0 | AH8: =SUM(AF8:AG8) -> 0
A9: ='ม.3ไทย คณิต วิทย์ สังคม อังกฤษ'!A14 -> 0 | B9: ='ม.3ไทย คณิต วิทย์ สังคม อังกฤษ'!B14 -> 0 | C9: ='ม.3ไทย คณิต วิทย์ สังคม อังกฤษ'!C14 -> 5 | D9: ='ม.3ไทย คณิต วิทย์ สังคม อังกฤษ'!D14 -> 0 | E9: ='ม.3ไทย คณิต วิทย์ สังคม อังกฤษ'!E14+'ม.3ไทย คณิต วิทย์ สังคม อังกฤษ'!F14+'ม.3ไทย คณิต วิทย์ สังคม อังกฤษ'!G14+'ม.3ไทย คณิต วิทย์ สังคม อังกฤษ'!H14 -> 0 | F9: ='ม.3ไทย คณิต วิทย์ สังคม อังกฤษ'!I14+'ม.3ไทย คณิต วิทย์ สังคม อังกฤษ'!J14 -> 0 | G9: ='ม.3ไทย คณิต วิทย์ สังคม อังกฤษ'!K14 -> 0 | H9: ='ม.3ไทย คณิต วิทย์ สังคม อังกฤษ'!L14 -> 0 | I9: ='ม.3ไทย คณิต วิทย์ สังคม อังกฤษ'!M14+'ม.3ไทย คณิต วิทย์ สังคม อังกฤษ'!N14+'ม.3ไทย คณิต วิทย์ สังคม อังกฤษ'!O14+'ม.3ไทย คณิต วิทย์ สังคม อังกฤษ'!P14 -> 0 | J9: =SUM(E9:I9) -> 0 | K9: ='ม.3ไทย คณิต วิทย์ สังคม อังกฤษ'!R14+'ม.3ไทย คณิต วิทย์ สังคม อังกฤษ'!S14 -> 0 | L9: ='ม.3ไทย คณิต วิทย์ สังคม อังกฤษ'!T14+'ม.3ไทย คณิต วิทย์ สังคม อังกฤษ'!U14+'ม.3ไทย คณิต วิทย์ สังคม อังกฤษ'!V14 -> 0 | M9: ='ม.3ไทย คณิต วิทย์ สังคม อังกฤษ'!W14+'ม.3ไทย คณิต วิทย์ สังคม อังกฤษ'!X14 -> 0 | N9: ='ม.3ไทย คณิต วิทย์ สังคม อังกฤษ'!Y14+'ม.3ไทย คณิต วิทย์ สังคม อังกฤษ'!Z14 -> 0 | O9: ='ม.3ไทย คณิต วิทย์ สังคม อังกฤษ'!AA14+'ม.3ไทย คณิต วิทย์ สังคม อังกฤษ'!AB14+'ม.3ไทย คณิต วิทย์ สังคม อังกฤษ'!AC14 -> 0 | P9: ='ม.3ไทย คณิต วิทย์ สังคม อังกฤษ'!AD14 -> 0 | Q9: =SUM(K9:P9) -> 0 | R9: ='ม.3ไทย คณิต วิทย์ สังคม อังกฤษ'!AF14+'ม.3ไทย คณิต วิทย์ สังคม อังกฤษ'!AG14 -> 0 | S9: ='ม.3ไทย คณิต วิทย์ สังคม อังกฤษ'!AH14+'ม.3ไทย คณิต วิทย์ สังคม อังกฤษ'!AI14+'ม.3ไทย คณิต วิทย์ สังคม อังกฤษ'!AJ14 -> 0 | T9: ='ม.3ไทย คณิต วิทย์ สังคม อังกฤษ'!AK14+'ม.3ไทย คณิต วิทย์ สังคม อังกฤษ'!AL14 -> 0 | U9: ='ม.3ไทย คณิต วิทย์ สังคม อังกฤษ'!AM14+'ม.3ไทย คณิต วิทย์ สังคม อังกฤษ'!AN14+'ม.3ไทย คณิต วิทย์ สังคม อังกฤษ'!AO14 -> 0 | V9: ='ม.3ไทย คณิต วิทย์ สังคม อังกฤษ'!AP14+'ม.3ไทย คณิต วิทย์ สังคม อังกฤษ'!AQ14 -> 0 | W9: ='ม.3ไทย คณิต วิทย์ สังคม อังกฤษ'!AR14+'ม.3ไทย คณิต วิทย์ สังคม อังกฤษ'!AS14 -> 0 | X9: ='ม.3ไทย คณิต วิทย์ สังคม อังกฤษ'!AT14+'ม.3ไทย คณิต วิทย์ สังคม อังกฤษ'!AU14 -> 0 | Y9: =SUM(R9:X9) -> 0 | Z9: ='ม.3ไทย คณิต วิทย์ สังคม อังกฤษ'!AW14+'ม.3ไทย คณิต วิทย์ สังคม อังกฤษ'!AX14 -> 0 | AA9: ='ม.3ไทย คณิต วิทย์ สังคม อังกฤษ'!AY14+'ม.3ไทย คณิต วิทย์ สังคม อังกฤษ'!AZ14 -> 0 | AB9: ='ม.3ไทย คณิต วิทย์ สังคม อังกฤษ'!BA14+'ม.3ไทย คณิต วิทย์ สังคม อังกฤษ'!BB14+'ม.3ไทย คณิต วิทย์ สังคม อังกฤษ'!BC14 -> 0 | AC9: ='ม.3ไทย คณิต วิทย์ สังคม อังกฤษ'!BD14 -> 0 | AD9: ='ม.3ไทย คณิต วิทย์ สังคม อังกฤษ'!BE14+'ม.3ไทย คณิต วิทย์ สังคม อังกฤษ'!BF14+'ม.3ไทย คณิต วิทย์ สังคม อังกฤษ'!BG14 -> 0 | AE9: =SUM(Z9:AD9) -> 0 | AF9: ='ม.3ไทย คณิต วิทย์ สังคม อังกฤษ'!BI14+'ม.3ไทย คณิต วิทย์ สังคม อังกฤษ'!BJ14+'ม.3ไทย คณิต วิทย์ สังคม อังกฤษ'!BK14 -> 0 | AG9: ='ม.3ไทย คณิต วิทย์ สังคม อังกฤษ'!BL14 -> 0 | AH9: =SUM(AF9:AG9) -> 0
A10: ='ม.3ไทย คณิต วิทย์ สังคม อังกฤษ'!A15 -> 0 | B10: ='ม.3ไทย คณิต วิทย์ สังคม อังกฤษ'!B15 -> 0 | C10: ='ม.3ไทย คณิต วิทย์ สังคม อังกฤษ'!C15 -> 6 | D10: ='ม.3ไทย คณิต วิทย์ สังคม อังกฤษ'!D15 -> 0 | E10: ='ม.3ไทย คณิต วิทย์ สังคม อังกฤษ'!E15+'ม.3ไทย คณิต วิทย์ สังคม อังกฤษ'!F15+'ม.3ไทย คณิต วิทย์ สังคม อังกฤษ'!G15+'ม.3ไทย คณิต วิทย์ สังคม อังกฤษ'!H15 -> 0 | F10: ='ม.3ไทย คณิต วิทย์ สังคม อังกฤษ'!I15+'ม.3ไทย คณิต วิทย์ สังคม อังกฤษ'!J15 -> 0 | G10: ='ม.3ไทย คณิต วิทย์ สังคม อังกฤษ'!K15 -> 0 | H10: ='ม.3ไทย คณิต วิทย์ สังคม อังกฤษ'!L15 -> 0 | I10: ='ม.3ไทย คณิต วิทย์ สังคม อังกฤษ'!M15+'ม.3ไทย คณิต วิทย์ สังคม อังกฤษ'!N15+'ม.3ไทย คณิต วิทย์ สังคม อังกฤษ'!O15+'ม.3ไทย คณิต วิทย์ สังคม อังกฤษ'!P15 -> 0 | J10: =SUM(E10:I10) -> 0 | K10: ='ม.3ไทย คณิต วิทย์ สังคม อังกฤษ'!R15+'ม.3ไทย คณิต วิทย์ สังคม อังกฤษ'!S15 -> 0 | L10: ='ม.3ไทย คณิต วิทย์ สังคม อังกฤษ'!T15+'ม.3ไทย คณิต วิทย์ สังคม อังกฤษ'!U15+'ม.3ไทย คณิต วิทย์ สังคม อังกฤษ'!V15 -> 0 | M10: ='ม.3ไทย คณิต วิทย์ สังคม อังกฤษ'!W15+'ม.3ไทย คณิต วิทย์ สังคม อังกฤษ'!X15 -> 0 | N10: ='ม.3ไทย คณิต วิทย์ สังคม อังกฤษ'!Y15+'ม.3ไทย คณิต วิทย์ สังคม อังกฤษ'!Z15 -> 0 | O10: ='ม.3ไทย คณิต วิทย์ สังคม อังกฤษ'!AA15+'ม.3ไทย คณิต วิทย์ สังคม อังกฤษ'!AB15+'ม.3ไทย คณิต วิทย์ สังคม อังกฤษ'!AC15 -> 0 | P10: ='ม.3ไทย คณิต วิทย์ สังคม อังกฤษ'!AD15 -> 0 | Q10: =SUM(K10:P10) -> 0 | R10: ='ม.3ไทย คณิต วิทย์ สังคม อังกฤษ'!AF15+'ม.3ไทย คณิต วิทย์ สังคม อังกฤษ'!AG15 -> 0 | S10: ='ม.3ไทย คณิต วิทย์ สังคม อังกฤษ'!AH15+'ม.3ไทย คณิต วิทย์ สังคม อังกฤษ'!AI15+'ม.3ไทย คณิต วิทย์ สังคม อังกฤษ'!AJ15 -> 0 | T10: ='ม.3ไทย คณิต วิทย์ สังคม อังกฤษ'!AK15+'ม.3ไทย คณิต วิทย์ สังคม อังกฤษ'!AL15 -> 0 | U10: ='ม.3ไทย คณิต วิทย์ สังคม อังกฤษ'!AM15+'ม.3ไทย คณิต วิทย์ สังคม อังกฤษ'!AN15+'ม.3ไทย คณิต วิทย์ สังคม อังกฤษ'!AO15 -> 0 | V10: ='ม.3ไทย คณิต วิทย์ สังคม อังกฤษ'!AP15+'ม.3ไทย คณิต วิทย์ สังคม อังกฤษ'!AQ15 -> 0 | W10: ='ม.3ไทย คณิต วิทย์ สังคม อังกฤษ'!AR15+'ม.3ไทย คณิต วิทย์ สังคม อังกฤษ'!AS15 -> 0 | X10: ='ม.3ไทย คณิต วิทย์ สังคม อังกฤษ'!AT15+'ม.3ไทย คณิต วิทย์ สังคม อังกฤษ'!AU15 -> 0 | Y10: =SUM(R10:X10) -> 0 | Z10: ='ม.3ไทย คณิต วิทย์ สังคม อังกฤษ'!AW15+'ม.3ไทย คณิต วิทย์ สังคม อังกฤษ'!AX15 -> 0 | AA10: ='ม.3ไทย คณิต วิทย์ สังคม อังกฤษ'!AY15+'ม.3ไทย คณิต วิทย์ สังคม อังกฤษ'!AZ15 -> 0 | AB10: ='ม.3ไทย คณิต วิทย์ สังคม อังกฤษ'!BA15+'ม.3ไทย คณิต วิทย์ สังคม อังกฤษ'!BB15+'ม.3ไทย คณิต วิทย์ สังคม อังกฤษ'!BC15 -> 0 | AC10: ='ม.3ไทย คณิต วิทย์ สังคม อังกฤษ'!BD15 -> 0 | AD10: ='ม.3ไทย คณิต วิทย์ สังคม อังกฤษ'!BE15+'ม.3ไทย คณิต วิทย์ สังคม อังกฤษ'!BF15+'ม.3ไทย คณิต วิทย์ สังคม อังกฤษ'!BG15 -> 0 | AE10: =SUM(Z10:AD10) -> 0 | AF10: ='ม.3ไทย คณิต วิทย์ สังคม อังกฤษ'!BI15+'ม.3ไทย คณิต วิทย์ สังคม อังกฤษ'!BJ15+'ม.3ไทย คณิต วิทย์ สังคม อังกฤษ'!BK15 -> 0 | AG10: ='ม.3ไทย คณิต วิทย์ สังคม อังกฤษ'!BL15 -> 0 | AH10: =SUM(AF10:AG10) -> 0
A11: ='ม.3ไทย คณิต วิทย์ สังคม อังกฤษ'!A16 -> 0 | B11: ='ม.3ไทย คณิต วิทย์ สังคม อังกฤษ'!B16 -> 0 | C11: ='ม.3ไทย คณิต วิทย์ สังคม อังกฤษ'!C16 -> 7 | D11: ='ม.3ไทย คณิต วิทย์ สังคม อังกฤษ'!D16 -> 0 | E11: ='ม.3ไทย คณิต วิทย์ สังคม อังกฤษ'!E16+'ม.3ไทย คณิต วิทย์ สังคม อังกฤษ'!F16+'ม.3ไทย คณิต วิทย์ สังคม อังกฤษ'!G16+'ม.3ไทย คณิต วิทย์ สังคม อังกฤษ'!H16 -> 0 | F11: ='ม.3ไทย คณิต วิทย์ สังคม อังกฤษ'!I16+'ม.3ไทย คณิต วิทย์ สังคม อังกฤษ'!J16 -> 0 | G11: ='ม.3ไทย คณิต วิทย์ สังคม อังกฤษ'!K16 -> 0 | H11: ='ม.3ไทย คณิต วิทย์ สังคม อังกฤษ'!L16 -> 0 | I11: ='ม.3ไทย คณิต วิทย์ สังคม อังกฤษ'!M16+'ม.3ไทย คณิต วิทย์ สังคม อังกฤษ'!N16+'ม.3ไทย คณิต วิทย์ สังคม อังกฤษ'!O16+'ม.3ไทย คณิต วิทย์ สังคม อังกฤษ'!P16 -> 0 | J11: =SUM(E11:I11) -> 0 | K11: ='ม.3ไทย คณิต วิทย์ สังคม อังกฤษ'!R16+'ม.3ไทย คณิต วิทย์ สังคม อังกฤษ'!S16 -> 0 | L11: ='ม.3ไทย คณิต วิทย์ สังคม อังกฤษ'!T16+'ม.3ไทย คณิต วิทย์ สังคม อังกฤษ'!U16+'ม.3ไทย คณิต วิทย์ สังคม อังกฤษ'!V16 -> 0 | M11: ='ม.3ไทย คณิต วิทย์ สังคม อังกฤษ'!W16+'ม.3ไทย คณิต วิทย์ สังคม อังกฤษ'!X16 -> 0 | N11: ='ม.3ไทย คณิต วิทย์ สังคม อังกฤษ'!Y16+'ม.3ไทย คณิต วิทย์ สังคม อังกฤษ'!Z16 -> 0 | O11: ='ม.3ไทย คณิต วิทย์ สังคม อังกฤษ'!AA16+'ม.3ไทย คณิต วิทย์ สังคม อังกฤษ'!AB16+'ม.3ไทย คณิต วิทย์ สังคม อังกฤษ'!AC16 -> 0 | P11: ='ม.3ไทย คณิต วิทย์ สังคม อังกฤษ'!AD16 -> 0 | Q11: =SUM(K11:P11) -> 0 | R11: ='ม.3ไทย คณิต วิทย์ สังคม อังกฤษ'!AF16+'ม.3ไทย คณิต วิทย์ สังคม อังกฤษ'!AG16 -> 0 | S11: ='ม.3ไทย คณิต วิทย์ สังคม อังกฤษ'!AH16+'ม.3ไทย คณิต วิทย์ สังคม อังกฤษ'!AI16+'ม.3ไทย คณิต วิทย์ สังคม อังกฤษ'!AJ16 -> 0 | T11: ='ม.3ไทย คณิต วิทย์ สังคม อังกฤษ'!AK16+'ม.3ไทย คณิต วิทย์ สังคม อังกฤษ'!AL16 -> 0 | U11: ='ม.3ไทย คณิต วิทย์ สังคม อังกฤษ'!AM16+'ม.3ไทย คณิต วิทย์ สังคม อังกฤษ'!AN16+'ม.3ไทย คณิต วิทย์ สังคม อังกฤษ'!AO16 -> 0 | V11: ='ม.3ไทย คณิต วิทย์ สังคม อังกฤษ'!AP16+'ม.3ไทย คณิต วิทย์ สังคม อังกฤษ'!AQ16 -> 0 | W11: ='ม.3ไทย คณิต วิทย์ สังคม อังกฤษ'!AR16+'ม.3ไทย คณิต วิทย์ สังคม อังกฤษ'!AS16 -> 0 | X11: ='ม.3ไทย คณิต วิทย์ สังคม อังกฤษ'!AT16+'ม.3ไทย คณิต วิทย์ สังคม อังกฤษ'!AU16 -> 0 | Y11: =SUM(R11:X11) -> 0 | Z11: ='ม.3ไทย คณิต วิทย์ สังคม อังกฤษ'!AW16+'ม.3ไทย คณิต วิทย์ สังคม อังกฤษ'!AX16 -> 0 | AA11: ='ม.3ไทย คณิต วิทย์ สังคม อังกฤษ'!AY16+'ม.3ไทย คณิต วิทย์ สังคม อังกฤษ'!AZ16 -> 0 | AB11: ='ม.3ไทย คณิต วิทย์ สังคม อังกฤษ'!BA16+'ม.3ไทย คณิต วิทย์ สังคม อังกฤษ'!BB16+'ม.3ไทย คณิต วิทย์ สังคม อังกฤษ'!BC16 -> 0 | AC11: ='ม.3ไทย คณิต วิทย์ สังคม อังกฤษ'!BD16 -> 0 | AD11: ='ม.3ไทย คณิต วิทย์ สังคม อังกฤษ'!BE16+'ม.3ไทย คณิต วิทย์ สังคม อังกฤษ'!BF16+'ม.3ไทย คณิต วิทย์ สังคม อังกฤษ'!BG16 -> 0 | AE11: =SUM(Z11:AD11) -> 0 | AF11: ='ม.3ไทย คณิต วิทย์ สังคม อังกฤษ'!BI16+'ม.3ไทย คณิต วิทย์ สังคม อังกฤษ'!BJ16+'ม.3ไทย คณิต วิทย์ สังคม อังกฤษ'!BK16 -> 0 | AG11: ='ม.3ไทย คณิต วิทย์ สังคม อังกฤษ'!BL16 -> 0 | AH11: =SUM(AF11:AG11) -> 0
A12: ='ม.3ไทย คณิต วิทย์ สังคม อังกฤษ'!A17 -> 0 | B12: ='ม.3ไทย คณิต วิทย์ สังคม อังกฤษ'!B17 -> 0 | C12: ='ม.3ไทย คณิต วิทย์ สังคม อังกฤษ'!C17 -> 8 | D12: ='ม.3ไทย คณิต วิทย์ สังคม อังกฤษ'!D17 -> 0 | E12: ='ม.3ไทย คณิต วิทย์ สังคม อังกฤษ'!E17+'ม.3ไทย คณิต วิทย์ สังคม อังกฤษ'!F17+'ม.3ไทย คณิต วิทย์ สังคม อังกฤษ'!G17+'ม.3ไทย คณิต วิทย์ สังคม อังกฤษ'!H17 -> 0 | F12: ='ม.3ไทย คณิต วิทย์ สังคม อังกฤษ'!I17+'ม.3ไทย คณิต วิทย์ สังคม อังกฤษ'!J17 -> 0 | G12: ='ม.3ไทย คณิต วิทย์ สังคม อังกฤษ'!K17 -> 0 | H12: ='ม.3ไทย คณิต วิทย์ สังคม อังกฤษ'!L17 -> 0 | I12: ='ม.3ไทย คณิต วิทย์ สังคม อังกฤษ'!M17+'ม.3ไทย คณิต วิทย์ สังคม อังกฤษ'!N17+'ม.3ไทย คณิต วิทย์ สังคม อังกฤษ'!O17+'ม.3ไทย คณิต วิทย์ สังคม อังกฤษ'!P17 -> 0 | J12: =SUM(E12:I12) -> 0 | K12: ='ม.3ไทย คณิต วิทย์ สังคม อังกฤษ'!R17+'ม.3ไทย คณิต วิทย์ สังคม อังกฤษ'!S17 -> 0 | L12: ='ม.3ไทย คณิต วิทย์ สังคม อังกฤษ'!T17+'ม.3ไทย คณิต วิทย์ สังคม อังกฤษ'!U17+'ม.3ไทย คณิต วิทย์ สังคม อังกฤษ'!V17 -> 0 | M12: ='ม.3ไทย คณิต วิทย์ สังคม อังกฤษ'!W17+'ม.3ไทย คณิต วิทย์ สังคม อังกฤษ'!X17 -> 0 | N12: ='ม.3ไทย คณิต วิทย์ สังคม อังกฤษ'!Y17+'ม.3ไทย คณิต วิทย์ สังคม อังกฤษ'!Z17 -> 0 | O12: ='ม.3ไทย คณิต วิทย์ สังคม อังกฤษ'!AA17+'ม.3ไทย คณิต วิทย์ สังคม อังกฤษ'!AB17+'ม.3ไทย คณิต วิทย์ สังคม อังกฤษ'!AC17 -> 0 | P12: ='ม.3ไทย คณิต วิทย์ สังคม อังกฤษ'!AD17 -> 0 | Q12: =SUM(K12:P12) -> 0 | R12: ='ม.3ไทย คณิต วิทย์ สังคม อังกฤษ'!AF17+'ม.3ไทย คณิต วิทย์ สังคม อังกฤษ'!AG17 -> 0 | S12: ='ม.3ไทย คณิต วิทย์ สังคม อังกฤษ'!AH17+'ม.3ไทย คณิต วิทย์ สังคม อังกฤษ'!AI17+'ม.3ไทย คณิต วิทย์ สังคม อังกฤษ'!AJ17 -> 0 | T12: ='ม.3ไทย คณิต วิทย์ สังคม อังกฤษ'!AK17+'ม.3ไทย คณิต วิทย์ สังคม อังกฤษ'!AL17 -> 0 | U12: ='ม.3ไทย คณิต วิทย์ สังคม อังกฤษ'!AM17+'ม.3ไทย คณิต วิทย์ สังคม อังกฤษ'!AN17+'ม.3ไทย คณิต วิทย์ สังคม อังกฤษ'!AO17 -> 0 | V12: ='ม.3ไทย คณิต วิทย์ สังคม อังกฤษ'!AP17+'ม.3ไทย คณิต วิทย์ สังคม อังกฤษ'!AQ17 -> 0 | W12: ='ม.3ไทย คณิต วิทย์ สังคม อังกฤษ'!AR17+'ม.3ไทย คณิต วิทย์ สังคม อังกฤษ'!AS17 -> 0 | X12: ='ม.3ไทย คณิต วิทย์ สังคม อังกฤษ'!AT17+'ม.3ไทย คณิต วิทย์ สังคม อังกฤษ'!AU17 -> 0 | Y12: =SUM(R12:X12) -> 0 | Z12: ='ม.3ไทย คณิต วิทย์ สังคม อังกฤษ'!AW17+'ม.3ไทย คณิต วิทย์ สังคม อังกฤษ'!AX17 -> 0 | AA12: ='ม.3ไทย คณิต วิทย์ สังคม อังกฤษ'!AY17+'ม.3ไทย คณิต วิทย์ สังคม อังกฤษ'!AZ17 -> 0 | AB12: ='ม.3ไทย คณิต วิทย์ สังคม อังกฤษ'!BA17+'ม.3ไทย คณิต วิทย์ สังคม อังกฤษ'!BB17+'ม.3ไทย คณิต วิทย์ สังคม อังกฤษ'!BC17 -> 0 | AC12: ='ม.3ไทย คณิต วิทย์ สังคม อังกฤษ'!BD17 -> 0 | AD12: ='ม.3ไทย คณิต วิทย์ สังคม อังกฤษ'!BE17+'ม.3ไทย คณิต วิทย์ สังคม อังกฤษ'!BF17+'ม.3ไทย คณิต วิทย์ สังคม อังกฤษ'!BG17 -> 0 | AE12: =SUM(Z12:AD12) -> 0 | AF12: ='ม.3ไทย คณิต วิทย์ สังคม อังกฤษ'!BI17+'ม.3ไทย คณิต วิทย์ สังคม อังกฤษ'!BJ17+'ม.3ไทย คณิต วิทย์ สังคม อังกฤษ'!BK17 -> 0 | AG12: ='ม.3ไทย คณิต วิทย์ สังคม อังกฤษ'!BL17 -> 0 | AH12: =SUM(AF12:AG12) -> 0
A13: ='ม.3ไทย คณิต วิทย์ สังคม อังกฤษ'!A18 -> 0 | B13: ='ม.3ไทย คณิต วิทย์ สังคม อังกฤษ'!B18 -> 0 | C13: ='ม.3ไทย คณิต วิทย์ สังคม อังกฤษ'!C18 -> 9 | D13: ='ม.3ไทย คณิต วิทย์ สังคม อังกฤษ'!D18 -> 0 | E13: ='ม.3ไทย คณิต วิทย์ สังคม อังกฤษ'!E18+'ม.3ไทย คณิต วิทย์ สังคม อังกฤษ'!F18+'ม.3ไทย คณิต วิทย์ สังคม อังกฤษ'!G18+'ม.3ไทย คณิต วิทย์ สังคม อังกฤษ'!H18 -> 0 | F13: ='ม.3ไทย คณิต วิทย์ สังคม อังกฤษ'!I18+'ม.3ไทย คณิต วิทย์ สังคม อังกฤษ'!J18 -> 0 | G13: ='ม.3ไทย คณิต วิทย์ สังคม อังกฤษ'!K18 -> 0 | H13: ='ม.3ไทย คณิต วิทย์ สังคม อังกฤษ'!L18 -> 0 | I13: ='ม.3ไทย คณิต วิทย์ สังคม อังกฤษ'!M18+'ม.3ไทย คณิต วิทย์ สังคม อังกฤษ'!N18+'ม.3ไทย คณิต วิทย์ สังคม อังกฤษ'!O18+'ม.3ไทย คณิต วิทย์ สังคม อังกฤษ'!P18 -> 0 | J13: =SUM(E13:I13) -> 0 | K13: ='ม.3ไทย คณิต วิทย์ สังคม อังกฤษ'!R18+'ม.3ไทย คณิต วิทย์ สังคม อังกฤษ'!S18 -> 0 | L13: ='ม.3ไทย คณิต วิทย์ สังคม อังกฤษ'!T18+'ม.3ไทย คณิต วิทย์ สังคม อังกฤษ'!U18+'ม.3ไทย คณิต วิทย์ สังคม อังกฤษ'!V18 -> 0 | M13: ='ม.3ไทย คณิต วิทย์ สังคม อังกฤษ'!W18+'ม.3ไทย คณิต วิทย์ สังคม อังกฤษ'!X18 -> 0 | N13: ='ม.3ไทย คณิต วิทย์ สังคม อังกฤษ'!Y18+'ม.3ไทย คณิต วิทย์ สังคม อังกฤษ'!Z18 -> 0 | O13: ='ม.3ไทย คณิต วิทย์ สังคม อังกฤษ'!AA18+'ม.3ไทย คณิต วิทย์ สังคม อังกฤษ'!AB18+'ม.3ไทย คณิต วิทย์ สังคม อังกฤษ'!AC18 -> 0 | P13: ='ม.3ไทย คณิต วิทย์ สังคม อังกฤษ'!AD18 -> 0 | Q13: =SUM(K13:P13) -> 0 | R13: ='ม.3ไทย คณิต วิทย์ สังคม อังกฤษ'!AF18+'ม.3ไทย คณิต วิทย์ สังคม อังกฤษ'!AG18 -> 0 | S13: ='ม.3ไทย คณิต วิทย์ สังคม อังกฤษ'!AH18+'ม.3ไทย คณิต วิทย์ สังคม อังกฤษ'!AI18+'ม.3ไทย คณิต วิทย์ สังคม อังกฤษ'!AJ18 -> 0 | T13: ='ม.3ไทย คณิต วิทย์ สังคม อังกฤษ'!AK18+'ม.3ไทย คณิต วิทย์ สังคม อังกฤษ'!AL18 -> 0 | U13: ='ม.3ไทย คณิต วิทย์ สังคม อังกฤษ'!AM18+'ม.3ไทย คณิต วิทย์ สังคม อังกฤษ'!AN18+'ม.3ไทย คณิต วิทย์ สังคม อังกฤษ'!AO18 -> 0 | V13: ='ม.3ไทย คณิต วิทย์ สังคม อังกฤษ'!AP18+'ม.3ไทย คณิต วิทย์ สังคม อังกฤษ'!AQ18 -> 0 | W13: ='ม.3ไทย คณิต วิทย์ สังคม อังกฤษ'!AR18+'ม.3ไทย คณิต วิทย์ สังคม อังกฤษ'!AS18 -> 0 | X13: ='ม.3ไทย คณิต วิทย์ สังคม อังกฤษ'!AT18+'ม.3ไทย คณิต วิทย์ สังคม อังกฤษ'!AU18 -> 0 | Y13: =SUM(R13:X13) -> 0 | Z13: ='ม.3ไทย คณิต วิทย์ สังคม อังกฤษ'!AW18+'ม.3ไทย คณิต วิทย์ สังคม อังกฤษ'!AX18 -> 0 | AA13: ='ม.3ไทย คณิต วิทย์ สังคม อังกฤษ'!AY18+'ม.3ไทย คณิต วิทย์ สังคม อังกฤษ'!AZ18 -> 0 | AB13: ='ม.3ไทย คณิต วิทย์ สังคม อังกฤษ'!BA18+'ม.3ไทย คณิต วิทย์ สังคม อังกฤษ'!BB18+'ม.3ไทย คณิต วิทย์ สังคม อังกฤษ'!BC18 -> 0 | AC13: ='ม.3ไทย คณิต วิทย์ สังคม อังกฤษ'!BD18 -> 0 | AD13: ='ม.3ไทย คณิต วิทย์ สังคม อังกฤษ'!BE18+'ม.3ไทย คณิต วิทย์ สังคม อังกฤษ'!BF18+'ม.3ไทย คณิต วิทย์ สังคม อังกฤษ'!BG18 -> 0 | AE13: =SUM(Z13:AD13) -> 0 | AF13: ='ม.3ไทย คณิต วิทย์ สังคม อังกฤษ'!BI18+'ม.3ไทย คณิต วิทย์ สังคม อังกฤษ'!BJ18+'ม.3ไทย คณิต วิทย์ สังคม อังกฤษ'!BK18 -> 0 | AG13: ='ม.3ไทย คณิต วิทย์ สังคม อังกฤษ'!BL18 -> 0 | AH13: =SUM(AF13:AG13) -> 0
A14: ='ม.3ไทย คณิต วิทย์ สังคม อังกฤษ'!A19 -> 0 | B14: ='ม.3ไทย คณิต วิทย์ สังคม อังกฤษ'!B19 -> 0 | C14: ='ม.3ไทย คณิต วิทย์ สังคม อังกฤษ'!C19 -> 10 | D14: ='ม.3ไทย คณิต วิทย์ สังคม อังกฤษ'!D19 -> 0 | E14: ='ม.3ไทย คณิต วิทย์ สังคม อังกฤษ'!E19+'ม.3ไทย คณิต วิทย์ สังคม อังกฤษ'!F19+'ม.3ไทย คณิต วิทย์ สังคม อังกฤษ'!G19+'ม.3ไทย คณิต วิทย์ สังคม อังกฤษ'!H19 -> 0 | F14: ='ม.3ไทย คณิต วิทย์ สังคม อังกฤษ'!I19+'ม.3ไทย คณิต วิทย์ สังคม อังกฤษ'!J19 -> 0 | G14: ='ม.3ไทย คณิต วิทย์ สังคม อังกฤษ'!K19 -> 0 | H14: ='ม.3ไทย คณิต วิทย์ สังคม อังกฤษ'!L19 -> 0 | I14: ='ม.3ไทย คณิต วิทย์ สังคม อังกฤษ'!M19+'ม.3ไทย คณิต วิทย์ สังคม อังกฤษ'!N19+'ม.3ไทย คณิต วิทย์ สังคม อังกฤษ'!O19+'ม.3ไทย คณิต วิทย์ สังคม อังกฤษ'!P19 -> 0 | J14: =SUM(E14:I14) -> 0 | K14: ='ม.3ไทย คณิต วิทย์ สังคม อังกฤษ'!R19+'ม.3ไทย คณิต วิทย์ สังคม อังกฤษ'!S19 -> 0 | L14: ='ม.3ไทย คณิต วิทย์ สังคม อังกฤษ'!T19+'ม.3ไทย คณิต วิทย์ สังคม อังกฤษ'!U19+'ม.3ไทย คณิต วิทย์ สังคม อังกฤษ'!V19 -> 0 | M14: ='ม.3ไทย คณิต วิทย์ สังคม อังกฤษ'!W19+'ม.3ไทย คณิต วิทย์ สังคม อังกฤษ'!X19 -> 0 | N14: ='ม.3ไทย คณิต วิทย์ สังคม อังกฤษ'!Y19+'ม.3ไทย คณิต วิทย์ สังคม อังกฤษ'!Z19 -> 0 | O14: ='ม.3ไทย คณิต วิทย์ สังคม อังกฤษ'!AA19+'ม.3ไทย คณิต วิทย์ สังคม อังกฤษ'!AB19+'ม.3ไทย คณิต วิทย์ สังคม อังกฤษ'!AC19 -> 0 | P14: ='ม.3ไทย คณิต วิทย์ สังคม อังกฤษ'!AD19 -> 0 | Q14: =SUM(K14:P14) -> 0 | R14: ='ม.3ไทย คณิต วิทย์ สังคม อังกฤษ'!AF19+'ม.3ไทย คณิต วิทย์ สังคม อังกฤษ'!AG19 -> 0 | S14: ='ม.3ไทย คณิต วิทย์ สังคม อังกฤษ'!AH19+'ม.3ไทย คณิต วิทย์ สังคม อังกฤษ'!AI19+'ม.3ไทย คณิต วิทย์ สังคม อังกฤษ'!AJ19 -> 0 | T14: ='ม.3ไทย คณิต วิทย์ สังคม อังกฤษ'!AK19+'ม.3ไทย คณิต วิทย์ สังคม อังกฤษ'!AL19 -> 0 | U14: ='ม.3ไทย คณิต วิทย์ สังคม อังกฤษ'!AM19+'ม.3ไทย คณิต วิทย์ สังคม อังกฤษ'!AN19+'ม.3ไทย คณิต วิทย์ สังคม อังกฤษ'!AO19 -> 0 | V14: ='ม.3ไทย คณิต วิทย์ สังคม อังกฤษ'!AP19+'ม.3ไทย คณิต วิทย์ สังคม อังกฤษ'!AQ19 -> 0 | W14: ='ม.3ไทย คณิต วิทย์ สังคม อังกฤษ'!AR19+'ม.3ไทย คณิต วิทย์ สังคม อังกฤษ'!AS19 -> 0 | X14: ='ม.3ไทย คณิต วิทย์ สังคม อังกฤษ'!AT19+'ม.3ไทย คณิต วิทย์ สังคม อังกฤษ'!AU19 -> 0 | Y14: =SUM(R14:X14) -> 0 | Z14: ='ม.3ไทย คณิต วิทย์ สังคม อังกฤษ'!AW19+'ม.3ไทย คณิต วิทย์ สังคม อังกฤษ'!AX19 -> 0 | AA14: ='ม.3ไทย คณิต วิทย์ สังคม อังกฤษ'!AY19+'ม.3ไทย คณิต วิทย์ สังคม อังกฤษ'!AZ19 -> 0 | AB14: ='ม.3ไทย คณิต วิทย์ สังคม อังกฤษ'!BA19+'ม.3ไทย คณิต วิทย์ สังคม อังกฤษ'!BB19+'ม.3ไทย คณิต วิทย์ สังคม อังกฤษ'!BC19 -> 0 | AC14: ='ม.3ไทย คณิต วิทย์ สังคม อังกฤษ'!BD19 -> 0 | AD14: ='ม.3ไทย คณิต วิทย์ สังคม อังกฤษ'!BE19+'ม.3ไทย คณิต วิทย์ สังคม อังกฤษ'!BF19+'ม.3ไทย คณิต วิทย์ สังคม อังกฤษ'!BG19 -> 0 | AE14: =SUM(Z14:AD14) -> 0 | AF14: ='ม.3ไทย คณิต วิทย์ สังคม อังกฤษ'!BI19+'ม.3ไทย คณิต วิทย์ สังคม อังกฤษ'!BJ19+'ม.3ไทย คณิต วิทย์ สังคม อังกฤษ'!BK19 -> 0 | AG14: ='ม.3ไทย คณิต วิทย์ สังคม อังกฤษ'!BL19 -> 0 | AH14: =SUM(AF14:AG14) -> 0
A15: ='ม.3ไทย คณิต วิทย์ สังคม อังกฤษ'!A20 -> 0 | B15: ='ม.3ไทย คณิต วิทย์ สังคม อังกฤษ'!B20 -> 0 | C15: ='ม.3ไทย คณิต วิทย์ สังคม อังกฤษ'!C20 -> 11 | D15: ='ม.3ไทย คณิต วิทย์ สังคม อังกฤษ'!D20 -> 0 | E15: ='ม.3ไทย คณิต วิทย์ สังคม อังกฤษ'!E20+'ม.3ไทย คณิต วิทย์ สังคม อังกฤษ'!F20+'ม.3ไทย คณิต วิทย์ สังคม อังกฤษ'!G20+'ม.3ไทย คณิต วิทย์ สังคม อังกฤษ'!H20 -> 0 | F15: ='ม.3ไทย คณิต วิทย์ สังคม อังกฤษ'!I20+'ม.3ไทย คณิต วิทย์ สังคม อังกฤษ'!J20 -> 0 | G15: ='ม.3ไทย คณิต วิทย์ สังคม อังกฤษ'!K20 -> 0 | H15: ='ม.3ไทย คณิต วิทย์ สังคม อังกฤษ'!L20 -> 0 | I15: ='ม.3ไทย คณิต วิทย์ สังคม อังกฤษ'!M20+'ม.3ไทย คณิต วิทย์ สังคม อังกฤษ'!N20+'ม.3ไทย คณิต วิทย์ สังคม อังกฤษ'!O20+'ม.3ไทย คณิต วิทย์ สังคม อังกฤษ'!P20 -> 0 | J15: =SUM(E15:I15) -> 0 | K15: ='ม.3ไทย คณิต วิทย์ สังคม อังกฤษ'!R20+'ม.3ไทย คณิต วิทย์ สังคม อังกฤษ'!S20 -> 0 | L15: ='ม.3ไทย คณิต วิทย์ สังคม อังกฤษ'!T20+'ม.3ไทย คณิต วิทย์ สังคม อังกฤษ'!U20+'ม.3ไทย คณิต วิทย์ สังคม อังกฤษ'!V20 -> 0 | M15: ='ม.3ไทย คณิต วิทย์ สังคม อังกฤษ'!W20+'ม.3ไทย คณิต วิทย์ สังคม อังกฤษ'!X20 -> 0 | N15: ='ม.3ไทย คณิต วิทย์ สังคม อังกฤษ'!Y20+'ม.3ไทย คณิต วิทย์ สังคม อังกฤษ'!Z20 -> 0 | O15: ='ม.3ไทย คณิต วิทย์ สังคม อังกฤษ'!AA20+'ม.3ไทย คณิต วิทย์ สังคม อังกฤษ'!AB20+'ม.3ไทย คณิต วิทย์ สังคม อังกฤษ'!AC20 -> 0 | P15: ='ม.3ไทย คณิต วิทย์ สังคม อังกฤษ'!AD20 -> 0 | Q15: =SUM(K15:P15) -> 0 | R15: ='ม.3ไทย คณิต วิทย์ สังคม อังกฤษ'!AF20+'ม.3ไทย คณิต วิทย์ สังคม อังกฤษ'!AG20 -> 0 | S15: ='ม.3ไทย คณิต วิทย์ สังคม อังกฤษ'!AH20+'ม.3ไทย คณิต วิทย์ สังคม อังกฤษ'!AI20+'ม.3ไทย คณิต วิทย์ สังคม อังกฤษ'!AJ20 -> 0 | T15: ='ม.3ไทย คณิต วิทย์ สังคม อังกฤษ'!AK20+'ม.3ไทย คณิต วิทย์ สังคม อังกฤษ'!AL20 -> 0 | U15: ='ม.3ไทย คณิต วิทย์ สังคม อังกฤษ'!AM20+'ม.3ไทย คณิต วิทย์ สังคม อังกฤษ'!AN20+'ม.3ไทย คณิต วิทย์ สังคม อังกฤษ'!AO20 -> 0 | V15: ='ม.3ไทย คณิต วิทย์ สังคม อังกฤษ'!AP20+'ม.3ไทย คณิต วิทย์ สังคม อังกฤษ'!AQ20 -> 0 | W15: ='ม.3ไทย คณิต วิทย์ สังคม อังกฤษ'!AR20+'ม.3ไทย คณิต วิทย์ สังคม อังกฤษ'!AS20 -> 0 | X15: ='ม.3ไทย คณิต วิทย์ สังคม อังกฤษ'!AT20+'ม.3ไทย คณิต วิทย์ สังคม อังกฤษ'!AU20 -> 0 | Y15: =SUM(R15:X15) -> 0 | Z15: ='ม.3ไทย คณิต วิทย์ สังคม อังกฤษ'!AW20+'ม.3ไทย คณิต วิทย์ สังคม อังกฤษ'!AX20 -> 0 | AA15: ='ม.3ไทย คณิต วิทย์ สังคม อังกฤษ'!AY20+'ม.3ไทย คณิต วิทย์ สังคม อังกฤษ'!AZ20 -> 0 | AB15: ='ม.3ไทย คณิต วิทย์ สังคม อังกฤษ'!BA20+'ม.3ไทย คณิต วิทย์ สังคม อังกฤษ'!BB20+'ม.3ไทย คณิต วิทย์ สังคม อังกฤษ'!BC20 -> 0 | AC15: ='ม.3ไทย คณิต วิทย์ สังคม อังกฤษ'!BD20 -> 0 | AD15: ='ม.3ไทย คณิต วิทย์ สังคม อังกฤษ'!BE20+'ม.3ไทย คณิต วิทย์ สังคม อังกฤษ'!BF20+'ม.3ไทย คณิต วิทย์ สังคม อังกฤษ'!BG20 -> 0 | AE15: =SUM(Z15:AD15) -> 0 | AF15: ='ม.3ไทย คณิต วิทย์ สังคม อังกฤษ'!BI20+'ม.3ไทย คณิต วิทย์ สังคม อังกฤษ'!BJ20+'ม.3ไทย คณิต วิทย์ สังคม อังกฤษ'!BK20 -> 0 | AG15: ='ม.3ไทย คณิต วิทย์ สังคม อังกฤษ'!BL20 -> 0 | AH15: =SUM(AF15:AG15) -> 0
A16: ='ม.3ไทย คณิต วิทย์ สังคม อังกฤษ'!A21 -> 0 | B16: ='ม.3ไทย คณิต วิทย์ สังคม อังกฤษ'!B21 -> 0 | C16: ='ม.3ไทย คณิต วิทย์ สังคม อังกฤษ'!C21 -> 12 | D16: ='ม.3ไทย คณิต วิทย์ สังคม อังกฤษ'!D21 -> 0 | E16: ='ม.3ไทย คณิต วิทย์ สังคม อังกฤษ'!E21+'ม.3ไทย คณิต วิทย์ สังคม อังกฤษ'!F21+'ม.3ไทย คณิต วิทย์ สังคม อังกฤษ'!G21+'ม.3ไทย คณิต วิทย์ สังคม อังกฤษ'!H21 -> 0 | F16: ='ม.3ไทย คณิต วิทย์ สังคม อังกฤษ'!I21+'ม.3ไทย คณิต วิทย์ สังคม อังกฤษ'!J21 -> 0 | G16: ='ม.3ไทย คณิต วิทย์ สังคม อังกฤษ'!K21 -> 0 | H16: ='ม.3ไทย คณิต วิทย์ สังคม อังกฤษ'!L21 -> 0 | I16: ='ม.3ไทย คณิต วิทย์ สังคม อังกฤษ'!M21+'ม.3ไทย คณิต วิทย์ สังคม อังกฤษ'!N21+'ม.3ไทย คณิต วิทย์ สังคม อังกฤษ'!O21+'ม.3ไทย คณิต วิทย์ สังคม อังกฤษ'!P21 -> 0 | J16: =SUM(E16:I16) -> 0 | K16: ='ม.3ไทย คณิต วิทย์ สังคม อังกฤษ'!R21+'ม.3ไทย คณิต วิทย์ สังคม อังกฤษ'!S21 -> 0 | L16: ='ม.3ไทย คณิต วิทย์ สังคม อังกฤษ'!T21+'ม.3ไทย คณิต วิทย์ สังคม อังกฤษ'!U21+'ม.3ไทย คณิต วิทย์ สังคม อังกฤษ'!V21 -> 0 | M16: ='ม.3ไทย คณิต วิทย์ สังคม อังกฤษ'!W21+'ม.3ไทย คณิต วิทย์ สังคม อังกฤษ'!X21 -> 0 | N16: ='ม.3ไทย คณิต วิทย์ สังคม อังกฤษ'!Y21+'ม.3ไทย คณิต วิทย์ สังคม อังกฤษ'!Z21 -> 0 | O16: ='ม.3ไทย คณิต วิทย์ สังคม อังกฤษ'!AA21+'ม.3ไทย คณิต วิทย์ สังคม อังกฤษ'!AB21+'ม.3ไทย คณิต วิทย์ สังคม อังกฤษ'!AC21 -> 0 | P16: ='ม.3ไทย คณิต วิทย์ สังคม อังกฤษ'!AD21 -> 0 | Q16: =SUM(K16:P16) -> 0 | R16: ='ม.3ไทย คณิต วิทย์ สังคม อังกฤษ'!AF21+'ม.3ไทย คณิต วิทย์ สังคม อังกฤษ'!AG21 -> 0 | S16: ='ม.3ไทย คณิต วิทย์ สังคม อังกฤษ'!AH21+'ม.3ไทย คณิต วิทย์ สังคม อังกฤษ'!AI21+'ม.3ไทย คณิต วิทย์ สังคม อังกฤษ'!AJ21 -> 0 | T16: ='ม.3ไทย คณิต วิทย์ สังคม อังกฤษ'!AK21+'ม.3ไทย คณิต วิทย์ สังคม อังกฤษ'!AL21 -> 0 | U16: ='ม.3ไทย คณิต วิทย์ สังคม อังกฤษ'!AM21+'ม.3ไทย คณิต วิทย์ สังคม อังกฤษ'!AN21+'ม.3ไทย คณิต วิทย์ สังคม อังกฤษ'!AO21 -> 0 | V16: ='ม.3ไทย คณิต วิทย์ สังคม อังกฤษ'!AP21+'ม.3ไทย คณิต วิทย์ สังคม อังกฤษ'!AQ21 -> 0 | W16: ='ม.3ไทย คณิต วิทย์ สังคม อังกฤษ'!AR21+'ม.3ไทย คณิต วิทย์ สังคม อังกฤษ'!AS21 -> 0 | X16: ='ม.3ไทย คณิต วิทย์ สังคม อังกฤษ'!AT21+'ม.3ไทย คณิต วิทย์ สังคม อังกฤษ'!AU21 -> 0 | Y16: =SUM(R16:X16) -> 0 | Z16: ='ม.3ไทย คณิต วิทย์ สังคม อังกฤษ'!AW21+'ม.3ไทย คณิต วิทย์ สังคม อังกฤษ'!AX21 -> 0 | AA16: ='ม.3ไทย คณิต วิทย์ สังคม อังกฤษ'!AY21+'ม.3ไทย คณิต วิทย์ สังคม อังกฤษ'!AZ21 -> 0 | AB16: ='ม.3ไทย คณิต วิทย์ สังคม อังกฤษ'!BA21+'ม.3ไทย คณิต วิทย์ สังคม อังกฤษ'!BB21+'ม.3ไทย คณิต วิทย์ สังคม อังกฤษ'!BC21 -> 0 | AC16: ='ม.3ไทย คณิต วิทย์ สังคม อังกฤษ'!BD21 -> 0 | AD16: ='ม.3ไทย คณิต วิทย์ สังคม อังกฤษ'!BE21+'ม.3ไทย คณิต วิทย์ สังคม อังกฤษ'!BF21+'ม.3ไทย คณิต วิทย์ สังคม อังกฤษ'!BG21 -> 0 | AE16: =SUM(Z16:AD16) -> 0 | AF16: ='ม.3ไทย คณิต วิทย์ สังคม อังกฤษ'!BI21+'ม.3ไทย คณิต วิทย์ สังคม อังกฤษ'!BJ21+'ม.3ไทย คณิต วิทย์ สังคม อังกฤษ'!BK21 -> 0 | AG16: ='ม.3ไทย คณิต วิทย์ สังคม อังกฤษ'!BL21 -> 0 | AH16: =SUM(AF16:AG16) -> 0
... A106: ='ม.3ไทย คณิต วิทย์ สังคม อังกฤษ'!A111 -> 0 | B106: ='ม.3ไทย คณิต วิทย์ สังคม อังกฤษ'!B111 -> 0 | C106: ='ม.3ไทย คณิต วิทย์ สังคม อังกฤษ'!C111 -> คิดเป็นร้อยละ | D106: ='ม.3ไทย คณิต วิทย์ สังคม อังกฤษ'!D111 -> 0 | E106: ='ม.3ไทย คณิต วิทย์ สังคม อังกฤษ'!E111+'ม.3ไทย คณิต วิทย์ สังคม อังกฤษ'!F111+'ม.3ไทย คณิต วิทย์ สังคม อังกฤษ'!G111+'ม.3ไทย คณิต วิทย์ สังคม อังกฤษ'!H111 -> 0 | F106: ='ม.3ไทย คณิต วิทย์ สังคม อังกฤษ'!I111+'ม.3ไทย คณิต วิทย์ สังคม อังกฤษ'!J111 -> 0 | G106: ='ม.3ไทย คณิต วิทย์ สังคม อังกฤษ'!K111 -> 0 | H106: ='ม.3ไทย คณิต วิทย์ สังคม อังกฤษ'!L111 -> 0 | I106: ='ม.3ไทย คณิต วิทย์ สังคม อังกฤษ'!M111+'ม.3ไทย คณิต วิทย์ สังคม อังกฤษ'!N111+'ม.3ไทย คณิต วิทย์ สังคม อังกฤษ'!O111+'ม.3ไทย คณิต วิทย์ สังคม อังกฤษ'!P111 -> 0 | J106: =SUM(E106:I106) -> 0 | K106: ='ม.3ไทย คณิต วิทย์ สังคม อังกฤษ'!R111+'ม.3ไทย คณิต วิทย์ สังคม อังกฤษ'!S111 -> 0 | L106: ='ม.3ไทย คณิต วิทย์ สังคม อังกฤษ'!T111+'ม.3ไทย คณิต วิทย์ สังคม อังกฤษ'!U111+'ม.3ไทย คณิต วิทย์ สังคม อังกฤษ'!V111 -> 0 | M106: ='ม.3ไทย คณิต วิทย์ สังคม อังกฤษ'!W111+'ม.3ไทย คณิต วิทย์ สังคม อังกฤษ'!X111 -> 0 | N106: ='ม.3ไทย คณิต วิทย์ สังคม อังกฤษ'!Y111+'ม.3ไทย คณิต วิทย์ สังคม อังกฤษ'!Z111 -> 0 | O106: ='ม.3ไทย คณิต วิทย์ สังคม อังกฤษ'!AA111+'ม.3ไทย คณิต วิทย์ สังคม อังกฤษ'!AB111+'ม.3ไทย คณิต วิทย์ สังคม อังกฤษ'!AC111 -> 0 | P106: ='ม.3ไทย คณิต วิทย์ สังคม อังกฤษ'!AD111 -> 0 | Q106: =SUM(K106:P106) -> 0 | R106: ='ม.3ไทย คณิต วิทย์ สังคม อังกฤษ'!AF111+'ม.3ไทย คณิต วิทย์ สังคม อังกฤษ'!AG111 -> 0 | S106: ='ม.3ไทย คณิต วิทย์ สังคม อังกฤษ'!AH111+'ม.3ไทย คณิต วิทย์ สังคม อังกฤษ'!AI111+'ม.3ไทย คณิต วิทย์ สังคม อังกฤษ'!AJ111 -> 0 | T106: ='ม.3ไทย คณิต วิทย์ สังคม อังกฤษ'!AK111+'ม.3ไทย คณิต วิทย์ สังคม อังกฤษ'!AL111 -> 0 | U106: ='ม.3ไทย คณิต วิทย์ สังคม อังกฤษ'!AM111+'ม.3ไทย คณิต วิทย์ สังคม อังกฤษ'!AN111+'ม.3ไทย คณิต วิทย์ สังคม อังกฤษ'!AO111 -> 0 | V106: ='ม.3ไทย คณิต วิทย์ สังคม อังกฤษ'!AP111+'ม.3ไทย คณิต วิทย์ สังคม อังกฤษ'!AQ111 -> 0 | W106: ='ม.3ไทย คณิต วิทย์ สังคม อังกฤษ'!AR111+'ม.3ไทย คณิต วิทย์ สังคม อังกฤษ'!AS111 -> 0 | X106: ='ม.3ไทย คณิต วิทย์ สังคม อังกฤษ'!AT111+'ม.3ไทย คณิต วิทย์ สังคม อังกฤษ'!AU111 -> 0 | Y106: =SUM(R106:X106) -> 0 | Z106: ='ม.3ไทย คณิต วิทย์ สังคม อังกฤษ'!AW111+'ม.3ไทย คณิต วิทย์ สังคม อังกฤษ'!AX111 -> 0 | AA106: ='ม.3ไทย คณิต วิทย์ สังคม อังกฤษ'!AY111+'ม.3ไทย คณิต วิทย์ สังคม อังกฤษ'!AZ111 -> 0 | AB106: ='ม.3ไทย คณิต วิทย์ สังคม อังกฤษ'!BA111+'ม.3ไทย คณิต วิทย์ สังคม อังกฤษ'!BB111+'ม.3ไทย คณิต วิทย์ สังคม อังกฤษ'!BC111 -> 0 | AC106: ='ม.3ไทย คณิต วิทย์ สังคม อังกฤษ'!BD111 -> 0 | AD106: ='ม.3ไทย คณิต วิทย์ สังคม อังกฤษ'!BE111+'ม.3ไทย คณิต วิทย์ สังคม อังกฤษ'!BF111+'ม.3ไทย คณิต วิทย์ สังคม อังกฤษ'!BG111 -> 0 | AE106: =SUM(Z106:AD106) -> 0 | AF106: ='ม.3ไทย คณิต วิทย์ สังคม อังกฤษ'!BI111+'ม.3ไทย คณิต วิทย์ สังคม อังกฤษ'!BJ111+'ม.3ไทย คณิต วิทย์ สังคม อังกฤษ'!BK111 -> 0 | AG106: ='ม.3ไทย คณิต วิทย์ สังคม อังกฤษ'!BL111 -> 0 | AH106: =SUM(AF106:AG106) -> 0
