Workbook

Sheet คำชี้แจง
A1: คำชี้แจง
A2: 1.แบบฟอร์มนี้เป็นแบบฟอร์มสำหรับบันทึกผลของ SAR ปีการศึกษา 2559 ในส่วนที่ 1 ข้อมูลพื้นฐาน
A3: 2.แบบฟอร์มนี้มีทั้งหมด 9 sheet ประกอบด้วย
B4: 2.1 ข้อมูลพื้นฐานของสถานศึกษา
B5: 2.2 ข้อมูลนักเรียน
B6: 2.3 ข้อมูลผลสัมฤทธิ์ของนักเรียน
B7: 2.4 ข้อมูลผลการทดสอบระดับชาติ NT ชั้นประถมศึกษาปีที่ 3
B8: 2.5 ข้อมูลผลการทดสอบระดับชาติ O-net ชั้นประถมศึกษาปีที่ 6 และชั้นมัธยมศึกษาปีที่ 3
B9: 2.6 ข้อมูลผลการประเมินระบบประกันคุณภาพภายในของสถานศึกษา
B10: 2.7 Print out (รายงานผลข้อมูลพื้นฐาน SAR 2559)
B11: 2.8 กราฟแสดงข้อมูลผลทดสอบ สำหรับ coppy ไปวางในส่วนที่ 2
A12: 3. ให้สถานศึกษากรอกข้อมูลในช่องว่าง ที่กล่องเป็นสีขาว ใน Sheet ที่ 1 - 6 ให้ครบถ้วน
A13: 4. ให้สถานศึกษาพิมพ์เอกสารจาก sheet 7.print out เพื่อจัดทำรายงาน SAR ปี 2559 ในส่วนที่ 1
A14: 5. ข้อมูลใน Sheet ที่ 1 - 6 สามารถ นำมาเป็นข้อมูลอ้างอิงในภาคผนวกของรายงาน SAR ปี 2559
A15: 6. โรงเรียนสามารถ coppy กราฟใน Sheet 8.กราฟแสดงข้อมูล เพื่อใช้แนบในส่วนที่ 2 ผลการประเมินตามความเหมาะสม
F18: มีข้อสงสัยในการกรอกข้อมูล ติดต่อ
F19: ศน.ปิ่นนรา บัวอิ่น | H19: สพป.พะเยา เขต 2
F20: โทร. 081-724-5045

Sheet 1.ข้อมูลทั่วไป+ครู
A1: 1.1 ข้อมูลทั่วไป
A3: ชื่อโรงเรียน
A4: ที่อยู่
A5: สังกัด
A6: โทรศัพท์
A7: โทรสาร
A8: E-mail :
A9: เปิดสอนระดับชั้น
A10: ถึงระดับชั้น
A12: 1.2 ข้อมูลบุคลากรของสถานศึกษา
A13: 1) จำนวนบุคลากร
A14: บุคลากร | B14: ผู้บริหาร | C14: ครูผู้สอน | D14: พนักงานราชการ | E14: ครูอัตราจ้าง | F14: เจ้าหน้าที่อื่นๆ | G14: รวมทั้งหมด
A15: ปีการศึกษา 2559 | B15: 1 | C15: 4 | D15: 2 | E15: 2 | F15: 1 | G15: =SUM(B15:F15) -> 10
A17: 2) วุฒิการศึกษาสูงสุดของบุคลากร
A18: วุฒิการศึกษา | B18: ปริญญาเอก | C18: ปริญญาโท | D18: ปริญญาตรี | E18: ประกาศนียบัตรบัณฑิต | F18: ปวส. | G18: ปวช. | H18: ต่ำกว่า ปวช. | I18: รวมทั้งหมด
A19: จำนวน(คน) | F19: 1 | G19: 0 | H19: 0 | I19: =SUM(B19:H19) -> 1
A21: 3) สาขาวิชาที่จบการศึกษาและภาระงานสอน
A22: สาขาวิชา | B22: จำนวน (คน) | C22: ภาระงานสอนเฉลี่ยของครู 1 คน ในแต่ละสาขาวิชา (ชม./สัปดาห์)
A23: 1. บริหารการศึกษา
A24: 2. คณิตศาสตร์
A25: 3. วิทยาศาสตร์
A26: 4. ภาษาไทย
A27: 5. ภาษาอังกฤษ
A28: 6. สังคมศึกษา
A29: 7. การงานอาชีพและเทคโนโลยี
A30: 8. ศิลปะ
A31: 9. ปฐมวัย
A32: 10……………………………
A33: รวม | B33: =SUM(B23:B32) -> 0

Sheet 2.ข้อมูลนักเรียน
A1: 1.3 ข้อมูลนักเรียน
A2: 1) จำนวนนักเรียนปีการศึกษา | C2: 2559 | E2: จำนวน | F2: =Q9 -> 0 | G2: คน | H2: (ข้อมูล ณ 10 มิถุนายน 2559)
A4: ระดับชั้นเรียน | C4: อ.1 | D4: อ.2 | E4: รวม | F4: ป.1 | G4: ป.2 | H4: ป.3 | I4: ป.4 | J4: ป.5 | K4: ป.6 | L4: รวม | M4: ม.1 | N4: ม.2 | O4: ม.3 | P4: รวม | Q4: รวมทั้งหมด
E5: ปฐมวัย | L5: ประถมฯ | P5: ม.ต้น
A6: จำนวนห้อง | E6: =SUM(C6:D6) -> 0 | L6: =SUM(F6:K6) -> 0 | P6: =SUM(M6:O6) -> 0 | Q6: =SUM(P6,L6,E6) -> 0
A7: เพศ | B7: ชาย | E7: =SUM(C7:D7) -> 0 | L7: =SUM(F7:K7) -> 0 | P7: =SUM(M7:O7) -> 0 | Q7: =SUM(P7,L7,E7) -> 0
B8: หญิง | E8: =SUM(C8:D8) -> 0 | L8: =SUM(F8:K8) -> 0 | P8: =SUM(M8:O8) -> 0 | Q8: =SUM(P8,L8,E8) -> 0
A9: รวม | C9: =SUM(C7:C8) -> 0 | D9: =SUM(D7:D8) -> 0 | E9: =SUM(E7:E8) -> 0 | F9: =SUM(F7:F8) -> 0 | G9: =SUM(G7:G8) -> 0 | H9: =SUM(H7:H8) -> 0 | I9: =SUM(I7:I8) -> 0 | J9: =SUM(J7:J8) -> 0 | K9: =SUM(K7:K8) -> 0 | L9: =SUM(F9:K9) -> 0 | M9: =SUM(M7:M8) -> 0 | N9: =SUM(N7:N8) -> 0 | O9: =SUM(O7:O8) -> 0 | P9: =SUM(M9:O9) -> 0 | Q9: =SUM(P9,L9,E9) -> 0
A10: เฉลี่ยต่อห้อง | C10: =C9/C6 -> #DIV/0! | D10: =D9/D6 -> #DIV/0! | F10: =F9/F6 -> #DIV/0! | G10: =G9/G6 -> #DIV/0! | H10: =H9/H6 -> #DIV/0! | I10: =I9/I6 -> #DIV/0! | J10: =J9/J6 -> #DIV/0! | K10: =K9/K6 -> #DIV/0! | M10: =M9/M6 -> #DIV/0! | N10: =N9/N6 -> #DIV/0! | O10: =O9/O6 -> #DIV/0!
A12: 2) จำนวนนักเรียนปีการศึกษา | C12: 2558 | E12: จำนวน | F12: =Q18 -> 0 | G12: คน | H12: (ข้อมูล ณ 10 มิถุนายน 2558)
A14: ระดับชั้นเรียน | C14: อ.1 | D14: อ.2 | E14: ปฐมวัย | F14: ป.1 | G14: ป.2 | H14: ป.3 | I14: ป.4 | J14: ป.5 | K14: ป.6 | L14: รวม | M14: ม.1 | N14: ม.2 | O14: ม.3 | P14: รวม | Q14: รวมทั้งหมด
A15: จำนวนห้อง | E15: =SUM(C15:D15) -> 0 | L15: =SUM(F15:K15) -> 0 | P15: =SUM(M15:O15) -> 0 | Q15: =SUM(P15,L15,E15) -> 0
A16: เพศ | B16: ชาย | E16: =SUM(C16:D16) -> 0 | L16: =SUM(F16:K16) -> 0 | P16: =SUM(M16:O16) -> 0 | Q16: =SUM(P16,L16,E16) -> 0
B17: หญิง | E17: =SUM(C17:D17) -> 0 | L17: =SUM(F17:K17) -> 0 | P17: =SUM(M17:O17) -> 0 | Q17: =SUM(P17,L17,E17) -> 0
A18: รวม | C18: =SUM(C16:C17) -> 0 | D18: =SUM(D16:D17) -> 0 | E18: =SUM(E16:E17) -> 0 | F18: =SUM(F16:F17) -> 0 | G18: =SUM(G16:G17) -> 0 | H18: =SUM(H16:H17) -> 0 | I18: =SUM(I16:I17) -> 0 | J18: =SUM(J16:J17) -> 0 | K18: =SUM(K16:K17) -> 0 | L18: =SUM(F18:K18) -> 0 | M18: =SUM(M16:M17) -> 0 | N18: =SUM(N16:N17) -> 0 | O18: =SUM(O16:O17) -> 0 | P18: =SUM(M18:O18) -> 0 | Q18: =SUM(P18,L18,E18) -> 0
A19: เฉลี่ยต่อห้อง | C19: =C18/C15 -> #DIV/0! | D19: =D18/D15 -> #DIV/0! | F19: =F18/F15 -> #DIV/0! | G19: =G18/G15 -> #DIV/0! | H19: =H18/H15 -> #DIV/0! | I19: =I18/I15 -> #DIV/0! | J19: =J18/J15 -> #DIV/0! | K19: =K18/K15 -> #DIV/0! | M19: =M18/M15 -> #DIV/0! | N19: =N18/N15 -> #DIV/0! | O19: =O18/O15 -> #DIV/0!
A21: 3) จำนวนนักเรียนปีการศึกษา รวมทั้งสิ้น | C21: 2557 | E21: จำนวน | F21: =Q27 -> 0 | G21: คน | H21: (ข้อมูล ณ 10 มิถุนายน 2557)
A23: ระดับชั้นเรียน | C23: อ.1 | D23: อ.2 | E23: ปฐมวัย | F23: ป.1 | G23: ป.2 | H23: ป.3 | I23: ป.4 | J23: ป.5 | K23: ป.6 | L23: รวม | M23: ม.1 | N23: ม.2 | O23: ม.3 | P23: รวม | Q23: รวมทั้งหมด
A24: จำนวนห้อง | E24: =SUM(C24:D24) -> 0 | L24: =SUM(F24:K24) -> 0 | P24: =SUM(M24:O24) -> 0 | Q24: =SUM(P24,L24,E24) -> 0
A25: เพศ | B25: ชาย | E25: =SUM(C25:D25) -> 0 | L25: =SUM(F25:K25) -> 0 | P25: =SUM(M25:O25) -> 0 | Q25: =SUM(P25,L25,E25) -> 0
B26: หญิง | E26: =SUM(C26:D26) -> 0 | L26: =SUM(F26:K26) -> 0 | P26: =SUM(M26:O26) -> 0 | Q26: =SUM(P26,L26,E26) -> 0
A27: รวม | C27: =SUM(C25:C26) -> 0 | D27: =SUM(D25:D26) -> 0 | E27: =SUM(E25:E26) -> 0 | F27: =SUM(F25:F26) -> 0 | G27: =SUM(G25:G26) -> 0 | H27: =SUM(H25:H26) -> 0 | I27: =SUM(I25:I26) -> 0 | J27: =SUM(J25:J26) -> 0 | K27: =SUM(K25:K26) -> 0 | L27: =SUM(F27:K27) -> 0 | M27: =SUM(M25:M26) -> 0 | N27: =SUM(N25:N26) -> 0 | O27: =SUM(O25:O26) -> 0 | P27: =SUM(M27:O27) -> 0 | Q27: =SUM(P27,L27,E27) -> 0
A28: เฉลี่ยต่อห้อง | C28: =C27/C24 -> #DIV/0! | D28: =D27/D24 -> #DIV/0! | F28: =F27/F24 -> #DIV/0! | G28: =G27/G24 -> #DIV/0! | H28: =H27/H24 -> #DIV/0! | I28: =I27/I24 -> #DIV/0! | J28: =J27/J24 -> #DIV/0! | K28: =K27/K24 -> #DIV/0! | M28: =M27/M24 -> #DIV/0! | N28: =N27/N24 -> #DIV/0! | O28: =O27/O24 -> #DIV/0!

Sheet 3.ผลสัมฤทธิ์
A1: 1.4 ข้อมูลผลสัมฤทธิ์ทางการเรียนระดับสถานศึกษา
A3: 1) ผลสัมฤทธิ์ทางการเรียนปีการศึกษา 2559 | F3: (ข้อมูลนักเรียน ณ 31 มีนาคม 2560)
A5: ระดับชั้น | B5: จำนวน นร.ทั้งหมด | C5: จำนวนนักเรียนที่มีผลสัมฤทธิ์ทางการเรียนแต่ละรายวิชาในระดับ 3 ขึ้นไป ปีการศึกษา 2559
C6: ภาษาไทย | E6: คณิตศาสตร์ | G6: วิทยาศาสตร์ | I6: สังคมศึกษาฯ | K6: ประวัติศาสตร์ | M6: สุขศึกษาฯ | O6: ศิลปะ ดนตรี | Q6: การงานฯ | S6: ภาษาอังกฤษ
C7: จำนวน | D7: ร้อยละ | E7: จำนวน | F7: ร้อยละ | G7: จำนวน | H7: ร้อยละ | I7: จำนวน | J7: ร้อยละ | K7: จำนวน | L7: ร้อยละ | M7: จำนวน | N7: ร้อยละ | O7: จำนวน | P7: ร้อยละ | Q7: จำนวน | R7: ร้อยละ | S7: จำนวน | T7: ร้อยละ
A8: ป.1 | B8: ='2.ข้อมูลนักเรียน'!F9 -> 0 | D8: =C8*100/B8 -> #DIV/0! | F8: =E8*100/B8 -> #DIV/0! | H8: =G8*100/B8 -> #DIV/0! | J8: =I8*100/B8 -> #DIV/0! | L8: =K8*100/B8 -> #DIV/0! | N8: =M8*100/B8 -> #DIV/0! | P8: =O8*100/B8 -> #DIV/0! | R8: =Q8*100/B8 -> #DIV/0! | T8: =S8*100/B8 -> #DIV/0!
A9: ป.2 | B9: ='2.ข้อมูลนักเรียน'!G9 -> 0 | D9: =C9*100/B9 -> #DIV/0! | F9: =E9*100/B9 -> #DIV/0! | H9: =G9*100/B9 -> #DIV/0! | J9: =I9*100/B9 -> #DIV/0! | L9: =K9*100/B9 -> #DIV/0! | N9: =M9*100/B9 -> #DIV/0! | P9: =O9*100/B9 -> #DIV/0! | R9: =Q9*100/B9 -> #DIV/0! | T9: =S9*100/B9 -> #DIV/0!
A10: ป.3 | B10: ='2.ข้อมูลนักเรียน'!H9 -> 0 | D10: =C10*100/B10 -> #DIV/0! | F10: =E10*100/B10 -> #DIV/0! | H10: =G10*100/B10 -> #DIV/0! | J10: =I10*100/B10 -> #DIV/0! | L10: =K10*100/B10 -> #DIV/0! | N10: =M10*100/B10 -> #DIV/0! | P10: =O10*100/B10 -> #DIV/0! | R10: =Q10*100/B10 -> #DIV/0! | T10: =S10*100/B10 -> #DIV/0!
A11: ป.4 | B11: ='2.ข้อมูลนักเรียน'!I9 -> 0 | D11: =C11*100/B11 -> #DIV/0! | F11: =E11*100/B11 -> #DIV/0! | H11: =G11*100/B11 -> #DIV/0! | J11: =I11*100/B11 -> #DIV/0! | L11: =K11*100/B11 -> #DIV/0! | N11: =M11*100/B11 -> #DIV/0! | P11: =O11*100/B11 -> #DIV/0! | R11: =Q11*100/B11 -> #DIV/0! | T11: =S11*100/B11 -> #DIV/0!
A12: ป.5 | B12: ='2.ข้อมูลนักเรียน'!J9 -> 0 | D12: =C12*100/B12 -> #DIV/0! | F12: =E12*100/B12 -> #DIV/0! | H12: =G12*100/B12 -> #DIV/0! | J12: =I12*100/B12 -> #DIV/0! | L12: =K12*100/B12 -> #DIV/0! | N12: =M12*100/B12 -> #DIV/0! | P12: =O12*100/B12 -> #DIV/0! | R12: =Q12*100/B12 -> #DIV/0! | T12: =S12*100/B12 -> #DIV/0!
A13: ป.6 | B13: ='2.ข้อมูลนักเรียน'!K9 -> 0 | D13: =C13*100/B13 -> #DIV/0! | F13: =E13*100/B13 -> #DIV/0! | H13: =G13*100/B13 -> #DIV/0! | J13: =I13*100/B13 -> #DIV/0! | L13: =K13*100/B13 -> #DIV/0! | N13: =M13*100/B13 -> #DIV/0! | P13: =O13*100/B13 -> #DIV/0! | R13: =Q13*100/B13 -> #DIV/0! | T13: =S13*100/B13 -> #DIV/0!
A14: รวม | B14: =SUM(B8:B13) -> 0 | C14: =SUM(C8:C13) -> 0 | D14: =C14*100/B14 -> #DIV/0! | E14: =SUM(E8:E13) -> 0 | F14: =E14*100/B14 -> #DIV/0! | G14: =SUM(G8:G13) -> 0 | H14: =G14*100/B14 -> #DIV/0! | I14: =SUM(I8:I13) -> 0 | J14: =I14*100/B14 -> #DIV/0! | K14: =SUM(K8:K13) -> 0 | L14: =K14*100/B14 -> #DIV/0! | M14: =SUM(M8:M13) -> 0 | N14: =M14*100/B14 -> #DIV/0! | O14: =SUM(O8:O13) -> 0 | P14: =O14*100/B14 -> #DIV/0! | Q14: =SUM(Q8:Q13) -> 0 | R14: =Q14*100/B14 -> #DIV/0! | S14: =SUM(S8:S13) -> 0 | T14: =S14*100/B14 -> #DIV/0!
A15: ม.1 | B15: ='2.ข้อมูลนักเรียน'!M9 -> 0 | D15: =C15*100/B15 -> #DIV/0! | F15: =E15*100/B15 -> #DIV/0! | H15: =G15*100/B15 -> #DIV/0! | J15: =I15*100/B15 -> #DIV/0! | L15: =K15*100/B15 -> #DIV/0! | N15: =M15*100/B15 -> #DIV/0! | P15: =O15*100/B15 -> #DIV/0! | R15: =Q15*100/B15 -> #DIV/0! | T15: =S15*100/B15 -> #DIV/0!
A16: ม.2 | B16: ='2.ข้อมูลนักเรียน'!N9 -> 0 | D16: =C16*100/B16 -> #DIV/0! | F16: =E16*100/B16 -> #DIV/0! | H16: =G16*100/B16 -> #DIV/0! | J16: =I16*100/B16 -> #DIV/0! | L16: =K16*100/B16 -> #DIV/0! | N16: =M16*100/B16 -> #DIV/0! | P16: =O16*100/B16 -> #DIV/0! | R16: =Q16*100/B16 -> #DIV/0! | T16: =S16*100/B16 -> #DIV/0!
A17: ม.3 | B17: ='2.ข้อมูลนักเรียน'!O9 -> 0 | D17: =C17*100/B17 -> #DIV/0! | F17: =E17*100/B17 -> #DIV/0! | H17: =G17*100/B17 -> #DIV/0! | J17: =I17*100/B17 -> #DIV/0! | L17: =K17*100/B17 -> #DIV/0! | N17: =M17*100/B17 -> #DIV/0! | P17: =O17*100/B17 -> #DIV/0! | R17: =Q17*100/B17 -> #DIV/0! | T17: =S17*100/B17 -> #DIV/0!
A18: รวม | B18: =SUM(B15:B17) -> 0 | C18: =SUM(C15:C17) -> 0 | D18: =C18*100/B18 -> #DIV/0! | E18: =SUM(E15:E17) -> 0 | F18: =E18*100/B18 -> #DIV/0! | G18: =SUM(G15:G17) -> 0 | H18: =G18*100/B18 -> #DIV/0! | I18: =SUM(I15:I17) -> 0 | J18: =I18*100/B18 -> #DIV/0! | K18: =SUM(K15:K17) -> 0 | L18: =K18*100/B18 -> #DIV/0! | M18: =SUM(M15:M17) -> 0 | N18: =M18*100/B18 -> #DIV/0! | O18: =SUM(O15:O17) -> 0 | P18: =O18*100/B18 -> #DIV/0! | Q18: =SUM(Q15:Q17) -> 0 | R18: =Q18*100/B18 -> #DIV/0! | S18: =SUM(S15:S17) -> 0 | T18: =S18*100/B18 -> #DIV/0!
A19: รวมทั้งสิ้น | B19: =SUM(B18,B14) -> 0 | C19: =SUM(C18,C14) -> 0 | D19: =C19*100/B19 -> #DIV/0! | E19: =SUM(E18,E14) -> 0 | F19: =E19*100/B19 -> #DIV/0! | G19: =SUM(G18,G14) -> 0 | H19: =G19*100/B19 -> #DIV/0! | I19: =SUM(I18,I14) -> 0 | J19: =I19*100/B19 -> #DIV/0! | K19: =SUM(K18,K14) -> 0 | L19: =K19*100/B19 -> #DIV/0! | M19: =SUM(M18,M14) -> 0 | N19: =M19*100/B19 -> #DIV/0! | O19: =SUM(O18,O14) -> 0 | P19: =O19*100/B19 -> #DIV/0! | Q19: =SUM(Q18,Q14) -> 0 | R19: =Q19*100/B19 -> #DIV/0! | S19: =SUM(S18,S14) -> 0 | T19: =S19*100/B19 -> #DIV/0!
A24: 2) ผลประเมินคุณลักษณะอันพึงประสงค์ | F24: (ข้อมูลนักเรียน ณ 31 มีนาคม 2560)
A26: ระดับชั้น | B26: จำนวน นร.ทั้งหมด | C26: จำนวนนักเรียนที่มีผลการประเมินคุณลักษณะอันพึงประสงค์
C27: ดี่เยี่ยม | E27: ดี | G27: ผ่าน | I27: ไม่ผ่าน
C28: จำนวน | D28: ร้อยละ | E28: จำนวน | F28: ร้อยละ | G28: จำนวน | H28: ร้อยละ | I28: จำนวน | J28: ร้อยละ
A29: ป.1 | B29: ='2.ข้อมูลนักเรียน'!F9 -> 0 | C29: 16 | D29: =C29*100/B29 -> #DIV/0! | E29: 2 | F29: =E29*100/B29 -> #DIV/0! | G29: 1 | H29: =G29*100/B29 -> #DIV/0! | I29: 0 | J29: =I29*100/B29 -> #DIV/0!
A30: ป.2 | B30: ='2.ข้อมูลนักเรียน'!G9 -> 0 | C30: 11 | D30: =C30*100/B30 -> #DIV/0! | E30: 2 | F30: =E30*100/B30 -> #DIV/0! | G30: 1 | H30: =G30*100/B30 -> #DIV/0! | I30: 0 | J30: =I30*100/B30 -> #DIV/0!
A31: ป.3 | B31: ='2.ข้อมูลนักเรียน'!H9 -> 0 | C31: 10 | D31: =C31*100/B31 -> #DIV/0! | E31: 10 | F31: =E31*100/B31 -> #DIV/0! | G31: 0 | H31: =G31*100/B31 -> #DIV/0! | I31: 0 | J31: =I31*100/B31 -> #DIV/0!
A32: ป.4 | B32: ='2.ข้อมูลนักเรียน'!I9 -> 0 | C32: 8 | D32: =C32*100/B32 -> #DIV/0! | E32: 2 | F32: =E32*100/B32 -> #DIV/0! | G32: 1 | H32: =G32*100/B32 -> #DIV/0! | I32: 0 | J32: =I32*100/B32 -> #DIV/0!
A33: ป.5 | B33: ='2.ข้อมูลนักเรียน'!J9 -> 0 | C33: 12 | D33: =C33*100/B33 -> #DIV/0! | E33: 2 | F33: =E33*100/B33 -> #DIV/0! | G33: 2 | H33: =G33*100/B33 -> #DIV/0! | I33: 1 | J33: =I33*100/B33 -> #DIV/0!
A34: ป.6 | B34: ='2.ข้อมูลนักเรียน'!K9 -> 0 | C34: 22 | D34: =C34*100/B34 -> #DIV/0! | E34: 4 | F34: =E34*100/B34 -> #DIV/0! | G34: 2 | H34: =G34*100/B34 -> #DIV/0! | I34: 1 | J34: =I34*100/B34 -> #DIV/0!
A35: รวม | B35: =SUM(B29:B34) -> 0 | C35: =SUM(C29:C34) -> 79 | D35: =C35*100/B35 -> #DIV/0! | E35: =SUM(E29:E34) -> 22 | F35: =E35*100/B35 -> #DIV/0! | G35: =SUM(G29:G34) -> 7 | H35: =G35*100/B35 -> #DIV/0! | I35: =SUM(I29:I34) -> 2 | J35: =I35*100/B35 -> #DIV/0!
A36: ม.1 | B36: ='2.ข้อมูลนักเรียน'!M9 -> 0 | C36: 22 | D36: =C36*100/B36 -> #DIV/0! | E36: 3 | F36: =E36*100/B36 -> #DIV/0! | G36: 0 | H36: =G36*100/B36 -> #DIV/0! | I36: 0 | J36: =I36*100/B36 -> #DIV/0!
A37: ม.2 | B37: ='2.ข้อมูลนักเรียน'!N9 -> 0 | C37: 10 | D37: =C37*100/B37 -> #DIV/0! | E37: 2 | F37: =E37*100/B37 -> #DIV/0! | G37: 1 | H37: =G37*100/B37 -> #DIV/0! | I37: 0 | J37: =I37*100/B37 -> #DIV/0!
A38: ม.3 | B38: ='2.ข้อมูลนักเรียน'!O9 -> 0 | C38: 15 | D38: =C38*100/B38 -> #DIV/0! | E38: 2 | F38: =E38*100/B38 -> #DIV/0! | G38: 0 | H38: =G38*100/B38 -> #DIV/0! | I38: 0 | J38: =I38*100/B38 -> #DIV/0!
A39: รวม | B39: =SUM(B36:B38) -> 0 | C39: =SUM(C36:C38) -> 47 | D39: =C39*100/B39 -> #DIV/0! | E39: =SUM(E36:E38) -> 7 | F39: =E39*100/B39 -> #DIV/0! | G39: =SUM(G36:G38) -> 1 | H39: =G39*100/B39 -> #DIV/0! | I39: =SUM(I36:I38) -> 0 | J39: =I39*100/B39 -> #DIV/0!
A40: รวมทั้งสิ้น | B40: =SUM(B39,B35) -> 0 | C40: =SUM(C39,C35) -> 126 | D40: =C40*100/B40 -> #DIV/0! | E40: =SUM(E39,E35) -> 29 | F40: =E40*100/B40 -> #DIV/0! | G40: =SUM(G39,G35) -> 8 | H40: =G40*100/B40 -> #DIV/0! | I40: =SUM(I39,I35) -> 2 | J40: =I40*100/B40 -> #DIV/0!
A47: 3) ผลการประเมินการอ่าน คิดวิเคราะห์และเขียน | G47: (ข้อมูลนักเรียน ณ 31 มีนาคม 2560)
A49: ระดับชั้น | B49: จำนวน นร.ทั้งหมด | C49: จำนวนนักเรียนที่มีผลการประเมินการอ่าน คิดวิเคราะห์และเขียน
C50: ดี่เยี่ยม | E50: ดี | G50: ผ่าน | I50: ไม่ผ่าน
C51: จำนวน | D51: ร้อยละ | E51: จำนวน | F51: ร้อยละ | G51: จำนวน | H51: ร้อยละ | I51: จำนวน | J51: ร้อยละ
A52: ป.1 | B52: ='2.ข้อมูลนักเรียน'!F9 -> 0 | C52: 16 | D52: =C52*100/B52 -> #DIV/0! | E52: 3 | F52: =E52*100/B52 -> #DIV/0! | G52: 0 | H52: =G52*100/B52 -> #DIV/0! | I52: 0 | J52: =I52*100/B52 -> #DIV/0!
A53: ป.2 | B53: ='2.ข้อมูลนักเรียน'!G9 -> 0 | C53: 12 | D53: =C53*100/B53 -> #DIV/0! | E53: 1 | F53: =E53*100/B53 -> #DIV/0! | G53: 1 | H53: =G53*100/B53 -> #DIV/0! | I53: 0 | J53: =I53*100/B53 -> #DIV/0!
A54: ป.3 | B54: ='2.ข้อมูลนักเรียน'!H9 -> 0 | C54: 15 | D54: =C54*100/B54 -> #DIV/0! | E54: 2 | F54: =E54*100/B54 -> #DIV/0! | G54: 2 | H54: =G54*100/B54 -> #DIV/0! | I54: 1 | J54: =I54*100/B54 -> #DIV/0!
A55: ป.4 | B55: ='2.ข้อมูลนักเรียน'!I9 -> 0 | C55: 8 | D55: =C55*100/B55 -> #DIV/0! | E55: 2 | F55: =E55*100/B55 -> #DIV/0! | G55: 1 | H55: =G55*100/B55 -> #DIV/0! | I55: 0 | J55: =I55*100/B55 -> #DIV/0!
A56: ป.5 | B56: ='2.ข้อมูลนักเรียน'!J9 -> 0 | C56: 12 | D56: =C56*100/B56 -> #DIV/0! | E56: 2 | F56: =E56*100/B56 -> #DIV/0! | G56: 1 | H56: =G56*100/B56 -> #DIV/0! | I56: 2 | J56: =I56*100/B56 -> #DIV/0!
A57: ป.6 | B57: ='2.ข้อมูลนักเรียน'!K9 -> 0 | C57: 20 | D57: =C57*100/B57 -> #DIV/0! | E57: 2 | F57: =E57*100/B57 -> #DIV/0! | G57: 3 | H57: =G57*100/B57 -> #DIV/0! | I57: 4 | J57: =I57*100/B57 -> #DIV/0!
A58: รวม | B58: =SUM(B52:B57) -> 0 | C58: =SUM(C52:C57) -> 83 | D58: =C58*100/B58 -> #DIV/0! | E58: =SUM(E52:E57) -> 12 | F58: =E58*100/B58 -> #DIV/0! | G58: =SUM(G52:G57) -> 8 | H58: =G58*100/B58 -> #DIV/0! | I58: =SUM(I52:I57) -> 7 | J58: =I58*100/B58 -> #DIV/0!
A59: ม.1 | B59: ='2.ข้อมูลนักเรียน'!M9 -> 0 | C59: 18 | D59: =C59*100/B59 -> #DIV/0! | E59: 4 | F59: =E59*100/B59 -> #DIV/0! | G59: 3 | H59: =G59*100/B59 -> #DIV/0! | I59: 0 | J59: =I59*100/B59 -> #DIV/0!
A60: ม.2 | B60: ='2.ข้อมูลนักเรียน'!N9 -> 0 | C60: 10 | D60: =C60*100/B60 -> #DIV/0! | E60: 2 | F60: =E60*100/B60 -> #DIV/0! | G60: 1 | H60: =G60*100/B60 -> #DIV/0! | I60: 0 | J60: =I60*100/B60 -> #DIV/0!
A61: ม.3 | B61: ='2.ข้อมูลนักเรียน'!O9 -> 0 | C61: 13 | D61: =C61*100/B61 -> #DIV/0! | E61: 2 | F61: =E61*100/B61 -> #DIV/0! | G61: 2 | H61: =G61*100/B61 -> #DIV/0! | I61: 0 | J61: =I61*100/B61 -> #DIV/0!
A62: รวม | B62: =SUM(B59:B61) -> 0 | C62: =SUM(C59:C61) -> 41 | D62: =C62*100/B62 -> #DIV/0! | E62: =SUM(E59:E61) -> 8 | F62: =E62*100/B62 -> #DIV/0! | G62: =SUM(G59:G61) -> 6 | H62: =G62*100/B62 -> #DIV/0! | I62: =SUM(I59:I61) -> 0 | J62: =I62*100/B62 -> #DIV/0!
A63: รวมทั้งสิ้น | B63: =SUM(B62,B58) -> 0 | C63: =SUM(C62,C58) -> 124 | D63: =C63*100/B63 -> #DIV/0! | E63: =SUM(E62,E58) -> 20 | F63: =E63*100/B63 -> #DIV/0! | G63: =SUM(G62,G58) -> 14 | H63: =G63*100/B63 -> #DIV/0! | I63: =SUM(I62,I58) -> 7 | J63: =I63*100/B63 -> #DIV/0!

Sheet 4.ผล NT
A1: 1.5 ผลการประเมินการทดสอบความสามารถพื้นฐานของผู้เรียนระดับชาติ (National Test : NT) ระดับชั้นประถมศึกษาปีที่ 3
A3: 1) ผลการประเมินการทดสอบความสามารถพื้นฐานของผู้เรียนระดับชาติ (NT) ประจำปีการศึกษา 2559
B4: 1.1.คะแนนเฉลี่ยร้อยละ ปีการศึกษา 2558 - 2559 เปรียบเทียบระดับต่างๆ
A5: ที่ | B5: ระดับ | C5: คะแนนเฉลี่ยร้อยละ | F5: คะแนนเฉลี่ยร้อยละ | I5: คะแนนเฉลี่ยร้อยละ | L5: เฉลี่ยทั้ง 3 ด้าน
C6: ด้านภาษา | F6: ด้านคำนวณ | I6: ด้านเหตุผล
C7: 2558 | D7: 2559 | E7: ผลต่าง | F7: 2558 | G7: 2559 | H7: ผลต่าง | I7: 2558 | J7: 2559 | K7: ผลต่าง | L7: 2558 | M7: 2559 | N7: ผลต่าง
A8: 1 | B8: ระดับโรงเรียน | E8: =D8-C8 -> 0 | H8: =G8-F8 -> 0 | K8: =J8-I8 -> 0 | L8: =SUM(C8,F8,I8)/3 -> 0 | M8: =SUM(D8,G8,J8)/3 -> 0 | N8: =M8-L8 -> 0
A9: 2 | B9: สพป.พะเยา เขต 2 | E9: =D9-C9 -> 0 | H9: =G9-F9 -> 0 | K9: =J9-I9 -> 0 | L9: =SUM(C9,F9,I9)/3 -> 0 | M9: =SUM(D9,G9,J9)/3 -> 0 | N9: =M9-L9 -> 0
A10: 3 | B10: ระดับประเทศ | E10: =D10-C10 -> 0 | H10: =G10-F10 -> 0 | K10: =J10-I10 -> 0 | L10: =SUM(C10,F10,I10)/3 -> 0 | M10: =SUM(D10,G10,J10)/3 -> 0 | N10: =M10-L10 -> 0
B12: 1.2. ร้อยละของจำนวนนักเรียน ปีการศึกษา 2558 -2559 จำแนกตามระดับคุณภาพ
A13: ที่ | B13: ความสามารถ | C13: ร้อยละของจำนวนนักเรียน ปี 2558 | G13: ร้อยละของจำนวนนักเรียน ปี 2559
C14: ปรับปรุง | D14: พอใช้ | E14: ดี | F14: ดีมาก | G14: ปรับปรุง | H14: พอใช้ | I14: ดี | J14: ดีมาก
A15: 1 | B15: ด้านภาษา
A16: 2 | B16: ด้านคำนวณ
A17: 3 | B17: ด้านเหตุผล

Sheet 5.ผล Onet 
A1: 1.6 ผลการทดสอบทางการศึกษาระดับชาติขั้นพื้นฐาน (O-NET)
A3: 1) ผลการทดสอบทางการศึกษาระดับชาติขั้นพื้นฐาน (O-NET) ประจำปีการศึกษา 2559
B4: 1.1 ผลการทดสอบทางการศึกษาระดับชาติขั้นพื้นฐาน (O-NET) ชั้นประถมศึกษาปีที่ 6
B5: ระดับ/รายวิชา | C5: ภาษาไทย | D5: สังคมศึกษา | E5: ภาษาอังกฤษ | F5: คณิตศาสตร์ | G5: วิทยาศาสตร์ | H5: คะแนนรวมเฉลี่ย
C6: 61 | D6: 62 | E6: 63 | F6: 64 | G6: 65
B7: ระดับประเทศ | H7: =AVERAGE(C7:G7) -> #DIV/0!
B8: ระดับสังกัด สพฐ. | H8: =AVERAGE(C8:G8) -> #DIV/0!
B9: สพป.พะเยา เขต 2 | H9: =AVERAGE(C9:G9) -> #DIV/0!
B10: ระดับโรงเรียน | H10: =AVERAGE(C10:G10) -> #DIV/0!
B12: 1.2 ผลการทดสอบทางการศึกษาระดับชาติขั้นพื้นฐาน (O-NET) ชั้นมัธยมศึกษาปีที่ 3
B13: ระดับ/รายวิชา | C13: ภาษาไทย | D13: สังคมศึกษา | E13: ภาษาอังกฤษ | F13: คณิตศาสตร์ | G13: วิทยาศาสตร์ | H13: คะแนนรวมเฉลี่ย
C14: 91 | D14: 92 | E14: 93 | F14: 94 | G14: 95
B15: ระดับประเทศ | H15: =AVERAGE(C15:G15) -> #DIV/0!
B16: ระดับสังกัด สพฐ. | H16: =AVERAGE(C16:G16) -> #DIV/0!
B17: สพป.พะเยา เขต 2 | H17: =AVERAGE(C17:G17) -> #DIV/0!
B18: ระดับโรงเรียน | H18: =AVERAGE(C18:G18) -> #DIV/0!
A20: 2)เปรียบเทียบผลการทดสอบทางการศึกษาระดับชาติขั้นพื้นฐาน (O-NET) ประจำปีการศึกษา 2558 - 2559
B21: 2.1 เปรียบเทียบผลการทดสอบทางการศึกษาระดับชาติขั้นพื้นฐาน (O-NET) ชั้นประถมศึกษาปีที่ 6
B22: รายวิชา/ปีการศึกษา | C22: คะแนนเฉลี่ยระดับโรงเรียน
C23: 2558 | D23: 2559 | E23: ผลการพัฒนา
B24: ภาษาไทย | E24: =D24-C24 -> 0
B25: สังคมศึกษา | E25: =D25-C25 -> 0
B26: ภาษาอังกฤษ | E26: =D26-C26 -> 0
B27: คณิตศาสตร์ | E27: =D27-C27 -> 0
B28: วิทยาศาสตร์ | E28: =D28-C28 -> 0
B29: คะแนนรวมเฉลี่ย | C29: =AVERAGE(C24:C28) -> #DIV/0! | D29: =AVERAGE(D24:D28) -> #DIV/0! | E29: =D29-C29 -> #DIV/0!
B34: 2.2 เปรียบเทียบผลการทดสอบทางการศึกษาระดับชาติขั้นพื้นฐาน (O-NET) ชั้นมัธยมศึกษาปีที่ 3
B35: รายวิชา/ปีการศึกษา | C35: คะแนนเฉลี่ยระดับโรงเรียน
C36: 2558 | D36: 2559 | E36: ผลการพัฒนา
B37: ภาษาไทย | C37: 36.02 | D37: 45.96 | E37: =D37-C37 -> 9.94
B38: สังคมศึกษา | C38: 35.55 | D38: 55.23 | E38: =D38-C38 -> 19.68
B39: ภาษาอังกฤษ | C39: 42.13 | D39: 30.11 | E39: =D39-C39 -> -12.02
B40: คณิตศาสตร์ | C40: 35.33 | D40: 35.22 | E40: =D40-C40 -> -0.11
B41: วิทยาศาสตร์ | C41: 44.33 | D41: 35.22 | E41: =D41-C41 -> -9.11
B42: คะแนนรวมเฉลี่ย | C42: =AVERAGE(C37:C41) -> 38.672 | D42: =AVERAGE(D37:D41) -> 40.348 | E42: =D42-C42 -> 1.676

Sheet 6.ประกันภายใน
A1: 1.7 ผลการประเมินระบบประกันคุณภาพภายในของสถานศึกษา
A3: องค์ประกอบ | C3: ผลการประเมินของสถานศึกษา
C4: ปีการศึกษา 2559 | E4: ปีการศึกษา 2558
C5: ระดับ | D5: แปลผล | E5: ระดับ | F5: แปลผล
A6: องค์ประกอบที่ 1 | B6: การกำหนดมาตรฐานการศึกษาของสถานศึกษา | D6: =IF(C6>=4.5,"ดีเยี่ยม",IF(C6>=3.75,"ดีมาก",IF(C6>=3,"ดี",IF(C6>=2.5,"พอใช้",IF(C6>=0,"ปรับปรุง"))))) -> ปรับปรุง | F6: =IF(E6>=4.5,"ดีเยี่ยม",IF(E6>=3.75,"ดีมาก",IF(E6>=3,"ดี",IF(E6>=2.5,"พอใช้",IF(E6>=0,"ปรับปรุง"))))) -> ปรับปรุง
A7: องค์ประกอบที่ 2 | B7: การจัดทำแผนพัฒนาการจัดการศึกษาของสถานศึกษาที่มุ่งคุณภาพตามมาตรฐานการศึกษาของสถานศึกษา | D7: =IF(C7>=4.5,"ดีเยี่ยม",IF(C7>=3.75,"ดีมาก",IF(C7>=3,"ดี",IF(C7>=2.5,"พอใช้",IF(C7>=0,"ปรับปรุง"))))) -> ปรับปรุง | F7: =IF(E7>=4.5,"ดีเยี่ยม",IF(E7>=3.75,"ดีมาก",IF(E7>=3,"ดี",IF(E7>=2.5,"พอใช้",IF(E7>=0,"ปรับปรุง"))))) -> ปรับปรุง
A8: องค์ประกอบที่ 3 | B8: การจัดระบบบริหารและสารสนเทศ | D8: =IF(C8>=4.5,"ดีเยี่ยม",IF(C8>=3.75,"ดีมาก",IF(C8>=3,"ดี",IF(C8>=2.5,"พอใช้",IF(C8>=0,"ปรับปรุง"))))) -> ปรับปรุง | F8: =IF(E8>=4.5,"ดีเยี่ยม",IF(E8>=3.75,"ดีมาก",IF(E8>=3,"ดี",IF(E8>=2.5,"พอใช้",IF(E8>=0,"ปรับปรุง"))))) -> ปรับปรุง
A9: องค์ประกอบที่ 4 | B9: การดำเนินงานตามแผนพัฒนาการจัดการศึกษาของสถานศึกษา | D9: =IF(C9>=4.5,"ดีเยี่ยม",IF(C9>=3.75,"ดีมาก",IF(C9>=3,"ดี",IF(C9>=2.5,"พอใช้",IF(C9>=0,"ปรับปรุง"))))) -> ปรับปรุง | F9: =IF(E9>=4.5,"ดีเยี่ยม",IF(E9>=3.75,"ดีมาก",IF(E9>=3,"ดี",IF(E9>=2.5,"พอใช้",IF(E9>=0,"ปรับปรุง"))))) -> ปรับปรุง
A10: องค์ประกอบที่ 5 | B10: การจัดให้มีการติดตามตรวจสอบคุณภาพการศึกษา | D10: =IF(C10>=4.5,"ดีเยี่ยม",IF(C10>=3.75,"ดีมาก",IF(C10>=3,"ดี",IF(C10>=2.5,"พอใช้",IF(C10>=0,"ปรับปรุง"))))) -> ปรับปรุง | F10: =IF(E10>=4.5,"ดีเยี่ยม",IF(E10>=3.75,"ดีมาก",IF(E10>=3,"ดี",IF(E10>=2.5,"พอใช้",IF(E10>=0,"ปรับปรุง"))))) -> ปรับปรุง
A11: องค์ประกอบที่ 6 | B11: การจัดให้มีการประเมินคุณภาพภายในตามมาตรฐานการศึกษาของสถานศึกษา | D11: =IF(C11>=4.5,"ดีเยี่ยม",IF(C11>=3.75,"ดีมาก",IF(C11>=3,"ดี",IF(C11>=2.5,"พอใช้",IF(C11>=0,"ปรับปรุง"))))) -> ปรับปรุง | F11: =IF(E11>=4.5,"ดีเยี่ยม",IF(E11>=3.75,"ดีมาก",IF(E11>=3,"ดี",IF(E11>=2.5,"พอใช้",IF(E11>=0,"ปรับปรุง"))))) -> ปรับปรุง
A12: องค์ประกอบที่ 7 | B12: การจัดทำรายงานประจำปีที่เป็นรายงานประเมินคุณภาพภายใน | D12: =IF(C12>=4.5,"ดีเยี่ยม",IF(C12>=3.75,"ดีมาก",IF(C12>=3,"ดี",IF(C12>=2.5,"พอใช้",IF(C12>=0,"ปรับปรุง"))))) -> ปรับปรุง | F12: =IF(E12>=4.5,"ดีเยี่ยม",IF(E12>=3.75,"ดีมาก",IF(E12>=3,"ดี",IF(E12>=2.5,"พอใช้",IF(E12>=0,"ปรับปรุง"))))) -> ปรับปรุง
A13: องค์ประกอบที่ 8 | B13: การจัดให้มีการพัฒนาคุณภาพการศึกษาอย่างต่อเนื่อง | D13: =IF(C13>=4.5,"ดีเยี่ยม",IF(C13>=3.75,"ดีมาก",IF(C13>=3,"ดี",IF(C13>=2.5,"พอใช้",IF(C13>=0,"ปรับปรุง"))))) -> ปรับปรุง | F13: =IF(E13>=4.5,"ดีเยี่ยม",IF(E13>=3.75,"ดีมาก",IF(E13>=3,"ดี",IF(E13>=2.5,"พอใช้",IF(E13>=0,"ปรับปรุง"))))) -> ปรับปรุง
B14: ผลการประเมินรวมเฉลี่ย | C14: =AVERAGE(C6:C13) -> #DIV/0! | D14: =IF(C14>=4.5,"ดีเยี่ยม",IF(C14>=3.75,"ดีมาก",IF(C14>=3,"ดี",IF(C14>=2.5,"พอใช้",IF(C14>=0,"ปรับปรุง"))))) -> #DIV/0! | E14: =AVERAGE(E6:E13) -> #DIV/0! | F14: =IF(E14>=4.5,"ดีเยี่ยม",IF(E14>=3.75,"ดีมาก",IF(E14>=3,"ดี",IF(E14>=2.5,"พอใช้",IF(E14>=0,"ปรับปรุง"))))) -> #DIV/0!

Sheet 7.print out
A1: ส่วนที่ 1
A2: ข้อมูลพื้นฐาน
A4: 1.1 ข้อมูลทั่วไป
A6: ชื่อโรงเรียน | B6: ='1.ข้อมูลทั่วไป+ครู'!B3 -> 0
A7: ที่อยู่ | B7: ='1.ข้อมูลทั่วไป+ครู'!B4 -> 0
A8: สังกัด | B8: ='1.ข้อมูลทั่วไป+ครู'!B5 -> 0
A9: โทรศัพท์ | B9: ='1.ข้อมูลทั่วไป+ครู'!B6 -> 0 | C9: E-mail : | D9: ='1.ข้อมูลทั่วไป+ครู'!B8 -> 0
A10: โทรสาร | B10: ='1.ข้อมูลทั่วไป+ครู'!B7 -> 0
A11: เปิดสอนระดับชั้น | B11: ='1.ข้อมูลทั่วไป+ครู'!B9 -> 0 | C11: ถึงระดับชั้น | D11: ='1.ข้อมูลทั่วไป+ครู'!B10 -> 0
A13: 1.2 ข้อมูลบุคลากรของสถานศึกษา
A15: 1) จำนวนบุคลากร
A17: บุคลากร | B17: ผู้บริหาร | C17: ครูผู้สอน | D17: พนักงานราชการ | E17: ครูอัตราจ้าง | F17: เจ้าหน้าที่อื่นๆ | G17: รวมทั้งหมด
A18: ปีการศึกษา 2559 | B18: ='1.ข้อมูลทั่วไป+ครู'!B15 -> 1 | C18: ='1.ข้อมูลทั่วไป+ครู'!C15 -> 4 | D18: ='1.ข้อมูลทั่วไป+ครู'!D15 -> 2 | E18: ='1.ข้อมูลทั่วไป+ครู'!E15 -> 2 | F18: ='1.ข้อมูลทั่วไป+ครู'!F15 -> 1 | G18: =SUM(B18:F18) -> 10
A20: 2) วุฒิการศึกษาสูงสุดของบุคลากร
A33: 3) สาขาวิชาที่จบการศึกษาและภาระงานสอน
A35: สาขาวิชา | C35: จำนวน (คน) | D35: ภาระงานสอนเฉลี่ยของครู 1 คน ในแต่ละสาขาวิชา (ชม./สัปดาห์)
A36: ='1.ข้อมูลทั่วไป+ครู'!A23 -> 1. บริหารการศึกษา | C36: ='1.ข้อมูลทั่วไป+ครู'!B23 -> 0 | D36: ='1.ข้อมูลทั่วไป+ครู'!C23 -> 0
A37: ='1.ข้อมูลทั่วไป+ครู'!A24 -> 2. คณิตศาสตร์ | C37: ='1.ข้อมูลทั่วไป+ครู'!B24 -> 0 | D37: ='1.ข้อมูลทั่วไป+ครู'!C24 -> 0
A38: ='1.ข้อมูลทั่วไป+ครู'!A25 -> 3. วิทยาศาสตร์ | C38: ='1.ข้อมูลทั่วไป+ครู'!B25 -> 0 | D38: ='1.ข้อมูลทั่วไป+ครู'!C25 -> 0
A39: ='1.ข้อมูลทั่วไป+ครู'!A26 -> 4. ภาษาไทย | C39: ='1.ข้อมูลทั่วไป+ครู'!B26 -> 0 | D39: ='1.ข้อมูลทั่วไป+ครู'!C26 -> 0
A40: ='1.ข้อมูลทั่วไป+ครู'!A27 -> 5. ภาษาอังกฤษ | C40: ='1.ข้อมูลทั่วไป+ครู'!B27 -> 0 | D40: ='1.ข้อมูลทั่วไป+ครู'!C27 -> 0
A41: ='1.ข้อมูลทั่วไป+ครู'!A28 -> 6. สังคมศึกษา | C41: ='1.ข้อมูลทั่วไป+ครู'!B28 -> 0 | D41: ='1.ข้อมูลทั่วไป+ครู'!C28 -> 0
A42: ='1.ข้อมูลทั่วไป+ครู'!A29 -> 7. การงานอาชีพและเทคโนโลยี | C42: ='1.ข้อมูลทั่วไป+ครู'!B29 -> 0 | D42: ='1.ข้อมูลทั่วไป+ครู'!C29 -> 0
A43: ='1.ข้อมูลทั่วไป+ครู'!A30 -> 8. ศิลปะ | C43: ='1.ข้อมูลทั่วไป+ครู'!B30 -> 0 | D43: ='1.ข้อมูลทั่วไป+ครู'!C30 -> 0
A44: ='1.ข้อมูลทั่วไป+ครู'!A31 -> 9. ปฐมวัย | C44: ='1.ข้อมูลทั่วไป+ครู'!B31 -> 0 | D44: ='1.ข้อมูลทั่วไป+ครู'!C31 -> 0
A45: ='1.ข้อมูลทั่วไป+ครู'!A32 -> 10…………………………… | C45: ='1.ข้อมูลทั่วไป+ครู'!B32 -> 0 | D45: ='1.ข้อมูลทั่วไป+ครู'!C32 -> 0
A46: รวม | C46: =SUM(C36:C45) -> 0
A63: 1.3 ข้อมูลนักเรียน (ข้อมูล ณ 10 มิถุนายน 2559)
A64: จำนวนนักเรียนปีการศึกษา 2559 รวมทั้งสิ้น | D64: =E82 -> 0 | E64: คน
A66: ระดับชั้นเรียน | B66: จำนวนห้องเรียน | C66: จำนวนนักเรียน | F66: เฉลี่ยต่อห้อง
C67: ชาย | D67: หญิง | E67: รวม
A68: อ.1 | B68: ='2.ข้อมูลนักเรียน'!C6 -> 0 | C68: ='2.ข้อมูลนักเรียน'!C7 -> 0 | D68: ='2.ข้อมูลนักเรียน'!C8 -> 0 | E68: =SUM(C68:D68) -> 0 | F68: =E68/B68 -> #DIV/0!
A69: อ.2 | B69: ='2.ข้อมูลนักเรียน'!D6 -> 0 | C69: ='2.ข้อมูลนักเรียน'!D7 -> 0 | D69: ='2.ข้อมูลนักเรียน'!D8 -> 0 | E69: =SUM(C69:D69) -> 0 | F69: =E69/B69 -> #DIV/0!
A70: รวม | B70: =SUM(B68:B69) -> 0 | C70: =SUM(C68:C69) -> 0 | D70: =SUM(D68:D69) -> 0 | E70: =SUM(C70:D70) -> 0
A71: ป.1 | B71: ='2.ข้อมูลนักเรียน'!F6 -> 0 | C71: ='2.ข้อมูลนักเรียน'!F7 -> 0 | D71: ='2.ข้อมูลนักเรียน'!F8 -> 0 | E71: =SUM(C71:D71) -> 0 | F71: =E71/B71 -> #DIV/0!
A72: ป.2 | B72: ='2.ข้อมูลนักเรียน'!G6 -> 0 | C72: ='2.ข้อมูลนักเรียน'!G7 -> 0 | D72: ='2.ข้อมูลนักเรียน'!G8 -> 0 | E72: =SUM(C72:D72) -> 0 | F72: =E72/B72 -> #DIV/0!
A73: ป.3 | B73: ='2.ข้อมูลนักเรียน'!H6 -> 0 | C73: ='2.ข้อมูลนักเรียน'!H7 -> 0 | D73: ='2.ข้อมูลนักเรียน'!H8 -> 0 | E73: =SUM(C73:D73) -> 0 | F73: =E73/B73 -> #DIV/0!
A74: ป.4 | B74: ='2.ข้อมูลนักเรียน'!I6 -> 0 | C74: ='2.ข้อมูลนักเรียน'!I7 -> 0 | D74: ='2.ข้อมูลนักเรียน'!I8 -> 0 | E74: =SUM(C74:D74) -> 0 | F74: =E74/B74 -> #DIV/0!
A75: ป.5 | B75: ='2.ข้อมูลนักเรียน'!J6 -> 0 | C75: ='2.ข้อมูลนักเรียน'!J7 -> 0 | D75: ='2.ข้อมูลนักเรียน'!J8 -> 0 | E75: =SUM(C75:D75) -> 0 | F75: =E75/B75 -> #DIV/0!
A76: ป.6 | B76: ='2.ข้อมูลนักเรียน'!K6 -> 0 | C76: ='2.ข้อมูลนักเรียน'!K7 -> 0 | D76: ='2.ข้อมูลนักเรียน'!K8 -> 0 | E76: =SUM(C76:D76) -> 0 | F76: =E76/B76 -> #DIV/0!
A77: รวม | B77: =SUM(B71:B76) -> 0 | C77: =SUM(C71:C76) -> 0 | D77: =SUM(D71:D76) -> 0 | E77: =SUM(C77:D77) -> 0
A78: ม.1 | B78: ='2.ข้อมูลนักเรียน'!M6 -> 0 | C78: ='2.ข้อมูลนักเรียน'!M7 -> 0 | D78: ='2.ข้อมูลนักเรียน'!M8 -> 0 | E78: =SUM(C78:D78) -> 0 | F78: =E78/B78 -> #DIV/0!
A79: ม.2 | B79: ='2.ข้อมูลนักเรียน'!N6 -> 0 | C79: ='2.ข้อมูลนักเรียน'!N7 -> 0 | D79: ='2.ข้อมูลนักเรียน'!N8 -> 0 | E79: =SUM(C79:D79) -> 0 | F79: =E79/B79 -> #DIV/0!
A80: ม.3 | B80: ='2.ข้อมูลนักเรียน'!O6 -> 0 | C80: ='2.ข้อมูลนักเรียน'!O7 -> 0 | D80: ='2.ข้อมูลนักเรียน'!O8 -> 0 | E80: =SUM(C80:D80) -> 0 | F80: =E80/B80 -> #DIV/0!
A81: รวม | B81: =SUM(B78:B80) -> 0 | C81: =SUM(C78:C80) -> 0 | D81: =SUM(D78:D80) -> 0 | E81: =SUM(C81:D81) -> 0
A82: รวมทั้งหมด | B82: =SUM(B81,B77,B70) -> 0 | C82: =SUM(C81,C77,C70) -> 0 | D82: =SUM(D81,D77,D70) -> 0 | E82: =SUM(E81,E77,E70) -> 0
A97: 1.4 ข้อมูลผลสัมฤทธิ์ทางการเรียนระดับสถานศึกษา (ข้อมูล ณ 31 มีนาคม 2560)
A99: 1) ผลสัมฤทธิ์ทางการเรียนปีการศึกษา 2559
A129: 2) ผลประเมินคุณลักษณะอันพึงประสงค์
A161: 3) ผลการประเมินการอ่าน คิดวิเคราะห์และเขียน
A193: 1.5 ผลการประเมินการทดสอบความสามารถพื้นฐานของผู้เรียนระดับชาติ (National Test : NT) ระดับชั้นประถมศึกษาปีที่ 3
A195: 1) ผลการประเมินการทดสอบความสามารถพื้นฐานของผู้เรียนระดับชาติ (NT) ประจำปีการศึกษา 2559
A224: 2) ผลการประเมินการทดสอบความสามารถพื้นฐานของผู้เรียนระดับชาติ (NT) ปีการศึกษา 2558 - 2559
A225: 2.1) เปรียบเทียบผลการประเมินการทดสอบความสามารถพื้นฐานของผู้เรียนระดับชาติ (NT) และร้อยละของผลต่างระหว่างปีการศึกษา 2558 - 2559
A227: ความสามารถ | C227: ปีการศึกษา | D227: ปีการศึกษา | E227: ร้อยละของผลต่าง
C228: 2558 | D228: 2559 | E228: ระว่างปีการศึกษา
A229: ด้านภาษา | C229: ='4.ผล NT'!C8 -> 0 | D229: ='4.ผล NT'!D8 -> 0 | E229: =D229-C229 -> 0
A230: ด้านคำนวณ | C230: ='4.ผล NT'!F8 -> 0 | D230: ='4.ผล NT'!G8 -> 0 | E230: =D230-C230 -> 0
A231: ด้านเหตุผล | C231: ='4.ผล NT'!I8 -> 0 | D231: ='4.ผล NT'!J8 -> 0 | E231: =D231-C231 -> 0
A232: รวมความสามารถเฉลี่ยทั้ง 3 ด้าน | C232: =AVERAGE(C229:C231) -> 0 | D232: =AVERAGE(D229:D231) -> 0 | E232: =D232-C232 -> 0
A234: 2.2) เปรียบเทียบผลการประเมินการทดสอบความสามารถพื้นฐานของผู้เรียนระดับชาติ (NT) และร้อยละของผลต่างระหว่างปีการศึกษา 2558 - 2559 จำแนกตามร้อยละของระดับคุณภาพ
A286: 1.6 ผลการทดสอบทางการศึกษาระดับชาติขั้นพื้นฐาน (O-NET)
A288: 1) ผลการทดสอบทางการศึกษาระดับชาติขั้นพื้นฐาน (O-NET) ประจำปีการศึกษา 2559
A318: 2)เปรียบเทียบผลการทดสอบทางการศึกษาระดับชาติขั้นพื้นฐาน (O-NET) ปีการศึกษา 2558 - 2559
A350: 1.7 ผลการประเมินระบบประกันคุณภาพภายในของสถานศึกษา

Sheet 8.กราฟแนบส่วนที่ 2
A1: 1) ผลการประเมินการทดสอบความสามารถพื้นฐานของผู้เรียนระดับชาติ (NT) ประจำปีการศึกษา 2559
A23: 2) ผลการทดสอบทางการศึกษาระดับชาติขั้นพื้นฐาน (O-NET) ประจำปีการศึกษา 2559
A73: 3) ผลประเมินคุณลักษณะอันพึงประสงค์
A101: 4) ผลการประเมินการอ่าน คิดวิเคราะห์และเขียน
A128: 5) ผลการประเมินระบบประกันคุณภาพภายในของสถานศึกษา

Sheet Sheet1
